{"text_format":"1","workbook":"xlsx","n_sheets":7,"sheets":["деканаты","Предметы","форма","!справочники","Отчисленные","Для диплома","Лист1"],"not_rendered":{"charts":0,"images":1,"macros":1,"external_links":5,"defined_names":11,"comments":1,"pivot_tables":0},"unopened":[],"bounds":{"document_bytes":16777216,"sheet_cells":100000,"rows_first":2000,"rows_last":500,"rows_between":2000,"halvings":0,"cell_chars":16384,"cell_head_chars":4096},"cells_cut":0,"cells_raw":0,"read":"whole","date_system":"1900"}

{"sheet":"деканаты","index":0,"n_rows":7,"n_cols":15,"rows_kept":7,"cut":false,"hidden":false,"merged":[[0,0,0,2],[0,11,0,14],[0,6,0,10]]}
["Факультет",null,null,"подпись декана",null,"Должность","Декан факультета",null,null,null,null,"Специалист по УМР"]
[2,"Экономический","Экфак","Н.А. Середа","экономического","И.о. декана","Середа","Надежда","Александровна",null,"доцент","О.В. Сосова","Сосова","Ольга","Васильевна"]
[3,"Архитектурно-строительный","АСФ","С.В. Цыбакин","архитектурно-строительного","Декан","Цыбакин","Сергей","Валерьевич","к.т.н.","доцент",".. "]
[4,"Агробизнеса","Агробизнес","Ю.В. Панкратов","агробизнеса","Декан","Панкратов","Юрий","Владимирович","к.сх.н.","доцент",".. "]
[5,"Ветеринарной медицины и зоотехнии","ВМиЗ","Н.Ю. Парамонова","ветеринарной медицины и зоотехнии","Декан","Парамонова","Наталья","Юрьевна","к.в.н.","доцент",".. "]
[6,"Инженерно-технологический","ИТФ","С.А. Полозов","инженерно-технологического","Декан","Полозов","Сергей","Александрович","к.т.н.","доцент","А.А. Шашкова","Шашкова","Анна","Андреевна"]
[7,"Электроэнергетический","ЭЭФ","А.В. Рожнов","электроэнергетического","Декан","Рожнов","Александр","Валентинович","к.т.н.","доцент",".. "]

{"sheet":"Предметы","index":1,"n_rows":39,"n_cols":283,"rows_kept":39,"cut":false,"hidden":false,"merged":[]}
[1,2,3,4,5,6,7,8,9,10,11,12,13,14,15,16,17,18,19,20,21,22,23,24,25,26,27,28,29,30,31,32,33,34,35,36,37,38,39,40,41,42,43,44,45,46,47,48,49,50,51,52,53,54,55,56,57,58,59,60,61,62,63,64,65,66,67,68,69,70,71,72,73,74,75,76,77,78,79,80,81,82,83,84,85,86,87,88,89,90,91,92,93,94,95,96,97,98,99,100,101,102,103,104,105,106,107,108,109,110,111,112,113,114,115,116,117,118,119,120,121,122,123,124,125,126,127,128,129,130,131,132,133,134,135,136,137,138,139,140,141,142,143,144,145,146,147,148,149,150,151,152,153,154,155,156,157,158,159,160,161,162,163,164,165,166,167,168,169,170,171,172,173,174,175,176,177,178,179,180,181,182,183,184,185,186,187,188,189,190,191,192,193,194,195,196,197,198,199,200,201,202,203,204,205,206,207,208,209,210,211,212,213,214,215,216,217,218,219,220,221,222,223,224,225,226,227,228,229,230,231,232,233,234,235,236,237,238,239,240,241,242,243,244,245,246,247,248,249,250,251,252,253,254,255,256,257,258,259,260,261,262,263,264,265,266,267]
[null,null,null,null,null,null,null,null,null,null,null,null,null,null,null,null,null,null,null,null,null,null,null,null,null,null,null,null,null,null,null,null,null,null,null,null,null,null,null,null,null,null,null,null,null,null,null,null,null,null,null,null,null,null,null,null,null,null,null,null,null,null,null,null,null,null,null,null,null,null,null,null,null,null,null,null,null,null,null,null,2,null,null,2,null,null,2,null,null,2,null,null,2,null,null,2,null,null,2,null,null,2,null,null,2,null,null,2,null,null,3,null,null,3,null,null,3,null,null,3,null,null,3,null,null,3,null,null,4,null,null,4,null,null,4,null,null,4,null,null,4,null,null,4,null,null,4,null,null,4,null,null,5,null,null,5,null,null,5,null,null,5,null,null,5,null,null,5,null,null,5,null,null,5,null,null,6,null,null,6,null,null,6,null,null,6,null,null,6,null,null,6,null,null,6,null,null,6,null,null,6,null,null,6,null,null,6,null,null,7,null,null,7,null,null,7,null,null,7,null,null,7,null,null,7,null,null,7,null,null,7,null,null,7,null,null,8,null,null,8,null,null,8,null,null,8,null,null,8,null,null,8,null,null,8,null,null,8,null,null,8,null,null,8,null,null,8]
[null,null,null,null,null,null,null,null,null,null,null,null,null,null,null,null,null,null,null,null,null,null,null,null,null,null,null,null,null,null,null,null,null,null,null,null,null,null,null,null,null,null,null,null,null,null,null,null,null,null,null,null,null,null,null,null,null,null,null,null,null,null,null,null,null,null,null,null,null,null,null,null,null,null,null,null,null,null,null,null,216,null,null,108,null,null,108,null,null,72,null,null,72,null,null,216,null,null,252,null,null,360,null,null,216,null,null,null,null,null,144,null,null,72,null,null,180,null,null,144,null,null,76,null,null,180,null,null,212,null,null,108,null,null,216,null,null,216,null,null,144,null,null,72,null,null,72,null,null,null,null,null,144,null,null,144,null,null,144,null,null,144,null,null,144,null,null,144,null,null,288,null,null,null,null,null,72,null,null,144,null,null,252,null,null,null,null,null,144,null,null,180,null,null,null,null,null,144,null,null,144,null,null,null,null,null,null,null,null,108,null,null,144,null,null,180,null,null,144,null,null,null,null,null,108,null,null,180,null,null,289,null,null,null,null,null,144,null,null,108,null,null,108,null,null,71,null,null,null,null,null,144,null,null,180,null,null,72,null,null,180]
[0,"Фамилия","Имя","Отчество","ФИО","ФИО","Фамилия","Имя","Отчество","Дата ","Место ","Гражданство","Пол","Что окончил(а)","Год ","Семейное",null,"Трудовая  книжка",null,null,"Паспорт",null,null,null,"№",null,null,null,"Профиль / специализация","Срок обучения","Квалификация","Приказ","Дата","вид зачисления"," контракта /договора",null,"Переведен на бюджет",null,"Отчислен",null,null,"Восстановлен ",null,null,"Академический  отпуск",null,null,null,null,"Переводной приказ\n1 курс",null,"Переводной приказ\n2 курс",null,"Переводной приказ\n3 курс",null,"Переводной приказ\n4 курс",null,"Переводной приказ\n5 курс",null,"Переводной приказ\n6 курс",null,"допуск к защите дипломного проекта",null,"гос. экзамен",null,null,null,null,null,"Диплом",null,null,null,null,null,null,null,null,"Курс","Группа","1 курс",null,null,null,null,null,null,null,null,null,null,null,null,null,null,null,null,null,null,null,null,null,null,null,null,null,null,null,null,null,"2 курс",null,null,null,null,null,null,null,null,null,null,null,null,null,null,null,null,null,null,null,null,null,null,null,null,null,null,null,null,null,null,null,null,null,null,null,null,null,null,null,null,null,"3 курс",null,null,null,null,null,null,null,null,null,null,null,null,null,null,null,null,null,null,null,null,null,null,null,null,null,null,null,null,null,null,null,null,null,null,null,null,null,null,null,null,null,null,null,null,null,null,null,null,null,null,null,null,null,null,null,null,"4 курс",null,null,null,null,null,null,null,null,null,null,null,null,null,null,null,null,null,null,null,null,null,null,null,null,null,null,null,null,null,null,null,null,null,null,null,null,null,null,null,null,null,null,null,null,null,null,null,null,null,null,null,null,null,null,null,null,null,null,null,null,null,"Оценки по предметам"]
[0,null,null,null,null,"Дател. Падеж","Дател. Падеж","Дател. Падеж","Дател. Падеж","рождения","рождения",null,null,null,"окончания"," положение","Адрес места жительства","Номер","Дата выдачи","кем выдана","серия","Номер","Дата выдачи","кем выдан","6ной","Факультет","Направление /специальность",null,null,null,null,null,null,null," договора","Дата"," договора","Дата","Приказ","Дата","Причина отчисления","Приказ","Дата","Причина востановления","Приказ","Дата","Причина","с даты","по дату","Приказ","Дата","Приказ","Дата","Приказ","Дата","Приказ","Дата","Приказ","Дата","Приказ","Дата","Приказ","Дата","Название экзамена","Дата ","оценка","Название экзамена","Дата ","оценка","Тема","оценка"," протокола","Дата защиты","Отличие","Регистр.№","Серия","Номер","Дата выдачи",null,null,"Делопроизводство и документооборот",null,null,"Введение в профессию и основы научных исследований",null,null,"История",null,null,"Психология",null,null,"Иностранный язык (З)",null,null,"Математический анализ",null,null,"Линейная алгебра",null,null,"Информатика и информационное обеспечение бухгалтерского учета",null,null,"Микроэкономика",null,null,"Общая физическая подготовка",null,null,"Иностранный язык",null,null,"Социология",null,null,"Политология",null,null,"Теория вероятностей и математическая статистика",null,null,"Макроэкономика (З)",null,null,"Эконометрика",null,null,"Макроэкономика",null,null,"Философия  ",null,null,"Инструментальные средства программирования бухгалтерских операций",null,null,"Статистика",null,null,"Менеджмент",null,null,"Физическая культура и спорт",null,null,"Деловые коммуникации",null,null,"Практика по ПППУ и Н",null,null,"Право",null,null,"Регионалистика",null,null,"Методы оптимальных решений",null,null,"Информационные технологии и базы данных в бухгалтерском учете",null,null,"Финансы",null,null,"Мировая экономика и международные экономические отношения",null,null,"Моделирование социально-экономических систем",null,null,"Моделирование социально-экономических систем (КП)",null,null,"Методы принятия управленческих решений в сфере бухгалтерского учета",null,null,"Безопасность жизнедеятельности",null,null,"Бухгалтерский учет и анализ",null,null,"Бухгалтерский учет и анализ (КР)",null,null,"Деньги, кредит, банки",null,null,"Экономика организаций (предприятий)",null,null,"Экономика организаций (предприятий) (КР)",null,null,"Планирование на предприятии",null,null,"Аудит",null,null,"Аудит (КР)",null,null,"Практика по ППУ и ОПД",null,null,"Маркетинг",null,null,"Корпоративные финансы",null,null,"Бухгалтерский управленческий учет",null,null,"Комплексный анализ хозяйственной деятельности",null,null,"Комплексный анализ хозяйственной деятельности (КР)",null,null,"Международные стандарты финансовой отчетности",null,null,"Логистика",null,null,"Бухгалтерский финансовый учет (З)",null,null,"Производственная практика (технологическая)",null,null,"Макроэкономическое планирование и прогнозирование",null,null,"Налоги и налогообложение",null,null,"Анализ финансовой отчетности",null,null,"Бухгалтерский финансовый учет",null,null,"Бухгалтерский финансовый учет (КР)",null,null,"Лабораторный практикум по бухгалтерскому учету",null,null,"Бухгалтерский учет на предприятиях малого бизнеса",null,null,"Практикум 1С:Бухгалтерия",null,null,"Бухгалтерская (финансовая) отчетность",null,null,"НИР",null,null,"Преддипломная практика",null,null,"Средний балл",null,"из них с оценками   3","из них с оценками   4","из них с оценками   5","из них с 6ом","итого предметов","  Часы    всего","из них аудиторных"," из них с оценками   3","из них с оценками   4","из них с оценками   5",null,"Количество долгов"]
[{"$f":"A5+1","v":1},"Большакова","Анастасия ","Александровна",{"$f":"CONCATENATE(B6,\" \",LEFT(C6,1),\". \",LEFT(D6,1),\".\")","v":"Большакова А. А."},{"$f":"DativeCase(CONCATENATE(B6,\" \", C6,\" \",D6))","v":{"$error":"#NAME?"}},"Большаковой","Анастасии","Александровне","1995-10-19","с. Веденье Октябрьского р-на Костромской обл.","РФ","ж","ОГБ ПОУ \"Костромской торгово-экономический колледж\"",2014,"не замужем","г. Кострома, г., Мантуровский проезд, д. 8, кв. 3  ",null,null,null,null,null,null,null,14017,"Экономический","38.03.01","Экономика","Бухгалтерский учет, анализ и аудит","4 года","БАКАЛАВР","2-525","2014-08-21","по договору с полным возмещением затрат","000002911","2014-08-14",null,null,null,null,null,null,null,null,"2-339","2018-05-03","по семейным обстоятельствам","2018-04-19","2019-04-18","2-571","2015-09-01","2-561","2016-09-01",null,null,null,null,null,null,null,null,null,null,null,null,null,null,null,null,"Бухгалтерский учет и анализ расчетов с поставщиками, покупателями в ООО «Паритет» г. Кострома",null,null,null,null,null,null,null,null,4,"АО",3,"2018-02-09",null,null,null,null,3,"02.06.2015  ",null,6,"04.06.2015  ",null,null,"  ",null,3,"09.02.2018  ",null,3,"04.06.2015  ",null,3,"03.06.2015  ",null,4,"09.06.2015  ",null,6,"22.05.2015  ",null,null,"  ",null,6,"22.12.2015  ",null,4,"29.12.2015  ",null,3,"26.05.2017  ",null,6,"25.12.2015  ",null,3,"28.12.2015  ",null,4,"13.04.2016  ",null,6,"25.04.2016  ",null,3,"22.04.2016  ",null,3,"22.04.2016  ",null,3,"21.04.2016  ",null,null,null,null,null,null,null,4,"п/зач 08.09.2014",null,4,"01.12.2016  ",null,5,"01.12.2016  ",null,null,"  ",null,3,"20.06.2017  ",null,null,"  ",null,3,"26.05.2017  ",null,4,"01.12.2016  ",null,3,"30.11.2016","Оптимальная специализация и сочетание\nотраслей",6,"03.06.2017  ",null,3,"03.06.2017  ",null,3,"03.06.2017  ",null,null,null,null,3,"03.06.2017  ",null,3,"03.06.2017  ",null,null,null,"Порядок формирования цен на продукцию организации (предприятия) Эффективность использования основных средств",3,"09.02.2018  ",null,null,"  ",null,null,null,"Аудит расчетов с персоналом по оплате труда в ООО \"АБП\" г. Кострома",3,"п/зач",null,3,"2018-02-09",463,4,"11.10.2017  ",null,3,"11.10.2017  ",null,3,"11.10.2017  ",null,null,null,0,4,"11.10.2017  ",null,4,"11.10.2017  ",null,null,"  ",null,5,"  ",null,3,"2018-02-09","Z-7739714",6,"2018-04-19","77339563-21",6,"2018-04-19","7739561-22",null,"  ",null,null,null,"Учет расчетов с поставщиками и покупателями в ООО\n\"Паритет\" г.Кострома",null,"  ",null,3,"2018-02-09","Z-7739505",6,"2018-02-09","Z-7739549",4,"2018-02-09","Z-7739516",null,"  ","ФГБОУ ВО Костромская ГСХА, кафедра бухгалтерский учет, анализ",null,"  ","ООО \"Паритет\"",{"$f":"(JL6*3+JM6*4+JN6*5)/50","v":2.44},null,{"$f":"COUNTIF(CC6:JG6,3)","v":24},{"$f":"COUNTIF(CC6:JG6,4)","v":10},{"$f":"COUNTIF(CC6:JG6,5)","v":2},{"$f":"COUNTIF(CC6:JG6,6)","v":9},{"$f":"SUM(JL6:JN6)","v":36},{"$f":"SUMIF(CC6:JG6,\">0\",$CC$3:$JG$3)","v":6444},{"$f":"INT(JQ6/8+0.5)","v":806}]
[{"$f":"A6+1","v":2},"Григорян","Анжела ","Сергеевна","Григорян А. С.",null,"Григорян","Анжеле","Сергеевне","1990-12-13","д. Бобровы Даровского р-на Кировской обл.","РФ","ж","ОГБОУ СПО \"Костромской политехнический колледж\"",2012,"замужем","г. Кострома, ул. Индустриальная, д. 57, кв. 81",null,null,null,null,null,null,null,13102,"Экономический","38.03.01","Экономика","Бухгалтерский учет, анализ и аудит","4 года","БАКАЛАВР","2-522","2013-08-16","по договору с полным возмещением затрат","000000904","2013-08-15",null,null,null,null,null,null,null,null,"2-491\n2-379","06.06.2017\n16.05.2018","по семейным обстоятельствам\nпо семейным обстоятельствам","26.05.2017\n10.05.2018","25.05.2018\n09.05.2019","2-532","2014-09-01","2-571","2015-09-01","2-402","2017-05-18",null,null,null,null,null,null,null,null,null,null,null,null,null,null,"Бухгалтерский учет расчетов с бюджетом и внебюджетными фондами и анализ налоговой нагрузки в ООО «Лика» г. Кострома",null,null,null,null,null,null,null,null,4,"АО",null,null,null,null,null,null,4,"21.12.2013  ",null,6,"16.01.2014  ",null,6,"26.06.2014  ",null,4,"18.06.2014  ",null,5,"17.06.2014  ",null,5,"27.06.2014  ",null,4,"26.06.2014  ",null,null,null,null,3,"16.12.2014  ",null,6,"23.12.2014  ",null,4,"29.12.2014  ",null,4,"27.12.2014  ",null,6,"19.12.2014  ",null,5,"25.12.2014  ",null,5,"22.04.2015  ",null,6,"16.04.2015  ",null,3,"28.01.2016  ",null,4,"18.04.2015  ",null,4,"25.04.2015  ",null,6,"24.04.2014  ",null,null,"  ",null,5,"22.05.2017  ","ФГБОУ ВО Костромская ГСХА, кафедра экономической кибернетики",4,"28.11.2015  ",null,4,"31.08.2016  ",null,3,"15.09.2016  ",null,3,"22.09.2016  ",null,5,"20.09.2016  ",null,4,"14.09.2016  ",null,5,"12.10.2016  ",null,5,"12.10.2016",null,6,"13.09.2016  ",null,3,"29.09.2016  ",null,5,"28.06.2016  ",null,4,"16.05.2017",null,5,"04.06.2016  ",null,5,"01.07.2016  ",null,3,"19.05.2017",null,3,"12.05.2017  ",null,4,"04.06.2016  ",null,4,"15.05.2017",null,null,"  ","ООО \"Лика\" г. Кострома",5,"22.05.2017  ",null,4,"22.05.2017  ",null,4,"25.05.2017  ",null,null,"  ",null,5,"26.05.2017",0,5,"22.05.2017  ",null,4,"26.05.2017  ",null,6,"23.05.2017  ",null,null,"  ",null,4,"26.05.2017  ",null,6,"26.05.2017  ",null,6,"16.05.2017  ",null,null,"  ",null,null,null,null,null,"  ",null,4,"11.05.2017  ",null,6,"26.05.2017  ",null,5,"22.05.2017  ",null,null,"  ","ФГБОУ ВО Костромская ГСХА, кафедра бухгалтерский учет, анализ",null,"  ",null,3.36,null,7,18,15,11,40,7093,887]
[3,"Калинина","Анастасия","Евгеньевна","Калинина А. Е.",null,"Калининой","Анастасии","Евгеньевне","1991-10-01","п. Поназырево Поназыревского р-на Костромской обл.","РФ","ж","ОГБОУ СПО \"Шарьинский аграрный техникум Костромской области\"",2013,"замужем","Костромская обл., Поназыревский р-н, д. Поназырево, ул. Пролетарская, д. 31",null,null,null,null,null,null,null,13125,"Экономический","38.03.01","Экономика","Бухгалтерский учет, анализ и аудит","4 года","БАКАЛАВР","2-552","2013-08-30","по договору с полным возмещением затрат","000000950","2013-08-16",null,null,null,null,null,null,null,null,"2-491\n2-448","06.06.2017\n31.05.2018\n","по семейным обстоятельствам\nпо семейным обстоятельствам","23.05.2017\n23.05.2018","22.05.2018\n22.05.2019","2-532","2014-09-01","2-571","2015-09-01","2-402","2017-05-18",null,null,null,null,null,null,null,null,null,null,null,null,null,null,null,null,null,null,null,null,null,null,null,4,"АО",4,"20.05.2014  ",null,6,"2018-02-09",null,3,"30.05.2014  ",null,6,"03.06.2014  ",null,6,"30.05.2014  ",null,3,"09.06.2014  ",null,3,"05.06.2014  ",null,5,"02.06.2014  ",null,3,"07.06.2014  ",null,6,"21.05.2014  ",null,3,"15.04.2015  ",null,6,"21.04.2015  ",null,3,"21.04.2015  ",null,3,"19.11.2015  ",null,6,"01.02.2017  ",null,3,"20.04.2015  ",null,3,"01.02.2017  ",null,6,"16.04.2015  ",null,3,"21.04.2015  ",null,3,"18.04.2015  ",null,3,"25.04.2015  ",null,null,"  ",null,null,"  ",null,5,"04.09.2013  ","ФГБОУ ВО Костромская ГСХА, кафедра экономической кибернетики",3,"28.11.2015  ",null,5,"19.11.2015  ",null,3,"05.05.2017  ",null,3,"01.02.2017  ",null,3,"20.11.2015  ",null,5,"21.11.2015  ",null,3,"15.05.2017  ",null,3,"31.05.2016",0,6,"05.06.2016  ",null,3,"04.06.2016  ",null,3,"05.05.2017  ",null,3,"05.05.2017",null,4,"05.06.2016  ",null,4,"14.06.2016  ",null,3,"10.05.2017",null,4,"28.05.2016  ",null,3,"04.06.2016  ",null,3,"05.05.2017",null,5,"04.09.2013  ",null,3,"12.10.2016  ",null,3,"18-05-117  ",null,3,"11.05.2017  ",null,0,"  ",null,0,null,null,3,"04.02.2017",null,4,"12.10.2016  ",null,null,"  ",null,5,"04.09.2013  ",null,4,"04.02.2017  ",null,6,"04.02.2017  ",null,6,"2018-02-09",null,null,null,null,null,null,null,3,"04.02.2017  ",null,3,"2017-05-11",null,6,"04.02.2017  ",null,4,"04.02.2017  ",null,4,"03.04.2017  ",null,null,"  ",null,3.04,null,30,8,6,11,44,7200,900]
[4,"Михайлина","Александра","Сергеевна","Михайлина А. С.",null,"Михайлиной","Александре","Сергеевне","1995-11-16","п. Красное-на-Волге Красносельского р-на Костромской обл.","РФ","ж","Костромской технологический техникум",2014,"не замужем","Костромская обл., Красносельский р-н, пгт. Красное-на-Волге, ул. Песочная, д. 1, кв. 15  ",null,null,null,null,null,null,null,14121,"Экономический","38.03.01","Экономика","Бухгалтерский учет, анализ и аудит","4 года","БАКАЛАВР","2-525","2014-08-21","по договору с полным возмещением затрат","000002875","2014-08-13",null,null,null,null,null,null,null,null,"2-379","2018-05-16","по семейным обстоятельствам","2018-05-17","2019-05-16","2-571","2015-09-01","2-561","2016-09-01","2-703","2017-09-01",null,null,null,null,null,null,null,null,null,null,null,null,null,null,"Бухгалтерский учет расчетов с персоналом по оплате труда и анализ использования трудовых ресурсов в СПК Колхоз «Родина» Красносельского района Костромской области",null,null,null,null,null,null,null,null,4,"АО",3,"2018-02-09",null,6,"2018-02-09",null,3,"02.06.2015  ",null,6,"04.06.2015  ",null,6,"29.06.2015  ",null,3,"30.05.2015  ",null,3,"04.06.2015  ",null,3,"03.06.2015  ",null,4,"09.06.2015  ",null,6,"22.05.2015  ",null,3,"17.12.2015  ",null,6,"22.12.2015  ",null,4,"29.12.2015  ",null,3,"26.12.2015  ",null,6,"25.12.2015  ",null,3,"28.12.2015  ",null,5,"13.04.2016  ",null,6,"25.04.2016  ",null,3,"22.04.2016  ",null,3,"22.04.2016  ",null,4,"21.04.2016  ",null,null,"  ",null,null,"  ",null,3,"п/зач 08.09.2014",null,4,"01.12.2016  ",null,4,"01.12.2016  ",null,3,"01.12.2016  ",null,3,"01.12.2016  ",null,5,"01.12.2016  ",null,4,"24.11.2016  ",null,4,"01.12.2016  ",null,3,"30.11.2016","Оптимизация структуры\nкормопроизводства предприятия",6,"03.06.2017  ",null,3,"03.06.2017  ",null,4,"03.06.2017  ",null,4,"03.06.2017","История развития бухгалтерского учета",3,"03.06.2017  ",null,4,"03.06.2017  ",null,3,"03.06.2017","Конкурентоспособность организации (предприятия)",3,"03.06.2017  ",null,3,"03.06.2017  ",null,4,"03.06.2017","Планирование аудита",4,"08.09.2014  ",null,3,"11.10.2017  ",null,4,"11.10.2017  ",null,3,"11.10.2017  ",null,3,"11.10.2017  ",null,3,"11.10.2017","Анализ финансовых результатов от\nпродажи продукции в ОАО \"Караваево\"\nКостромского р-на Костромской обл",5,"11.10.2017  ",null,4,"11.10.2017  ",null,6,"06.02.2018  ",null,5,"08.09.2014  ",null,3,"2018-02-09","Z-7739714",6,"2018-02-09","Z-7739563",6,"2018-02-09","Z-7739561",3,"2018-02-09","Z-7739521",null,null,"Учет труда и его оплаты в ОАО \"Племзавод\n\"Караваево\"",3,"2018-02-09","Z-7739509",4,"2018-02-09","Z-7739505",6,"2018-02-09","Z-7739549",4,"2018-02-09","Z-7739516",null,"  ","ФГБОУ ВО Костромская ГСХА, кафедра бухгалтерский учет, анализ",null,"  ","СПК Колхоз \"Родина\" Красносельского р-на Костромской обл.",3.24,null,26,16,4,12,46,7704,963]
[5,"Панкова","Екатерина","Андреевна","Панкова Е. А.",null,"Панковой","Екатерине","Андреевне","1996-08-04","г. Галич Костромской обл.","РФ","ж","ОГБ ПОУ \"Галичский аграрный техникум Костромской области\"",2014,"не замужем","Костромская обл., г. Галич ул.Свердлова, д. 1     ",null,null,null,null,null,null,null,14123,"Экономический","38.03.01","Экономика","Бухгалтерский учет, анализ и аудит","4 года","БАКАЛАВР","2-525","2014-08-21","по договору с полным возмещением затрат","000002844","2014-08-12",null,null,null,null,null,null,null,null,null,null,null,null,null,"2-571","2015-09-01","2-561","2016-09-01","2-703","2017-09-01",null,null,null,null,null,null,"2-395","2018-05-21","Государственный экзамен","2018-05-31",4,null,null,null,"Бухгалтерский учет и анализ эффективности использования денежных средств в ООО «Ладыгино» Галичского района Костромской области",5,16,"2018-06-25",null,"36213","104406","0018151","2018-06-29",4,"246z",3,"2018-02-09",null,6,"2018-05-17","77310136-30",4,"02.06.2015  ",null,6,"04.06.2015  ",null,6,"17.12.2015  ",null,3,"30.05.2015  ",null,3,"04.06.2015  ",null,4,"03.06.2015  ",null,4,"09.06.2015  ",null,6,"22.05.2015  ",null,3,"17.12.2015  ",null,6,"22.12.2015  ",null,4,"29.12.2015  ",null,4,"26.12.2015  ",null,6,"25.12.2015  ",null,3,"28.12.2015  ",null,4,"13.04.2016  ",null,6,"25.04.2016  ",null,3,"22.04.2016  ",null,4,"22.04.2016  ",null,5,"21.04.2016  ",null,null,"  ",null,null,"  ",null,4,"п/зач 08.09.2014",null,4,"01.12.2016  ",null,3,"01.12.2016  ",null,3,"01.12.2016  ",null,3,"01.12.2016  ",null,3,"2018-03-16",543,4,"24.11.2016  ",null,3,"01.12.2016  ",null,3,"30.11.2016","Оптимизация структуры\nкормопроизводства предприятия",6,"03.06.2017  ",null,4,"03.06.2017  ",null,4,"03.06.2017  ",null,4,"03.06.2017","Формы безналичных расчетов применяемых в РФ",4,"03.06.2017  ",null,3,"03.06.2017  ",null,3,"2018-05-17","Эффективность отрасли животноводства в организации (предприятии)",4,"03.06.2017  ",null,4,"03.06.2017  ",null,3,"03.06.2017","Планирование аудита",4,"08.09.2014  ",null,3,"11.10.2017  ",null,4,"11.10.2017  ",null,3,"11.10.2017  ",null,3,"11.10.2017  ",null,4,"08.02.2018","Анализ продукции растениеводства в СПК \"Маяк\" Галичского района Костромской области",4,"11.10.2017  ",null,4,"11.10.2017  ",null,6,"11.10.2017  ",null,5,"08.09.2014  ",null,3,"2018-02-09","Z-7739714",6,"2018-02-09","Z-7739563",6,"2018-02-09","Z-7739561",3,"2018-02-09","Z-7739521",4,"2018-04-11","Учет денежных средств в ООО \"Ладыгино\"\nГаличского района Костромской области",4,"2018-03-05",517,3,"2018-02-09","Z-7739505",6,"2018-02-09","Z-7739549",4,"2018-02-09","Z-7739516",4,"2018-03-20","ФГБОУ ВО Костромская ГСХА, кафедра бухгалтерский учет, анализ",3,"2018-04-11","ООО \"Ладыгино\" Галичского р-на Костромской обл.",3.52,null,22,25,2,12,49,7704,963]
[6,"Хлебникова","Надежда ","Сергеевна","Хлебникова Н. С.",null,"Хлебниковой","Надежде","Сергеевне","1992-10-28","с. Минское Костромского р-на Костромской обл.","РФ","ж","ОГБОУ СПО \"Шарьинский политехнический техникум Костромской области\"",2013,"замужем","Костромская обл., г. Шарья, пер. Тургенева, д. 3",null,null,null,null,null,null,null,13115,"Экономический","38.03.01","Экономика","Бухгалтерский учет, анализ и аудит","4 года","БАКАЛАВР","2-552","2013-08-30","по договору с полным возмещением затрат","000000954","2013-08-19",null,null,null,null,null,null,null,null,"2-1040","2017-12-29","по семейным обстоятельствам","2017-12-20","2018-12-19","2-532","2014-09-01","2-571","2015-09-01",null,null,null,null,null,null,null,null,null,null,null,null,null,null,null,null,null,null,null,null,null,null,null,null,null,4,"АО",4,"20.05.2014  ",null,6,"22.05.2014  ",null,4,"30.05.2014  ",null,6,"03.06.2014  ",null,6,"30.05.2014  ",null,3,"09.06.2014  ",null,3,"05.06.2014  ",null,4,"02.06.2014  ",null,null,"  ",null,6,"21.05.2014  ",null,3,"30.05.2017  ",null,6,"23.12.2014  ",null,4,"29.12.2017  ",null,3,"20.12.2017  ",null,6,"19.12.2014  ",null,5,"25.12.2014  ",null,null,"  ",null,6,"16.04.2015  ",null,3,"02.12.2017  ",null,3,"11.10.2016  ",null,3,"25.04.2015  ",null,null,"  ",null,null,"  ",null,4,"04.09.2013  ","ФГБОУ ВО Костромская ГСХА, кафедра экономической кибернетики",4,"17.10.2017  ",null,null,"  ",null,null,"  ",null,null,"  ",null,null,"  ",null,null,"  ",null,null,"  ",null,null,null,"Оптимизация структуры\nкормопроизводства предприятия",null,"  ",null,3,"03.06.2017  ",null,null,"  ",null,4,"03.06.2017","История развития бухгалтерского учета",5,"03.06.2017  ",null,null,"  ",null,null,null,null,null,"  ",null,3,"03.06.2017  ",null,3,"03.06.2017","Планирование аудита",5,"04.09.2013  ",null,null,"  ",null,null,"  ",null,null,"  ",null,null,"  ",null,null,null,0,null,"  ",null,null,"  ",null,null,"  ",null,5,"04.09.2013  ",null,null,"  ",null,null,"  ",null,null,"  ",null,null,"  ",null,null,null,null,null,"  ",null,null,"  ",null,null,"  ",null,null,"  ",null,null,"  ",null,null,"  ",null,1.56,null,10,7,4,7,21,3460,433]
[7,"Беляева","Марина ","Николаевна","Беляева М. Н.",null,"Беляевой","Марине","Николаевне","1975-12-09","г. Кострома","РФ","ж","Костромской технологический техникум",1995,"не замужем","г. Кострома, ул. Земляная, д. 14, кв. 18",null,null,null,null,null,null,null,"15828з","Экономический","38.03.01","Экономика","Бухгалтерский учет, анализ и аудит","4 года","БАКАЛАВР","2-585","2015-09-05","по договору с полным возмещением затрат","000003855","2015-08-31",null,null,null,null,null,null,null,null,null,null,null,null,null,"2-561","2016-09-01",null,null,null,null,null,null,null,null,null,null,null,null,null,null,null,null,null,null,null,null,null,null,null,null,null,null,null,4,"246z",null,null,null,null,null,null,3,"11.06.2016  ",null,6,"11.06.2016  ",null,6,"2018-05-07",779,3,"11.06.2016  ",null,3,"11.06.2016  ",null,4,"11.06.2016  ",null,3,"2018-03-27",572,6,"11.06.2016  ",null,3,"24.12.2016  ",null,6,"24.12.2016  ",null,3,"24.12.2016  ",null,3,"24.12.2016  ",null,6,"2018-05-03",751,null,"  ",null,3,"2018-05-03",752,6,"21.04.2017  ",null,null,"  ",null,4,"21.04.2017  ",null,4,"21.04.2017  ",null,6,"21.04.2017  ",null,6,"21.04.2017  ",null,5,"05.04.2016  ","ФГБОУ ВО Костромская ГСХА, кафедра экономической кибернетики",null,"  ",null,3,"30.11.2017  ",null,null,"  ",null,null,"  ",null,null,"  ",null,null,"  ",null,null,"  ",null,3,"2018-03-28","Оптимизация структуры кормопроизводства сельскохозяйственных предприятий агропромышленного комплекса",null,"  ",null,null,"  ",null,3,"2018-06-07",7819514,4,"2018-06-07","Формы безналичных расчетов, применяемые в РФ",null,"  ",null,5,"2018-06-07",7819711,3,"2018-06-07","Персонал организации (предприятия) и пути\nповышения эффективности его использования",3,"2018-06-07",7819720,3,"2018-06-07",7819517,4,"2018-06-07","Организация аудита банковских операций (в разрезе\nбанковских счетов)",5,"05.04.2016  ",null,null,"  ",null,null,"  ",null,null,"  ",null,null,"  ",null,null,null,null,null,"  ",null,null,"  ",null,null,"  ",null,5,"п/зач 05.04.16",null,null,"  ",null,null,"  ",null,null,"  ",null,null,"  ",null,null,null,null,null,"  ",null,null,"  ",null,null,"  ",null,null,"  ",null,null,null,null,null,"  ",null,1.64,null,14,5,4,8,23,3600,450]
[8,"Гаранина","Светлана ","Алексеевна","Гаранина С. А.",null,"Гараниной","Светлане","Алексеевне","1995-04-26","дер. Гуляевка Островского р-на Костромской обл.","РФ","ж","Костромская ГСХА СПО",2015,"не замужем","Костромская обл., Островский р-н,  д. Гуляевка, ул. Совхозная, д. 38, кв. 1",null,null,null,null,null,null,null,"15847з","Экономический","38.03.01","Экономика","Бухгалтерский учет, анализ и аудит","4 года","БАКАЛАВР","2-557","2015-08-21","по договору с полным возмещением затрат","000003678","2015-08-14",null,null,null,null,null,null,null,null,null,null,null,null,null,"2-561","2016-09-01","2-703","2017-09-01",null,null,null,null,null,null,null,null,null,null,null,null,null,null,null,null,null,null,null,null,null,null,null,null,null,4,"246z",4,"2018-06-07",78110135,6,"2018-06-07",78110110,4,"11.06.2016  ",null,6,"11.06.2016  ",null,6,"11.06.2016  ",null,4,"11.06.2016  ",null,3,"11.06.2016  ",null,5,"11.06.2016  ",null,4,"11.06.2016  ",null,6,"11.06.2016  ",null,4,"22.12.2016  ",null,6,"24.12.2016  ",null,5,"24.12.2016  ",null,3,"24.12.2016  ",null,6,"24.12.2016  ",null,3,"24.12.2016  ",null,3,"21.04.2017  ",null,6,"21.04.2017  ",null,4,"21.04.2017  ",null,4,"21.04.2017  ",null,5,"21.04.2017  ",null,6,"21.04.2017  ",null,6,"21.04.2017  ",null,5,"05.04.2016  ","ФГБОУ ВО Костромская ГСХА, кафедра экономической кибернетики",4,"30.11.2017  ",null,4,"30.11.2017  ",null,3,"30.11.2017  ",null,4,"30.11.2017  ",null,5,"30.11.2017  ",null,5,"30.11.2017  ",null,3,"30.11.2017  ",null,4,"30.11.2017","Оптимизация структуры кормопроизводства сельскохозяйственного предприятия",6,"2018-06-07",7819542,3,"2018-06-07",78110074,4,"2018-06-07",7819514,4,"2018-06-07","Учет денежных средств",4,"2018-06-07",7819557,5,"2018-06-07",7819711,null,null,null,4,"2018-06-07",7819720,5,"2018-06-07",7819517,4,"2018-06-07","Организация аудита кассовых операций",4,"05.04.2016  ",null,null,"  ",null,null,"  ",null,null,"  ",null,null,"  ",null,null,null,null,null,"  ",null,null,"  ",null,null,"  ",null,5,"п/зач 05.04.16",null,null,"  ",null,null,"  ",null,null,"  ",null,null,"  ",null,null,null,null,null,"  ",null,null,"  ",null,null,"  ",null,null,"  ",null,null,null,null,null,"  ",null,2.68,null,7,17,9,10,33,5688,711]
[9,"Голубева (Волкова)","Татьяна ","Геннадьевна","Голубева (Волкова) Т. Г.",null,"Голубевой","Татьяне","Геннадьевне","1992-07-06","дер. Ченцы Красносельского р-на Костромской обл.","РФ","ж","Костромской механико-технический техникум",2013,"замужем","Костромская обл., Красносельский р-н,  д. Ченцы, ул. Молодежная,  д. 9, кв. 1",null,null,null,null,null,null,null,"15830з","Экономический","38.03.01","Экономика","Бухгалтерский учет, анализ и аудит","4 года","БАКАЛАВР","2-557","2015-08-21","по договору с полным возмещением затрат","000003791","2015-08-20",null,null,null,null,null,null,null,null,null,null,null,null,null,"2-561","2016-09-01","2-703","2017-09-01",null,null,null,null,null,null,null,null,null,null,null,null,null,null,null,null,null,null,null,null,null,null,null,null,null,4,"246z",3,"2018-06-07",78110135,6,"2018-06-07",78110110,5,"14.06.2016  ",null,6,"11.06.2016  ",null,6,"11.06.2016  ",null,4,"11.06.2016  ",null,4,"11.06.2016  ",null,5,"11.06.2016  ",null,3,"11.06.2016  ",null,6,"11.06.2016  ",null,3,"24.12.2016  ",null,6,"24.12.2016  ",null,5,"24.12.2016  ",null,3,"24.12.2016  ",null,6,"24.12.2016  ",null,4,"24.12.2016  ",null,5,"21.04.2017  ",null,6,"21.04.2017  ",null,3,"21.04.2017  ",null,4,"21.04.2017  ",null,5,"21.04.2017  ",null,6,"21.04.2017  ",null,6,"21.04.2017  ",null,5,"05.04.2016  ","ФГБОУ ВО Костромская ГСХА, кафедра экономической кибернетики",4,"30.11.2017  ",null,3,"30.11.2017  ",null,3,"30.11.2017  ",null,4,"30.11.2017  ",null,4,"2018-09-18",25,4,"30.11.2017  ",null,3,"30.11.2017  ",null,4,"30.11.2017","Оптимизация структуры кормопроизводства сельскохозяйственного предприятия",6,"2018-06-07",7819542,5,"2018-06-07",78110074,4,"2018-06-07",7819514,4,"2018-06-07","Бухгалтерские счета и двойная запись",4,"2018-06-07",7819557,3,"2018-06-07",7819711,3,"2018-06-07","Производительность труда и пути ее повышения в\nорганизации (предприятии)",3,"2018-06-07",7819720,5,"2018-06-07",7819517,5,"2018-06-07","Образование аудитора и контроль качества\nпроведения аудита",4,"05.04.2016  ",null,null,"  ",null,null,"  ",null,null,"  ",null,null,"  ",null,null,null,null,null,"  ",null,null,"  ",null,null,"  ",null,4,"п/зач 05.04.16",null,null,"  ",null,null,"  ",null,null,"  ",null,null,"  ",null,null,null,null,null,"  ",null,null,"  ",null,null,"  ",null,null,"  ",null,null,null,null,null,"  ",null,2.68,null,11,14,9,10,34,5688,711]
[10,"Гульвачук","Григорий","Игоревич","Гульвачук Г. И.",null,"Гульвачук","Григорию","Игоревичу","1987-03-27","г. Буй Костромской обл.","РФ","м","Буйский сельскохозяйственный техникум",2008,"женат","Костромская обл.,  г. Буй,   ул. Энгельса,   д. 39",null,null,null,null,null,null,null,"15869з","Экономический","38.03.01","Экономика","Бухгалтерский учет, анализ и аудит","4 года","БАКАЛАВР","2-557","2015-08-21","по договору с полным возмещением затрат","000003482","2015-08-05",null,null,null,null,null,null,null,null,null,null,null,null,null,"2-561","2016-09-01","2-703","2017-09-01",null,null,null,null,null,null,null,null,null,null,null,null,null,null,null,null,null,null,null,null,null,null,null,null,null,4,"248z",3,"11.06.2016  ",null,6,"11.06.2016  ",null,4,"11.06.2016  ",null,6,"11.06.2016  ",null,6,"11.06.2016  ",null,4,"19.06.2016  ",null,5,"11.06.2016  ",null,5,"16.06.2017  ",null,4,"16.06.2016  ",null,6,"11.06.2016  ",null,4,"16.06.2017  ",null,6,"24.12.2016  ",null,null,"  ",null,3,"24.12.2016  ",null,6,"24.12.2016  ",null,5,"24.12.2016  ",null,4,"21.04.2017  ",null,6,"21.04.2017  ",null,null,"20.09.2017  ",null,4,"25.10.2017  ",null,5,"21.04.2017  ",null,6,"21.04.2017  ",null,6,"21.04.2017  ",null,5,"05.04.2016  ","ФГБОУ ВО Костромская ГСХА, кафедра экономической кибернетики",5,"2017-11-30","  Z-7839490",null,"  ",null,null,"  ",null,3,"2018-09-14",24,null,"  ",null,null,"  ",null,3,"2018-09-18",38,3,"2018-09-18","Определение оптимальных размеров и специализации сельского хозяйства",null,"  ",null,null,"  ",null,5,"2018-06-07",7839514,4,"2018-06-07","История развития бухгалтерского учета",5,"2018-06-07",7839557,4,"2018-06-07",7839711,null,null,null,null,"  ",null,4,"2018-06-07",7839517,null,null,null,4,"05.04.2016  ",null,null,"  ",null,null,"  ",null,null,"  ",null,null,"  ",null,null,null,null,null,"  ",null,null,"  ",null,null,"  ",null,4,"п/зач 05.04.16",null,null,"  ",null,null,"  ",null,null,"  ",null,null,"  ",null,null,null,null,null,"  ",null,null,"  ",null,null,"  ",null,null,"  ",null,null,null,null,null,"  ",null,1.98,null,5,11,8,9,24,4356,545]
[11,"Зрюкина","Валерия","Сергеевна","Зрюкина В. С.",null,"Судзиловской","Ксении","Игоревне","1996-12-12","с. Красноармейка Павлодарского р-на респ. Казахстан","РФ","ж","Костромской лесомеханический колледж",2015,"не замужем","Костромская обл., Солигаличский р-н,  Гнездниково, ул.  Молодежная, д. 9 ",null,null,null,null,null,null,null,"15832з","Экономический","38.03.01","Экономика","Бухгалтерский учет, анализ и аудит","4 года","БАКАЛАВР","2-557","2015-08-21","по договору с полным возмещением затрат","000003613","2015-08-12",null,null,null,null,null,null,null,null,null,null,null,null,null,"2-561","2016-09-01","2-703","2017-09-01",null,null,null,null,null,null,null,null,null,null,null,null,null,null,null,null,null,null,null,null,null,null,null,null,null,4,"246z",null,null,null,null,null,null,5,"11.06.2016  ",null,6,"11.06.2016  ",null,6,"11.06.2016  ",null,3,"11.06.2016  ",null,4,"11.06.2016  ",null,5,"11.06.2016  ",null,3,"11.06.2016  ",null,6,"11.06.2016  ",null,4,"24.12.2016  ",null,6,"24.12.2016  ",null,5,"24.12.2016  ",null,4,"24.12.2016  ",null,null,"  ",null,4,"24.12.2016  ",null,null,"  ",null,6,"21.04.2017  ",null,3,"21.04.2017  ",null,3,"21.04.2017  ",null,5,"21.04.2017  ",null,6,"21.04.2017  ",null,6,"21.04.2017  ",null,4,"05.04.2016  ","ФГБОУ ВО Костромская ГСХА, кафедра экономической кибернетики",4,"30.11.2017  ",null,3,"30.11.2017  ",null,null,"  ",null,null,"  ",null,null,"  ",null,null,"  ",null,3,"30.11.2017  ",null,3,"30.11.2017","Оптимизация структуры кормопроизводства сельскохозяйственного предприятия",null,null,null,null,"  ",null,3,"2018-06-07",7819514,4,"2018-06-07","Учетная политика организации: методические,\nорганизационные и технические аспекты и элементы",4,"2018-06-07",7819557,5,"2018-06-07",7819711,null,null,null,null,"  ",null,3,"2018-06-07",7819517,null,null,null,4,"05.04.2016  ",null,null,"  ",null,null,"  ",null,null,"  ",null,null,"  ",null,null,null,null,null,"  ",null,null,"  ",null,null,"  ",null,4,"п/зач 05.04.16",null,null,"  ",null,null,"  ",null,null,"  ",null,null,"  ",null,null,null,null,null,"  ",null,null,"  ",null,null,"  ",null,null,"  ",null,null,null,null,null,"  ",null,1.84,null,9,10,5,7,24,4140,518]
[12,"Иванова","Анна  ","Геннадьевна","Иванова А. Г.",null,"Ивановой","Анне","Геннадьевне","1988-01-28","пос. Кадый Кадыйского р-на Костромской обл.","РФ","ж","Костромской технологический техникум",2011,"не замужем","Ленинградская обл., Кингисеппский р-н,  пос. Усть-луга,   д. 53, кв. 1",null,null,null,null,null,null,null,"15848з","Экономический","38.03.01","Экономика","Бухгалтерский учет, анализ и аудит","4 года","БАКАЛАВР","2-557","2015-08-21","по договору с полным возмещением затрат","000003580","2015-08-10",null,null,null,null,null,null,null,null,null,null,null,null,null,"2-561","2016-09-01","2-565","2018-06-25",null,null,null,null,null,null,null,null,null,null,null,null,null,null,null,null,null,null,null,null,null,null,null,null,null,4,"246z",3,"2018-06-07",78110135,6,"2018-06-07",78110110,3,"11.06.2016  ",null,6,"11.06.2016  ",null,6,"11.06.2016  ",null,3,"2018-05-24",929,3,"11.06.2016  ",null,4,"11.06.2016  ",null,4,"11.06.2016  ",null,6,"11.06.2016  ",null,3,"22.12.2016  ",null,6,"24.12.2016  ",null,5,"24.12.2016  ",null,3,"2018-05-17",856,6,"2018-05-11",823,3,"24.12.2016  ",null,3,"2018-05-16",847,6,"2018-04-21",749,3,"21.04.2017  ",null,3,"21.04.2017  ",null,4,"21.04.2017  ",null,6,"21.04.2017  ",null,6,"21.04.2017  ",null,4,"05.04.2016  ","ФГБОУ ВО Костромская ГСХА, кафедра экономической кибернетики",4,"30.11.2017  ",null,3,"30.11.2017  ",null,null,"  ",null,null,"  ",null,4,"30.11.2017  ",null,4,"30.11.2017  ",null,null,"  ",null,null,null,"Оптимизация структуры кормопроизводства сельскохозяйственного предприятия",null,null,null,4,"2018-06-07",78110074,4,"2018-06-07",7819514,4,"2018-06-07","Учет расчетов с подотчетными лицами",4,"2018-06-07",7819557,3,"2018-06-07",7819711,null,null,null,null,"  ",null,4,"2018-06-07",7819517,null,null,null,4,"05.04.2016  ",null,null,"  ",null,null,"  ",null,null,"  ",null,null,"  ",null,null,null,null,null,"  ",null,null,"  ",null,null,"  ",null,4,"п/зач 05.04.16",null,null,"  ",null,null,"  ",null,null,"  ",null,null,"  ",null,null,null,null,null,"  ",null,null,"  ",null,null,"  ",null,null,"  ",null,null,null,null,null,"  ",null,1.94,null,12,14,1,9,27,4896,612]
[13,"Иванова","Наталья","Владимировна","Иванова Н. В.",null,"Ивановой","Наталье","Владимировне","1980-10-08","г. Солигалич","РФ","ж","Костромской энергетический техникум им. Чижова",1999,"не замужем","Костромская обл., г.  Солигалич,  ул. Полянская, д. 43 ",null,null,null,null,null,null,null,"15870з","Экономический","38.03.01","Экономика","Бухгалтерский учет, анализ и аудит","4 года","БАКАЛАВР","2-557","2015-08-21","по договору с полным возмещением затрат","000003495","2015-08-05",null,null,null,null,null,null,null,null,null,null,null,null,null,"2-561","2016-09-01","2-703","2017-09-01",null,null,null,null,null,null,null,null,null,null,null,null,null,null,null,null,null,null,null,null,null,null,null,null,null,4,"248z",4,"2018-06-07",78310135,6,"2018-06-07",78310110,4,"11.06.2016  ",null,6,"11.06.2016  ",null,6,"11.06.2016  ",null,4,"30.06.2016  ",null,5,"11.06.2016  ",null,5,"11.06.2016  ",null,4,"03.10.2016  ",null,6,"11.06.2016  ",null,4,"24.12.2016  ",null,6,"24.12.2016  ",null,4,"24.12.2016  ",null,4,"24.12.2016  ",null,6,"30.06.2017  ",null,4,"30.06.2017  ",null,4,"30.06.2017  ",null,6,"21.04.2017  ",null,4,"21.04.2017  ",null,4,"21.04.2017  ",null,4,"21.04.2017  ",null,6,"21.04.2017  ",null,6,"21.04.2017  ",null,4,"05.04.2016  ","ФГБОУ ВО Костромская ГСХА, кафедра экономической кибернетики",5,"2017-11-30","   Z-7839490",4,"2017-11-30","  Z-7839489",3,"2017-11-30","   Z-7839538",4,"2017-11-30","   Z-7839536",5,"2017-11-30","  Z-7839556",4,"2017-11-30","    Z-7839485",4,"2017-11-30","  Z-7839543",5,"30.11.2017","Оптимизация структуры кормопроизводства СПК «Яковлевское» Костромского района Костромской области",6,"2018-06-07",7839542,4,"2018-06-07",78310074,5,"2018-06-07",7839514,5,"2018-06-07","Предмет и метод бухгалтерского учета",5,"2018-06-07",7839557,5,"2018-06-07",7839711,3,"2018-06-07","Эффективность использования оборотных средств\nорганизации (предприятия)",4,"2018-06-07",7839720,5,"2018-06-07",7839517,5,"2018-06-07","Сущность аудита и его место в системе финансового\nконтроля Российской Федерации",5,"05.04.2016  ",null,null,"  ",null,null,"  ",null,null,"  ",null,null,"  ",null,null,null,null,null,"  ",null,null,"  ",null,null,"  ",null,null,"  ",null,null,"  ",null,null,"  ",null,null,"  ",null,null,"  ",null,null,null,null,null,"  ",null,null,"  ",null,null,"  ",null,null,"  ",null,null,null,null,null,"  ",null,2.84,null,2,19,12,10,33,5688,711]
[14,"Кузнецова","Анастасия ","Сергеевна","Кузнецова А. С.",null,"Кузнецовой","Анастасии","Сергеевне","1996-07-29","г. Кострома","РФ","ж","Костромской торгово-экономический колледж",2015,"не замужем","г. Кострома, Рабочий пр-кт,  д. 56, кв. 57",null,null,null,null,null,null,null,"15835з","Экономический","38.03.01","Экономика","Бухгалтерский учет, анализ и аудит","4 года","БАКАЛАВР","2-547","2015-08-17","в рамках контрольных цифр на основное место",null,null,null,null,null,null,null,null,null,null,null,null,null,null,null,"2-561","2016-09-01","2-703","2017-09-01",null,null,null,null,null,null,null,null,null,null,null,null,null,null,null,null,null,null,null,null,null,null,null,null,null,4,"246z",4,"2018-06-07",78110135,6,"2018-06-07",78110110,4,"11.06.2016  ",null,6,"11.06.2016  ",null,6,"11.06.2016  ",null,4,"11.06.2016  ",null,3,"14.06.2016  ",null,4,"11.06.2016  ",null,3,"11.06.2016  ",null,6,"11.06.2016  ",null,4,"24.12.2016  ",null,6,"24.12.2016  ",null,4,"24.12.2016  ",null,3,"24.12.2016  ",null,6,"24.12.2016  ",null,4,"24.12.2016  ",null,3,"21.04.2017  ",null,6,"21.04.2017  ",null,4,"21.04.2017  ",null,4,"21.04.2017  ",null,4,"21.04.2017  ",null,6,"21.04.2017  ",null,6,"21.04.2017  ",null,5,"05.04.2016  ","ФГБОУ ВО Костромская ГСХА, кафедра экономической кибернетики",5,"30.11.2017  ",null,3,"30.11.2017  ",null,3,"30.11.2017  ",null,5,"30.11.2017  ",null,5,"30.11.2017  ",null,5,"30.11.2017  ",null,5,"30.11.2017  ",null,5,"30.11.2017","Оптимизация структуры кормопроизводства сельскохозяйственного предприятия",6,"2018-06-07",7819542,5,"2018-06-07",78110074,4,"2018-06-07",7819514,5,"2018-06-07","Формы безналичных расчетов, применяемые в РФ",4,"2018-06-07",7819557,5,"2018-06-07",7819711,5,"2018-06-07","Пути повышения финансовых результатов\nорганизации (предприятия) на примере ОАО\n\"Племенной завод \"Чернопенский\"",4,"2018-06-07",7819720,5,"2018-06-07",7819517,5,"2018-06-07","Организация аудита банковских операций (в разрезе\nбанковских счетов)",5,"05.04.2016  ",null,null,"  ",null,null,"  ",null,null,"  ",null,null,"  ",null,null,null,null,null,"  ",null,null,"  ",null,null,"  ",null,5,"п/зач 05.04.16",null,null,"  ",null,null,"  ",null,null,"  ",null,null,"  ",null,null,null,null,null,"  ",null,null,"  ",null,null,"  ",null,null,"  ",null,null,null,null,null,"  ",null,2.9,null,6,13,15,10,34,5688,711]
[15,"Кузнецова","Ульяна","Алексеевна","Кузнецова У. А.",null,"Кузнецовой","Ульяне","Алексеевне","1997-01-12","пос. Вохтота грязовецкого р-на Вологодской обл.","РФ","ж","Буйский техникум градостроительства и предпринимательства",2015,"не замужем","Вологодская обл, Грязовецкий р-н,  Вохтога  ул. Колхозная, д. 87, кв. 21",null,null,null,null,null,null,null,"15836з","Экономический","38.03.01","Экономика","Бухгалтерский учет, анализ и аудит","4 года","БАКАЛАВР","2-557","2015-08-21","по договору с полным возмещением затрат","000003806","2015-08-20",null,null,null,null,null,null,null,null,null,null,null,null,null,"2-561","2016-09-01","2-703","2017-09-01",null,null,null,null,null,null,null,null,null,null,null,null,null,null,null,null,null,null,null,null,null,null,null,null,null,4,"246z",3,"2018-06-07",78110135,6,"2018-06-07",78110110,3,"11.06.2016  ",null,6,"11.06.2016  ",null,6,"20.04.2017  ",null,null,"  ",null,3,"19.04.2017  ",null,4,"11.06.2016  ",null,3,"11.06.2016  ",null,6,"11.06.2016  ",null,3,"21.04.2017  ",null,6,"24.12.2016  ",null,3,"24.12.2016  ",null,4,"24.12.2016  ",null,6,"24.12.2016  ",null,3,"21.04.2017  ",null,3,"21.04.2017  ",null,6,"21.04.2017  ",null,3,"21.04.2017  ",null,4,"21.04.2017  ",null,4,"21.04.2017  ",null,6,"21.04.2017  ",null,6,"21.04.2017  ",null,4,"05.04.2016  ","ФГБОУ ВО Костромская ГСХА, кафедра экономической кибернетики",3,"30.11.2017  ",null,3,"30.11.2017  ",null,3,"30.11.2017  ",null,3,"30.11.2017  ",null,null,"  ",null,3,"30.11.2017  ",null,3,"30.11.2017  ",null,3,"30.11.2017","Оптимальная специализация и сочетание отраслей сельскохозяйственного предприятия",6,"2018-06-07",7819542,4,"2018-06-07",78110074,4,"2018-06-07",7819514,4,"2018-06-07","Учет расчетов с покупателями и заказчиками",4,"2018-06-07",7819557,5,"2018-06-07",7819711,null,null,null,4,"2018-06-07",7819720,4,"2018-06-07",7819517,4,"2018-06-07","Организация аудита расчетов с покупателями и\nзаказчиками",4,"05.04.2016  ",null,null,"  ",null,null,"  ",null,null,"  ",null,null,"  ",null,null,null,null,null,"  ",null,null,"  ",null,null,"  ",null,4,"п/зач 05.04.16",null,null,"  ",null,null,"  ",null,null,"  ",null,null,"  ",null,null,null,null,null,"  ",null,null,"  ",null,null,"  ",null,null,"  ",null,null,null,null,null,"  ",null,2.1800000000000002,null,16,14,1,10,31,5328,666]
[16,"Лазарева","Ксения ","Владимировна","Лазарева К. В.",null,"Лазаревой","Ксении","Владимировне","1985-08-07","г. Нерехта Костромской обл.","РФ","ж","Ярославский сельскохозяйственный техникум",2005,"не замужем","Костромская обл., г. Нерехта,  пер. Полевой, д. 10 ",null,null,null,null,null,null,null,"15837з","Экономический","38.03.01","Экономика","Бухгалтерский учет, анализ и аудит","4 года","БАКАЛАВР","2-557","2015-08-21","по договору с полным возмещением затрат","000003562","2015-08-10",null,null,null,null,null,null,null,null,null,null,null,null,null,"2-561","2016-09-01",null,null,null,null,null,null,null,null,null,null,null,null,null,null,null,null,null,null,null,null,null,null,null,null,null,null,null,4,"246z",null,null,null,6,"2018-06-07",78110110,3,"11.06.2016  ",null,6,"11.06.2016  ",null,6,"2018-05-07",774,3,"2018-03-28",585,3,"11.06.2016  ",null,4,"11.06.2016  ",null,3,"2018-03-27",571,6,"11.06.2016  ",null,4,"2018-05-07",775,6,"24.12.2016  ",null,3,"24.12.2016  ",null,3,"24.12.2016  ",null,6,"2018-05-03",239,3,"24.12.2016  ",null,3,"2018-05-03",240,6,"21.04.2017  ",null,null,"  ",null,null,"  ",null,3,"21.04.2017  ",null,6,"2018-05-07",777,6,"21.04.2017  ",null,4,"05.04.2016  ","ФГБОУ ВО Костромская ГСХА, кафедра экономической кибернетики",null,"  ",null,3,"30.11.2017  ",null,null,"  ",null,null,"  ",null,null,"  ",null,4,"30.11.2017  ",null,null,"  ",null,null,null,null,null,null,null,null,"  ",null,3,"2018-06-07",7819514,4,"2018-06-07","Бухгалтерский баланс и бухгалтерская отчетность",4,"2018-06-07",7819557,5,"2018-06-07",7819711,3,"2018-06-07","Пути повышения финансовых результатов\nорганизации (предприятия)",3,"2018-06-07",7819720,3,"2018-06-07",7819517,4,"2018-06-07","Основные принципы проведения аудита",4,"05.04.2016  ",null,null,"  ",null,null,"  ",null,null,"  ",null,null,"  ",null,null,null,null,null,"  ",null,null,"  ",null,null,"  ",null,3,"п/зач 05.04.16",null,null,"  ",null,null,"  ",null,null,"  ",null,null,"  ",null,null,null,null,null,"  ",null,null,"  ",null,null,"  ",null,null,"  ",null,null,null,null,null,"  ",null,1.64,null,15,8,1,9,24,3960,495]
[17,"Лебедева","Мария ","Борисовна","Лебедева М. Б.",null,"Лебедевой","Марии","Борисовне","1996-03-16","г. Солигалич Костромской обл.","РФ","ж","Костромской лесомеханический колледж",2015,"не замужем","Костромская обл.,  г.  Солигалич,  пр-т Свободы,  д. 5, кв. 2",null,null,null,null,null,null,null,"15866з","Экономический","38.03.01","Экономика","Бухгалтерский учет, анализ и аудит","4 года","БАКАЛАВР","2-557","2015-08-21","по договору с полным возмещением затрат","000003605","2015-08-11",null,null,null,null,null,null,null,null,null,null,null,null,null,"2-561","2016-09-01","2-703","2017-09-01",null,null,null,null,null,null,null,null,null,null,null,null,null,null,null,null,null,null,null,null,null,null,null,null,null,4,"248z",4,"2018-06-07",78310135,6,"2018-06-07",78310110,4,"11.06.2016  ",null,6,"11.06.2016  ",null,6,"20.09.2016  ",null,4,"30.06.2016  ",null,4,"11.06.2016  ",null,4,"11.06.2016  ",null,4,"11.06.2016  ",null,6,"11.06.2016  ",null,4,"24.12.2016  ",null,6,"24.12.2016  ",null,4,"24.12.2016  ",null,3,"24.12.2016  ",null,6,"24.12.2016  ",null,4,"30.06.2017  ",null,3,"21.04.2017  ",null,6,"21.04.2017  ",null,3,"21.04.2017  ",null,3,"2018-03-16",547,4,"21.04.2017  ",null,6,"21.04.2017  ",null,6,"21.04.2017  ",null,4,"05.04.2016  ","ФГБОУ ВО Костромская ГСХА, кафедра экономической кибернетики",null,"  ",null,null,"  ",null,null,"  ",null,null,"  ",null,null,"  ",null,null,"  ",null,null,"  ",null,null,null,null,null,"  ",null,null,"  ",null,4,"2018-06-07",7839514,null,null,null,null,"  ",null,null,"  ",null,null,null,null,null,"  ",null,null,"  ",null,null,null,null,4,"05.04.2016  ",null,null,"  ",null,null,"  ",null,null,"  ",null,null,"  ",null,null,null,null,null,"  ",null,null,"  ",null,null,"  ",null,4,"п/зач 05.04.16",null,null,"  ",null,null,"  ",null,null,"  ",null,null,"  ",null,null,null,null,null,"  ",null,null,"  ",null,null,"  ",null,null,"  ",null,null,null,null,null,"  ",null,1.36,null,4,14,0,9,18,3708,464]
[18,"Лебедева (Орлова)","Анастасия ","Александровна","Лебедева (Орлова) А. А.",null,"Лебедевой","Анастасии","Александровне","1984-09-30","г. Волгореченск Костромской обл.","РФ","ж","Костромской технологический техникум",2003,"замужем","г. Кострома, ул. Скворцова,  д. 20а, кв. 63",null,null,null,null,null,null,null,"15839з","Экономический","38.03.01","Экономика","Бухгалтерский учет, анализ и аудит","4 года","БАКАЛАВР","2-547","2015-08-17","в рамках контрольных цифр в пределах целевой квоты",null,null,null,null,null,null,null,null,null,null,null,null,null,null,null,"2-561","2016-09-01","2-703","2017-09-01",null,null,null,null,null,null,null,null,null,null,null,null,null,null,null,null,null,null,null,null,null,null,null,null,null,4,"246z",5,"2018-06-07",78110135,6,"2018-06-07",78110110,5,"11.06.2016  ",null,6,"11.06.2016  ",null,6,"11.06.2016  ",null,4,"11.06.2016  ",null,4,"11.06.2016  ",null,5,"11.06.2016  ",null,3,"11.06.2016  ",null,6,"11.06.2016  ",null,4,"24.12.2016  ",null,6,"24.12.2016  ",null,5,"24.12.2016  ",null,4,"24.12.2016  ",null,6,"24.12.2016  ",null,5,"24.12.2016  ",null,5,"21.04.2017  ",null,6,"21.04.2017  ",null,4,"21.04.2017  ",null,4,"21.04.2017  ",null,5,"21.04.2017  ",null,6,"21.04.2017  ",null,6,"21.04.2017  ",null,5,"05.04.2016  ","ФГБОУ ВО Костромская ГСХА, кафедра экономической кибернетики",5,"30.11.2017  ",null,5,"30.11.2017  ",null,4,"30.11.2017  ",null,5,"30.11.2017  ",null,5,"30.11.2017  ",null,5,"30.11.2017  ",null,5,"30.11.2017  ",null,5,"30.11.2017",null,6,"2018-06-07",7819542,5,"2018-06-07",78110074,5,"2018-06-07",7819514,5,"2018-06-07","Учет расчетов по налогам и сборам",5,"2018-06-07",7819557,5,"2018-06-07",7819711,4,"2018-06-07","Персонал организации (предприятия) и пути\nповышения эффективности его использования",5,"2018-06-07",7819720,5,"2018-06-07",7819517,5,"2018-06-07","Организация аудита кассовых операций",5,"05.04.2016  ",null,null,"  ",null,null,"  ",null,null,"  ",null,null,"  ",null,null,null,null,null,"  ",null,null,"  ",null,null,"  ",null,5,"п/зач 05.04.16",null,null,"  ",null,null,"  ",null,null,"  ",null,null,"  ",null,null,null,null,null,"  ",null,null,"  ",null,null,"  ",null,null,"  ",null,null,null,null,null,"  ",null,3.2,null,1,8,25,10,34,5688,711]
[19,"Лытаева","Юлия ","Андреевна","Лытаева Ю. А.",null,"Лытаевой","Юлии","Андреевне","1991-05-11","г. Кострома","РФ","ж","Костромской торгово-экономический колледж",2010,"не замужем","Костромская обл., Костромской р-н,  д. Некрасово, ул. Школьная д. 9 ",null,null,null,null,null,null,null,"15850з","Экономический","38.03.01","Экономика","Бухгалтерский учет, анализ и аудит","4 года","БАКАЛАВР","2-557","2015-08-21","по договору с полным возмещением затрат","000003490","2015-08-05",null,null,null,null,null,null,null,null,null,null,null,null,null,"2-561","2016-09-01","2-703","2017-09-01",null,null,null,null,null,null,null,null,null,null,null,null,null,null,null,null,null,null,null,null,null,null,null,null,null,4,"246z",4,"2018-06-07",78110135,6,"2018-06-07",78110110,4,"11.06.2016  ",null,6,"11.06.2016  ",null,6,"11.06.2016  ",null,4,"11.06.2016  ",null,3,"11.06.2016  ",null,4,"11.06.2016  ",null,3,"11.06.2016  ",null,6,"11.06.2016  ",null,4,"22.12.2016  ",null,6,"24.12.2016  ",null,4,"24.12.2016  ",null,4,"24.12.2016  ",null,6,"24.12.2016  ",null,3,"24.12.2016  ",null,5,"21.04.2017  ",null,6,"21.04.2017  ",null,3,"21.04.2017  ",null,4,"21.04.2017  ",null,5,"21.04.2017  ",null,6,"21.04.2017  ",null,6,"21.04.2017  ",null,4,"05.04.2016  ","ФГБОУ ВО Костромская ГСХА, кафедра экономической кибернетики",4,"30.11.2017  ",null,3,"30.11.2017  ",null,3,"30.11.2017  ",null,3,"30.11.2017  ",null,4,"30.11.2017  ",null,4,"30.11.2017  ",null,3,"30.11.2017  ",null,3,"30.11.2017","Оптимизация структуры кормопроизводства сельскохозяйственного предприятия",6,"2018-06-07",7819542,3,"2018-06-07",78110074,4,"2018-06-07",7819514,4,"2018-06-07","Учет расчетов с персоналом по прочим операциям",4,"2018-06-07",7819557,5,"2018-06-07",7819711,4,"2018-06-07","Производительность труда и пути ее повышения на\nпредприятии СПК \"Яковлевское\" Костромской\nобласти",5,"2018-06-07",7819720,4,"2018-06-07",7819517,4,"2018-06-07","Организация аудита расчетов по налогам и сборам\n(по видам налогов)",3,"05.04.2016  ",null,null,"  ",null,null,"  ",null,null,"  ",null,null,"  ",null,null,null,null,null,"  ",null,null,"  ",null,null,"  ",null,3,"п/зач 05.04.16",null,null,"  ",null,null,"  ",null,null,"  ",null,null,"  ",null,null,null,null,null,"  ",null,null,"  ",null,null,"  ",null,null,"  ",null,null,null,null,null,"  ",null,2.56,null,12,18,4,10,34,5688,711]
[20,"Максимова","Светлана","Валерьевна","Максимова С. В.",null,"Максимовой","Светлане","Валерьевне","1989-11-25","пос. Островское Островского р-на Костромской обл.","РФ","ж","Кстромской государственный технологический университет",2012,"не замужем","г. Кострома, ул. Никитская, д. 118, кв. 66",null,null,null,null,null,null,null,"15874з","Экономический","38.03.01","Экономика","Бухгалтерский учет, анализ и аудит","4 года","БАКАЛАВР","2-557","2015-08-21","по договору с полным возмещением затрат","000003575","2015-08-10",null,null,null,null,null,null,null,null,null,null,null,null,null,"2-561","2016-09-01","2-703","2017-09-01",null,null,null,null,null,null,null,null,null,null,null,null,null,null,null,null,null,null,null,null,null,null,null,null,null,4,"248z",4,"2018-06-07",78310135,6,"2018-06-07",78310110,5,"11.06.2016  ",null,6,"06.04.2016  ",null,6,"05.04.2016  ",null,4,"05.04.2016  ",null,5,"11.06.2016  ",null,5,"11.06.2016  ",null,4,"11.06.2016  ",null,6,"11.06.2016  ",null,5,"05.04.2016  ",null,6,"24.12.2016  ",null,4,"24.12.2016  ",null,4,"24.12.2016  ",null,6,"24.12.2016  ",null,5,"24.12.2016  ",null,4,"21.04.2017  ",null,6,"21.04.2017  ",null,5,"21.04.2017  ",null,4,"21.04.2017  ",null,5,"21.04.2017  ",null,6,"21.04.2017  ",null,6,"21.04.2017  ",null,4,"01.07.2017  ","ФГБОУ ВО Костромская ГСХА, кафедра экономической кибернетики",5,"2017-11-30","   Z-7839490",4,"2017-11-30","   Z-7839489",4,"2017-11-30","   Z-7839538",4,"2017-11-30","   Z-7839536",5,"2017-11-30","    Z-7839556",null,"  ",null,4,"2017-11-30","  Z-7839543",3,"30.11.2017","Оптимизация структуры кормопроизводства сельскохозяйственных предприятий агропромышленного комплекса",6,"2018-06-07",7839542,null,"  ",null,5,"2018-06-07",7839514,4,"2018-06-07","Бухгалтерский баланс и бухгалтерская отчетность",5,"2018-06-07",7839557,5,"2018-06-07",7839711,3,"2018-06-07","Персонал организации (предприятия) и пути\nповышения эффективности его использования",5,"2018-06-07",7839720,5,"2018-06-07",7839517,4,"2018-06-07","Правовое регулирование аудиторской деятельности в\nРоссийской Федерации",null,"  ","ООО Юз \"Вероника\" г. Кострома",null,"  ",null,null,"  ",null,null,"  ",null,null,"  ",null,null,null,0,null,"  ",null,null,"  ",null,null,"  ",null,null,"  ",null,null,"  ",null,null,"  ",null,null,"  ",null,null,"  ",null,null,null,null,null,"  ",null,null,"  ",null,null,"  ",null,null,"  ",null,null,null,null,null,"  ",null,2.64,null,2,14,14,10,30,5400,675]
[21,"Матасова","Екатерина ","Олеговна","Матасова Е. О.",null,"Матасовой","Екатерине","Олеговне","1996-04-06","г. Кострома","РФ","ж","Костромской торгово-экономический колледж",2015,"не замужем","г. Кострома, ул. Смирнова Юрия,  д. 19, кв. 3",null,null,null,null,null,null,null,"15851з","Экономический","38.03.01","Экономика","Бухгалтерский учет, анализ и аудит","4 года","БАКАЛАВР","2-557","2015-08-21","по договору с полным возмещением затрат","000003547","2015-08-10",null,null,null,null,null,null,null,null,null,null,null,null,null,"2-561","2016-09-01","2-703","2017-09-01",null,null,null,null,null,null,null,null,null,null,null,null,null,null,null,null,null,null,null,null,null,null,null,null,null,4,"246z",5,"2018-06-07",78110135,6,"2018-06-07",78110110,5,"11.06.2016  ",null,6,"11.06.2016  ",null,6,"11.06.2016  ",null,4,"11.06.2016  ",null,3,"11.06.2016  ",null,5,"11.06.2016  ",null,3,"11.06.2016  ",null,6,"11.06.2016  ",null,3,"20.04.2017  ",null,6,"24.12.2016  ",null,5,"24.12.2016  ",null,4,"24.12.2016  ",null,6,"24.12.2016  ",null,3,"24.12.2016  ",null,3,"21.04.2017  ",null,6,"21.04.2017  ",null,3,"21.04.2017  ",null,4,"21.04.2017  ",null,5,"21.04.2017  ",null,6,"21.04.2017  ",null,6,"21.04.2017  ",null,5,"05.04.2016  ",null,5,"30.11.2017  ",null,4,"30.11.2017  ",null,4,"30.11.2017  ",null,4,"30.11.2017  ",null,5,"30.11.2017  ",null,5,"30.11.2017  ",null,5,"30.11.2017  ",null,3,"30.11.2017","Оптимизация кормосмеси для кур-несушек",6,"2018-06-07",7819542,4,"2018-06-07",78110074,4,"2018-06-07",7819514,4,"2018-06-07","Бухгалтерский баланс и бухгалтерская отчетность",4,"2018-06-07",7819557,5,"2018-06-07",7819711,4,"2018-06-07","Конкурентоспособность организации (предприятия)",5,"2018-06-07",7819720,4,"2018-06-07",7819517,4,"2018-06-07","Основные принципы проведения аудита",5,"05.04.2016  ",null,null,"  ",null,null,"  ",null,null,"  ",null,null,"  ",null,null,null,0,null,"  ",null,null,"  ",null,null,"  ",null,5,"п/зач 05.04.16",null,null,"  ",null,null,"  ",null,null,"  ",null,null,"  ",null,null,null,null,null,"  ",null,null,"  ",null,null,"  ",null,null,"  ",null,null,null,null,null,"  ",null,2.86,null,7,13,14,10,34,5688,711]
[22,"Одекова","Гульджахан ","Джумагельдыевна","Одекова Г. Д.",null,"Одековой","Гульджахан","Джумагельдыевне","1985-05-22","г. Ашхабад, Туркменистан","Республика Туркменистан","ж","Учебно-методический центр государственного комитета по туризму Туркменистана",2013,"замужем","Туркменистан  г.Ашхабад ул.Битарал, д. 526, кв. 16",null,null,null,null,null,null,null,"15817з","Экономический","38.03.01","Экономика","Бухгалтерский учет, анализ и аудит","4 года","БАКАЛАВР","2-585","2015-09-05","по договору с полным возмещением затрат","000003831","2015-08-15",null,null,null,null,null,null,null,null,null,null,null,null,null,null,null,"2-703","2017-09-01",null,null,null,null,null,null,null,null,null,null,null,null,null,null,null,null,null,null,null,null,null,null,null,null,null,4,"248z",4,"2018-06-07",78310135,6,"2018-06-07",78310110,5,"12.09.2016  ",null,6,"12.09.2016  ",null,6,"29.12.2017  ",null,4,"15.09.2016  ",null,4,"12.09.2016  ",null,5,"15.09.2016  ",null,4,"15.09.2016  ",null,6,"15.09.2016  ",null,4,"27.11.2017  ",null,6,"11.10.2017  ",null,null,"  ",null,3,"11.10.2017  ",null,6,"30.06.2017  ",null,5,"25.12.2017  ",null,3,"30.06.2017  ",null,null,"  ",null,3,"28.06.2017  ",null,3,"30.06.2017  ",null,4,"2018-07-03",982,6,"21.04.2017  ",null,6,"29.06.2017  ",null,4,"01.07.2017  ",null,null,"  ",null,null,"  ",null,3,"2018-09-19",45,3,"2018-09-25",56,null,"  ",null,null,"  ",null,3,"2018-09-19",43,3,"2018-09-19","Оптимизация структуры кормопроизводства",6,"2018-09-17","7839542-2",null,"  ",null,5,"2018-06-07",7839514,4,"2018-06-07","Бухгалтерские счета и двойная запись",null,"  ",null,null,"  ",null,null,null,null,null,"  ",null,5,"2018-06-07",7839517,4,"2018-06-07","Виды и организация аудиторской деятельности в РФ",4,"2018-08-31","СПК \"Знамя Труда-1\" Красносельского р-на Костромской обл.",null,null,null,null,null,null,null,null,null,null,null,null,null,null,null,null,null,null,null,null,null,null,null,null,3,"2018-09-20",50,null,null,null,null,null,null,null,null,null,null,null,null,null,null,null,null,null,null,null,null,null,null,null,null,null,null,null,null,null,null,null,null,null,1.84,null,9,10,5,9,24,4212,527]
[23,"Перминова","Ирина ","Дмитриевна","Перминова И. Д.",null,"Перминовой","Ирине","Дмитриевне","1996-07-01","г. Шарья Костромской обл.","РФ","ж","Костромская ГСХА СПО",2015,"не замужем","Костромская обл., г.  Шарья,  ул. Полярников, д. 42 ",null,null,null,null,null,null,null,"15852з","Экономический","38.03.01","Экономика","Бухгалтерский учет, анализ и аудит","4 года","БАКАЛАВР","2-557","2015-08-21","по договору с полным возмещением затрат","000003688","2015-08-14",null,null,null,null,null,null,null,null,null,null,null,null,null,"2-561","2016-09-01","2-703","2017-09-01",null,null,null,null,null,null,null,null,null,null,null,null,null,null,null,null,null,null,null,null,null,null,null,null,null,4,"246z",4,"2018-06-07",78110135,6,"2018-06-07",78110110,5,"11.06.2016  ",null,6,"11.06.2016  ",null,6,"11.06.2016  ",null,3,"11.06.2016  ",null,3,"11.06.2016  ",null,5,"11.06.2016  ",null,3,"11.06.2016  ",null,6,"11.06.2016  ",null,3,"24.12.2016  ",null,6,"24.12.2016  ",null,5,"24.12.2016  ",null,3,"17.11.2017  ",null,6,"24.12.2016  ",null,4,"21.04.2017  ",null,5,"21.04.2017  ",null,6,"21.04.2017  ",null,4,"21.04.2017  ",null,4,"21.04.2017  ",null,4,"21.04.2017  ",null,6,"21.04.2017  ",null,6,"21.04.2017  ",null,5,"05.04.2016  ",null,4,"30.11.2017  ",null,3,"30.11.2017  ",null,4,"30.11.2017  ",null,5,"30.11.2017  ",null,5,"30.11.2017  ",null,5,"30.11.2017  ",null,4,"30.11.2017  ",null,5,"30.11.2017","Оптимальная специализация и сочетание отраслей сельскохозяйственного предприятия",6,"2018-06-07",7819542,4,"2018-06-07",78110074,5,"2018-06-07",7819514,5,"2018-06-07","Учет расчетов с поставщиками и подрядчиками",4,"2018-06-07",7819557,5,"2018-06-07",7819711,null,null,null,4,"2018-06-07",7819720,5,"2018-06-07",7819517,5,"2018-06-07","Виды и организация аудиторской деятельности в РФ",4,"05.04.2016  ",null,null,"  ",null,null,"  ",null,null,"  ",null,null,"  ",null,null,null,0,null,"  ",null,null,"  ",null,null,"  ",null,4,"п/зач 05.04.16",null,null,"  ",null,null,"  ",null,null,"  ",null,null,"  ",null,null,null,null,null,"  ",null,null,"  ",null,null,"  ",null,null,"  ",null,null,null,null,null,"  ",null,2.8,null,6,13,14,10,33,5688,711]
[24,"Рязанова","Светлана ","Александровна","Рязанова С. А.",null,"Рязановой","Светлане","Александровне","1986-09-18","г. Ярославль","РФ","ж","Ярославский торгово-экономический техникум",2009,"не замужем","Ярославская обл г. Ярославль, ул.  Автозаводская  д. 87, А кв. 2",null,null,null,null,null,null,null,"15853з","Экономический","38.03.01","Экономика","Бухгалтерский учет, анализ и аудит","4 года","БАКАЛАВР","2-557","2015-08-21","по договору с полным возмещением затрат","000003612","2015-08-11",null,null,null,null,null,null,null,null,null,null,null,null,null,"2-561","2016-09-01","2-703","2017-09-01",null,null,null,null,null,null,null,null,null,null,null,null,null,null,null,null,null,null,null,null,null,null,null,null,null,4,"246z",3,"2018-06-07",78110135,6,"2018-06-07",78110110,4,"11.06.2016  ",null,6,"11.06.2016  ",null,6,"11.06.2016  ",null,3,"11.06.2016  ",null,3,"11.06.2016  ",null,4,"11.06.2016  ",null,4,"11.06.2016  ",null,6,"11.06.2016  ",null,4,"22.12.2016  ",null,6,"24.12.2016  ",null,4,"24.12.2016  ",null,3,"24.12.2016  ",null,6,"24.12.2016  ",null,3,"24.12.2016  ",null,4,"21.04.2017  ",null,6,"21.04.2017  ",null,4,"2018-04-21",null,4,"21.04.2017  ",null,5,"21.04.2017  ",null,6,"21.04.2017  ",null,6,"21.04.2017  ",null,4,"01.07.2017  ",null,4,"30.11.2017  ",null,4,"30.11.2017  ",null,3,"30.11.2017  ",null,4,"30.11.2017  ",null,4,"30.11.2017  ",null,5,"30.11.2017  ",null,3,"30.11.2017  ",null,4,"30.11.2017","Оптимальная специализация и сочетание отраслей сельскохозяйственного предприятия",6,"2018-06-07",7819542,4,"2018-06-07",78110074,4,"2018-06-07",7819514,4,"2018-06-07","Учет расчетов по кредитам и займам",4,"2018-06-07",7819557,5,"2018-06-07",7819711,null,null,null,5,"2018-06-07",7819720,4,"2018-06-07",7819517,null,null,null,4,"05.04.2016  ",null,null,"  ",null,null,"  ",null,null,"  ",null,null,"  ",null,null,null,0,null,"  ",null,null,"  ",null,null,"  ",null,4,"п/зач 05.04.16",null,null,"  ",null,null,"  ",null,null,"  ",null,null,"  ",null,null,null,null,null,"  ",null,null,"  ",null,null,"  ",null,null,"  ",null,null,null,null,null,"  ",null,2.5,null,7,21,4,10,32,5688,711]
[25,"Семёнова","Светлана","Александровна","Семёнова С. А.",null,"Семёновой","Светлане","Александровне","1988-09-23","дер. Дорофейцово Чухломского р-на Костромской обл.","РФ","ж","Костромской механико-технический техникум",2006,"не замужем","Костромская обл., Чухломский р-н,  с. Судай, ул.  Республиканская, д. 2 ",null,null,null,null,null,null,null,"15854з","Экономический","38.03.01","Экономика","Бухгалтерский учет, анализ и аудит","4 года","БАКАЛАВР","2-557","2015-08-21","по договору с полным возмещением затрат","000003514","2015-08-07",null,null,null,null,null,null,null,null,null,null,null,null,null,"2-561","2016-09-01","2-703","2017-09-01",null,null,null,null,null,null,null,null,null,null,null,null,null,null,null,null,null,null,null,null,null,null,null,null,null,4,"246z",5,"2018-06-07",78110135,6,"2018-06-07",78110110,3,"11.06.2016  ",null,6,"11.06.2016  ",null,6,"11.06.2016  ",null,3,"11.06.2016  ",null,3,"11.06.2016  ",null,5,"11.06.2016  ",null,3,"11.06.2016  ",null,6,"11.06.2016  ",null,5,"21.12.2016  ",null,6,"24.12.2016  ",null,5,"24.12.2016  ",null,3,"24.12.2016  ",null,6,"24.12.2016  ",null,5,"24.12.2016  ",null,3,"21.04.2017  ",null,6,"21.04.2017  ",null,4,"21.04.2017  ",null,4,"21.04.2017  ",null,4,"21.04.2017  ",null,6,"21.04.2017  ",null,6,"21.04.2017  ",null,5,"05.04.2016  ",null,5,"30.11.2017  ",null,3,"30.11.2017  ",null,4,"30.11.2017  ",null,5,"30.11.2017  ",null,4,"30.11.2017  ",null,5,"30.11.2017  ",null,5,"30.11.2017  ",null,5,"30.11.2017","Оптимальная специализация и сочетание отраслей сельскохозяйственного предприятия",6,"2018-06-07",7819542,5,"2018-06-07",78110074,5,"2018-06-07",7819514,5,"2018-06-07","Учет расчетов с персоналом по оплате труда",4,"2018-06-07",7819557,4,"2018-06-07",7819711,5,"2018-06-07","Персонал организации (предприятия) и пути\nповышения эффективности его использования",4,"2018-06-07",7819720,5,"2018-06-07",7819517,5,"2018-06-07","Организация аудита расчетов с персоналом по\nоплате труда",4,"05.04.2016  ",null,null,"  ",null,null,"  ",null,null,"  ",null,null,"  ",null,null,null,0,null,"  ",null,null,"  ",null,null,"  ",null,4,"п/зач 05.04.16",null,null,"  ",null,null,"  ",null,null,"  ",null,null,"  ",null,null,null,null,null,"  ",null,null,"  ",null,null,"  ",null,null,"  ",null,null,null,null,null,"  ",null,2.92,null,7,10,17,10,34,5688,711]
[26,"Смирнова","Анна ","Игоревна","Смирнова А. И.",null,"Смирновой","Анне","Игоревне","1983-08-31","г. Кострома","РФ","ж","Костромская ГСХА Ветеренария",2005,"не замужем","г. Кострома, мкр. Давыдовский-2,  д. 33, кв. 140",null,null,null,null,null,null,null,"15856з","Экономический","38.03.01","Экономика","Бухгалтерский учет, анализ и аудит","4 года","БАКАЛАВР","2-557","2015-08-21","по договору с полным возмещением затрат","000003595","2015-08-10",null,null,null,null,null,null,null,null,null,null,null,null,null,"2-561","2016-09-01","2-703","2017-09-01",null,null,null,null,null,null,null,null,null,null,null,null,null,null,null,null,null,null,null,null,null,null,null,null,null,4,"246z",5,"2018-06-07",78110135,6,"2018-06-07",78110110,5,"05.04.2016  ",null,6,"05.04.2016  ",null,6,"05.04.2016  ",null,5,"05.04.2016  ",null,5,"11.06.2016  ",null,4,"11.06.2016  ",null,4,"11.06.2016  ",null,6,"13.12.2016  ",null,5,"24.12.2016  ",null,6,"24.12.2016  ",null,5,"24.12.2016  ",null,5,"24.12.2016  ",null,6,"24.12.2016  ",null,5,"24.12.2016  ",null,5,"21.04.2017  ",null,6,"21.04.2017  ",null,4,"21.04.2017  ",null,5,"21.04.2017  ",null,4,"21.04.2017  ",null,6,"21.04.2017  ",null,6,"21.04.2017  ",null,4,"01.07.2017  ",null,5,"30.11.2017  ",null,5,"30.11.2017  ",null,5,"30.11.2017  ",null,5,"30.11.2017  ",null,5,"30.11.2017  ",null,5,"30.11.2017  ",null,5,"30.11.2017  ",null,5,"30.11.2017","Оптимизация структуры кормопроизводства сельскохозяйственного предприятия",6,"2018-06-07",7819542,4,"п/зач 05.04.16",null,5,"2018-06-07",7819514,5,"2018-06-07","Учет расчетов с дебиторами и кредиторами",5,"2018-06-07",7819557,5,"2018-06-07",7819711,5,"2018-06-07","Эффективность использования основных средств\nорганизации (предприятия)",5,"2018-06-07",7819720,5,"2018-06-07",7819517,5,"2018-06-07","Организация и осуществление внутреннего аудита",5,"2018-08-31","ООО \"Профэлектромонтаж\" г. Кострома",null,"  ",null,null,"  ",null,null,"  ",null,null,"  ",null,null,null,0,null,"  ",null,null,"  ",null,null,"  ",null,null,"  ",null,null,"  ",null,null,"  ",null,null,"  ",null,null,"  ",null,null,null,null,null,"  ",null,null,"  ",null,null,"  ",null,null,"  ",null,null,"  ",null,null,"  ",null,3.18,null,0,6,27,10,33,5688,711]
[27,"Смирнова ","Анастасия ","Анатольевна","Смирнова  А. А.",null,"Смирновой","Анастасии","Анатольевне","1995-01-20","г. Кострома","РФ","ж","Костромской торгово-экономический колледж",2014,"не замужем","г. Кострома, ул. Индустриальная, д. 61, кв. 20",null,null,null,null,null,null,null,"15855з","Экономический","38.03.01","Экономика","Бухгалтерский учет, анализ и аудит","4 года","БАКАЛАВР","2-557","2015-08-21","по договору с полным возмещением затрат","000003582","2015-08-10",null,null,null,null,null,null,null,null,null,null,null,null,null,"2-561","2016-09-01","2-703","2017-09-01",null,null,null,null,null,null,null,null,null,null,null,null,null,null,null,null,null,null,null,null,null,null,null,null,null,4,"246z",4,"2018-06-07",78110135,6,"2018-06-07",78110110,3,"11.06.2016  ",null,6,"11.06.2016  ",null,6,"11.06.2016  ",null,3,"08.12.2017  ",null,3,"11.06.2016  ",null,4,"11.06.2016  ",null,3,"11.06.2016  ",null,6,"11.06.2016  ",null,3,"24.12.2016  ",null,6,"24.12.2016  ",null,3,"24.12.2016  ",null,4,"24.12.2016  ",null,6,"24.12.2016  ",null,3,"24.12.2016  ",null,3,"21.04.2017  ",null,6,"21.04.2017  ",null,5,"21.04.2017  ",null,3,"21.04.2017  ",null,5,"21.04.2017  ",null,6,"21.04.2017  ",null,6,"21.04.2017  ",null,3,"05.04.2016  ",null,4,"30.11.2017  ",null,4,"30.11.2017  ",null,3,"30.11.2017  ",null,4,"30.11.2017  ",null,3,"30.11.2017  ",null,4,"30.11.2017  ",null,3,"30.11.2017  ",null,3,"30.11.2017","Оптимальная специализация и сочетание отраслей сельскохозяйственного предприятия",6,"2018-06-07",7819542,4,"2018-06-07",78110074,4,"2018-06-07",7819514,5,"2018-06-07","Бухгалтерская служба: права, обязанности и\nответственность бухгалтерских работников",4,"2018-06-07",7819557,5,"2018-06-07",7819711,3,"2018-06-07","Эффективность использования оборотных средств\nорганизации (предприятия)",4,"2018-06-07",7819720,4,"2018-06-07",7819517,4,"2018-06-07","Планирование аудита",3,"05.04.2016  ",null,null,"  ",null,null,"  ",null,null,"  ",null,null,"  ",null,null,null,0,null,"  ",null,null,"  ",null,null,"  ",null,3,"п/зач 05.04.16",null,null,"  ",null,null,"  ",null,null,"  ",null,null,"  ",null,null,null,null,null,"  ",null,null,"  ",null,null,"  ",null,null,"  ",null,null,null,null,null,"  ",null,2.46,null,17,13,4,10,34,5688,711]
[28,"Содикова (Бавыкина) ","Анастасия  ","Евгеньевна","Содикова (Бавыкина)  А. Е.",null,"Содиковой","Анастасии","Евгеньевне","1996-06-27","г. Кострома","РФ","ж","Костромская ГСХА СПО",2015,"замужем","г. Кострома, мкр Юбилейный,  д. 11, кв. 55",null,null,null,null,null,null,null,"15846з","Экономический","38.03.01","Экономика","Бухгалтерский учет, анализ и аудит","4 года","БАКАЛАВР","2-547","2015-08-17","в рамках контрольных цифр на основное место",null,null,null,null,null,null,null,null,null,null,null,null,null,null,null,"2-561","2016-09-01","2-703","2017-09-01",null,null,null,null,null,null,null,null,null,null,null,null,null,null,null,null,null,null,null,null,null,null,null,null,null,4,"246z",4,"2018-06-07",78110135,null,null,null,5,"11.06.2016  ",null,6,"11.06.2016  ",null,6,"11.06.2016  ",null,4,"11.06.2016  ",null,5,"11.06.2016  ",null,5,"11.06.2016  ",null,4,"11.06.2016  ",null,6,"11.06.2016  ",null,4,"24.12.2016  ",null,6,"24.12.2016  ",null,5,"24.12.2016  ",null,4,"24.12.2016  ",null,6,"24.12.2016  ",null,5,"24.12.2016  ",null,4,"21.04.2017  ",null,6,"21.04.2017  ",null,4,"21.04.2017  ",null,4,"21.04.2017  ",null,5,"21.04.2017  ",null,6,"21.04.2017  ",null,6,"21.04.2017  ",null,5,"05.04.2016  ",null,4,"30.11.2017  ",null,4,"30.11.2017  ",null,4,"30.11.2017  ",null,5,"30.11.2017  ",null,4,"30.11.2017  ",null,5,"30.11.2017  ",null,4,"30.11.2017  ",null,4,"30.11.2017","Оптимизация структуры кормопроизводства сельскохозяйственного предприятия",6,"2018-06-07",7819542,3,"2018-06-07",78110074,5,"2018-06-07",7819514,5,"2018-06-07","Учет готовой продукции",4,"2018-06-07",7819557,4,"2018-06-07",7819711,4,"2018-06-07","Эффективность переработки конкретного вида\nпродукции в ООО \"ККЗ\"",3,"2018-06-07",7819720,4,"2018-06-07",7819517,5,"2018-06-07","Организация аудита затрат, включаемых в\nсебестоимость продукции (по видам продукции)",4,"05.04.2016  ",null,null,"  ",null,null,"  ",null,null,"  ",null,null,"  ",null,null,null,0,null,"  ",null,null,"  ",null,null,"  ",null,5,"п/зач 05.04.16",null,null,"  ",null,null,"  ",null,null,"  ",null,null,"  ",null,null,null,null,null,"  ",null,null,"  ",null,null,"  ",null,null,"  ",null,null,null,null,null,"  ",null,2.94,null,2,19,13,9,34,5580,698]
[29,"Степанова","Мария ","Сергеевна","Степанова М. С.",null,"Степановой","Марии","Сергеевне","1996-08-26","г. Кемерово","РФ","ж","Костромской лесомеханический колледж",2015,"не замужем","Костромская обл., Сусанинский р-н,  пгт Сусанино, ул. Горная, д. 17 ",null,null,null,null,null,null,null,"15858з","Экономический","38.03.01","Экономика","Бухгалтерский учет, анализ и аудит","4 года","БАКАЛАВР","2-547","2015-08-17","в рамках контрольных цифр на основное место",null,null,null,null,null,null,null,null,null,null,null,null,null,null,null,"2-561","2016-09-01","2-703","2017-09-01",null,null,null,null,null,null,null,null,null,null,null,null,null,null,null,null,null,null,null,null,null,null,null,null,null,4,"246z",4,"2018-06-07",78110135,6,"2018-06-07",78110110,5,"11.06.2016  ",null,6,"11.06.2016  ",null,6,"11.06.2016  ",null,4,"11.06.2016  ",null,3,"11.06.2016  ",null,4,"11.06.2016  ",null,4,"19.12.2016  ",null,6,"11.06.2016  ",null,3,"24.12.2016  ",null,6,"24.12.2016  ",null,5,"24.12.2016  ",null,4,"24.12.2016  ",null,6,"24.12.2016  ",null,4,"24.12.2016  ",null,5,"21.04.2017  ",null,6,"21.04.2017  ",null,3,"21.04.2017  ",null,5,"21.04.2017  ",null,5,"21.04.2017  ",null,6,"21.04.2017  ",null,6,"21.04.2017  ",null,5,"05.04.2016  ",null,5,"30.11.2017  ",null,3,"30.11.2017  ",null,4,"30.11.2017  ",null,4,"30.11.2017  ",null,5,"30.11.2017  ",null,5,"30.11.2017  ",null,4,"30.11.2017  ",null,4,"30.11.2017","Оптимальная специализация и сочетание отраслей сельскохозяйственного предприятия",6,"2018-06-07",7819542,4,"2018-06-07",78110074,5,"2018-06-07",7819514,5,"2018-06-07","Учет расчетов по социальному страхованию и\nпенсионному обеспечению",4,"2018-06-07",7819557,5,"2018-06-07",7819711,4,"2018-06-07","Эффективность использования основных средств\nпредприятия на примере ПК Колхоз \"Сумароковский\"",5,"2018-06-07",7819720,4,"2018-06-07",7819517,4,"2018-06-07","Организация аудита расчетов с покупателями и\nзаказчиками",5,"05.04.2016  ",null,null,"  ",null,null,"  ",null,null,"  ",null,null,"  ",null,null,null,0,null,"  ",null,null,"  ",null,null,"  ",null,5,"п/зач 05.04.16",null,null,"  ",null,null,"  ",null,null,"  ",null,null,"  ",null,null,null,null,null,"  ",null,null,"  ",null,null,"  ",null,null,"  ",null,null,null,null,null,"  ",null,2.94,null,4,15,15,10,34,5688,711]
[30,"Фоминых","Екатерина ","Сергеевна","Фоминых Е. С.",null,"Фоминых","Екатерине","Сергеевне","1995-03-23","г. Шарья Костромской обл.","РФ","ж","Костромской торгово-экономический колледж",2015,"не замужем","г. Кострома, ул. Свердлова, д. 99, кв. 146",null,null,null,null,null,null,null,"15861з","Экономический","38.03.01","Экономика","Бухгалтерский учет, анализ и аудит","4 года","БАКАЛАВР","2-557","2015-08-21","по договору с полным возмещением затрат","000003521","2015-08-07",null,null,null,null,null,null,null,null,null,null,null,null,null,"2-561","2016-09-01","2-703","2017-09-01",null,null,null,null,null,null,null,null,null,null,null,null,null,null,null,null,null,null,null,null,null,null,null,null,null,4,"246z",4,"2018-06-07",78110135,6,"2018-06-07",78110110,5,"11.06.2016  ",null,6,"11.06.2016  ",null,6,"11.06.2016  ",null,4,"11.06.2016  ",null,3,"11.06.2016  ",null,5,"11.06.2016  ",null,3,"11.06.2016  ",null,6,"11.06.2016  ",null,4,"24.12.2016  ",null,6,"24.12.2016  ",null,5,"24.12.2016  ",null,4,"24.12.2016  ",null,6,"24.12.2016  ",null,4,"24.12.2016  ",null,4,"21.04.2017  ",null,6,"21.04.2017  ",null,4,"21.04.2017  ",null,4,"21.04.2017  ",null,5,"21.04.2017  ",null,6,"21.04.2017  ",null,6,"21.04.2017  ",null,5,"05.04.2016  ",null,4,"30.11.2017  ",null,4,"30.11.2017  ",null,4,"30.11.2017  ",null,4,"30.11.2017  ",null,4,"30.11.2017  ",null,5,"30.11.2017  ",null,4,"30.11.2017  ",null,3,"30.11.2017","Оптимизация структуры кормопроизводства сельскохозяйственного предприятия",6,"2018-06-07",7819542,4,"2018-06-07",78110074,4,"2018-06-07",7819514,5,"2018-06-07","Система нормативного регулирования\nбухгалтерского учета в России",4,"2018-06-07",7819557,5,"2018-06-07",7819711,4,"2018-06-07","Формирование и использование прибыли\nорганизации",5,"2018-06-07",7819720,4,"2018-06-07",7819517,5,"2018-06-07","Правовое регулирование аудиторской деятельности в\nРФ",5,"05.04.2016  ",null,null,"  ",null,null,"  ",null,null,"  ",null,null,"  ",null,null,null,0,null,"  ",null,null,"  ",null,null,"  ",null,5,"п/зач 05.04.16",null,null,"  ",null,null,"  ",null,null,"  ",null,null,"  ",null,null,null,null,null,"  ",null,null,"  ",null,null,"  ",null,null,"  ",null,null,null,null,null,"  ",null,2.9,null,3,19,12,10,34,5688,711]
[31,"Царёва","Марина ","Анатольевна","Царёва М. А.",null,"Царёвой","Марине","Анатольевне","1964-01-07","дер. Чекшино Галичского р-на Костромской обл.","РФ","ж","Буйский сельскохозяйственный техникум",1990,"не замужем","Костромская обл.,  г.  Галич,  ул. Поречье, д. 5 ",null,null,null,null,null,null,null,"15875з","Экономический","38.03.01","Экономика","Бухгалтерский учет, анализ и аудит","4 года","БАКАЛАВР","2-557","2015-08-21","по договору с полным возмещением затрат","000003464","2015-07-31",null,null,null,null,null,null,null,null,null,null,null,null,null,"2-561","2016-09-01","2-703","2017-09-01",null,null,null,null,null,null,null,null,null,null,null,null,null,null,null,null,null,null,null,null,null,null,null,null,null,4,"248z",4,"2018-06-07",78310135,6,"2018-06-07",78310110,5,"11.06.2016  ",null,6,"11.06.2016  ",null,6,"11.06.2016  ",null,3,"11.06.2016  ",null,5,"11.06.2016  ",null,5,"11.06.2016  ",null,3,"11.06.2016  ",null,6,"11.06.2016  ",null,4,"24.12.2016  ",null,6,"24.12.2016  ",null,4,"24.12.2016  ",null,4,"24.12.2016  ",null,6,"24.12.2016  ",null,5,"30.06.2017  ",null,5,"21.04.2017  ",null,6,"21.04.2017  ",null,5,"21.04.2017  ",null,4,"21.04.2017  ",null,5,"21.04.2017  ",null,6,"21.04.2017  ",null,6,"21.04.2017  ",null,4,"01.07.2017  ",null,5,"2017-11-30","   Z-7839490",4,"2017-11-30","   Z-7839489",3,"2017-11-30","    Z-7839538",4,"2017-11-30","   Z-7839536",5,"2017-11-30","  Z-7839556",null,"  ",null,4,"2017-11-30","  Z-7839543",4,"30.11.2017","Определение оптимальной внутрихозяйственной специализации предприятий СПК \"Михали Нейского района Костромской области",6,"2018-06-07",7839542,4,"2018-06-07",78310074,5,"2018-06-07",7839514,4,"2018-06-07","Бухгалтерская служба: права, обязанности и\nответственность бухгалтерских работников",5,"2018-06-07",7839557,5,"2018-06-07",7839711,3,"2018-06-07","Эффективность использования земельных ресурсов\nСПК «МАЯК Галичского района»",5,"2018-06-07",7839720,5,"2018-06-07",7839517,4,"2018-06-07","Организация и осуществление внутреннего аудита",4,"05.04.2016  ",null,null,"  ",null,null,"  ",null,null,"  ",null,null,"  ",null,null,null,0,null,"  ",null,null,"  ",null,null,"  ",null,null,"  ",null,null,"  ",null,null,"  ",null,null,"  ",null,null,"  ",null,null,null,null,null,"  ",null,null,"  ",null,null,"  ",null,null,"  ",null,null,"  ",null,null,"  ",null,2.76,null,4,14,14,10,32,5544,693]
[32,"Чернова ","Ирина","Валерьевна","Чернова  И. В.",null,"Черновой","Ирине","Валерьевне","1997-08-27","дер. Захарово Красносельского р-на Костромской обл.","РФ","ж","Костромской лесомеханический колледж",2015,"не замужем","Костромская обл., Красносельский р-н,  пгт Красное-на-Волге, ул. Молодежная, д. 30 ",null,null,null,null,null,null,null,"15862з","Экономический","38.03.01","Экономика","Бухгалтерский учет, анализ и аудит","4 года","БАКАЛАВР","2-557","2015-08-21","по договору с полным возмещением затрат","000003492","2015-08-05",null,null,null,null,null,null,null,null,"2-565","2018-06-25","по семейным обстоятельствам",null,null,"2-561","2016-09-01",null,null,null,null,null,null,null,null,null,null,null,null,null,null,null,null,null,null,null,null,null,null,null,null,null,null,null,3,"АО",null,null,null,6,"2018-06-07",78110110,3,"11.06.2016  ",null,6,"11.06.2016  ",null,6,"11.06.2016  ",null,null,"  ",null,null,"  ",null,3,"11.06.2016  ",null,3,"11.06.2016  ",null,6,"11.06.2016  ",null,null,"  ",null,6,"24.12.2016  ",null,3,"24.12.2016  ",null,null,"  ",null,null,"  ",null,3,"2018-04-20",710,null,"  ",null,null,"  ",null,null,"  ",null,3,"21.04.2017  ",null,null,"  ",null,6,"21.04.2017  ",null,6,"21.04.2017  ",null,4,"05.04.2016  ",null,3,"30.11.2017  ",null,3,"30.11.2017  ",null,null,"  ",null,null,"  ",null,null,"  ",null,4,"30.11.2017  ",null,null,"  ",null,null,null,null,6,"2018-06-07",7819542,null,"  ",null,4,"2018-06-07",7819514,4,"2018-06-07","Основные направления и перспективы развития\nбухгалтерского учета в РФ",4,"2018-06-07",7819557,4,"2018-06-07",7819711,null,null,null,3,"2018-06-07",7819720,4,"2018-06-07",7819517,null,null,null,4,"05.04.2016  ",null,null,"  ",null,null,"  ",null,null,"  ",null,null,"  ",null,null,null,0,null,"  ",null,null,"  ",null,null,"  ",null,4,"п/зач 05.04.16",null,null,"  ",null,null,"  ",null,null,"  ",null,null,"  ",null,null,null,null,null,"  ",null,null,"  ",null,null,"  ",null,null,"  ",null,4,"05.04.2016  ",null,null,"  ",null,1.34,null,9,10,0,8,19,3096,387]
[33,"Яблокова","Анастасия ","Алексеевна","Яблокова А. А.",null,"Яблоковой","Анастасии","Алексеевне","1996-06-24","г. Кострома","РФ","ж","Костромской торгово-экономический колледж",2015,"не замужем","г. Кострома, ул. Центральная, д. 50, кв. 409",null,null,null,null,null,null,null,"15864з","Экономический","38.03.01","Экономика","Бухгалтерский учет, анализ и аудит","4 года","БАКАЛАВР","2-557","2015-08-21","по договору с полным возмещением затрат","000003546","2015-08-10",null,null,null,null,null,null,null,null,null,null,null,null,null,"2-561","2016-09-01","2-703","2017-09-01",null,null,null,null,null,null,null,null,null,null,null,null,null,null,null,null,null,null,null,null,null,null,null,null,null,4,"246z",5,"2018-06-07",78110135,6,"2018-06-07",78110110,4,"11.06.2016  ",null,6,"11.06.2016  ",null,6,"11.06.2016  ",null,4,"11.06.2016  ",null,5,"11.06.2016  ",null,5,"11.06.2016  ",null,3,"11.06.2016  ",null,6,"11.06.2016  ",null,4,"24.12.2016  ",null,6,"24.12.2016  ",null,5,"24.12.2016  ",null,4,"24.12.2016  ",null,6,"24.12.2016  ",null,5,"24.12.2016  ",null,5,"21.04.2017  ",null,6,"21.04.2017  ",null,5,"21.04.2017  ",null,4,"21.04.2017  ",null,5,"21.04.2017  ",null,6,"21.04.2017  ",null,6,"21.04.2017  ",null,5,"05.04.2016  ",null,5,"30.11.2017  ",null,3,"30.11.2017  ",null,4,"30.11.2017  ",null,4,"30.11.2017  ",null,5,"30.11.2017  ",null,5,"30.11.2017  ",null,5,"30.11.2017  ",null,5,"30.11.2017","Оптимальная специализация и сочетание отраслей сельскохозяйственного предприятия",6,"2018-06-07",7819542,5,"2018-06-07",78110074,4,"2018-06-07",7819514,5,"2018-06-07","Основы организации и ведения бухгалтерского учета\nна предприятиях",5,"2018-06-07",7819557,5,"2018-06-07",7819711,5,"2018-06-07","Формирование и использование прибыли\nорганизации (предприятия)",4,"2018-06-07",7819720,5,"2018-06-07",7819517,5,"2018-06-07","Организация аудита готовой продукции",5,"05.04.2016  ",null,null,"  ",null,null,"  ",null,null,"  ",null,null,"  ",null,null,null,0,null,"  ",null,null,"  ",null,null,"  ",null,5,"п/зач 05.04.16",null,null,"  ",null,null,"  ",null,null,"  ",null,null,"  ",null,null,null,null,null,"  ",null,null,"  ",null,null,"  ",null,null,"  ",null,null,null,null,null,"  ",null,3.14,null,2,9,23,10,34,5688,711]
[34,"Меркулова ","Любовь","Михайловна","Меркулова  Л. М.",null,"Меркуловой","Анастасии","Михайловне","1983-05-06","д. Ивановское Красносельского р-на Костромской обл.","РФ","ж","ГОУ ВПО \"Костромской государственный университет им. Некрасова\"",2006,"не замужем","Костромская обл., Красносельский р-н, д. Ивановское, ул. Речная, д. 7",null,null,null,null,null,null,null,13952,"Экономический","38.03.01","Экономика","Бухгалтерский учет, анализ и аудит","5 года","БАКАЛАВР","2-636","2013-10-16","по договору с полным возмещением затрат","000001464","2013-08-30",null,null,"2-491","2017-06-06","В связи с невыполнением учебного плана",null,null,null,"2-339","2018-05-03","по семейным обстоятельствам","2018-04-28","2019-04-27","2-532","2014-09-01","2-571","2015-09-01","2-402","2017-05-18",null,null,null,null,null,null,null,null,null,null,null,null,null,null,"Организация бухгалтерского учета расчетов с персоналом по оплате труда и анализ использования трудовых ресурсов в ООО «Компания «Хома» г. Кострома",null,null,null,null,null,null,null,null,4,"АО",null,null,null,null,null,null,4,"2014-05-30",null,6,"2014-05-29",null,6,"2014-05-30",null,3,"2014-06-09",null,3,"2014-06-05",null,5,"2014-06-02",null,3,"2014-06-07",null,null,null,null,4,"2014-12-16",null,6,"2014-12-23",null,3,"2014-12-29",null,3,"2015-11-19",null,6,"2014-12-19",null,3,"2014-12-25",null,3,"2015-04-22",null,6,"2015-12-04",null,3,"2015-04-21",null,3,"2015-04-23",null,3,"2015-12-11",null,6,"2014-05-21",null,null,null,null,4,"2015-07-04","ФГБОУ ВО Костромская ГСХА, кафедра \"Экономическая кибернетика\"",3,"2015-11-28",null,5,"2015-11-19",null,3,"2017-01-25",null,3,"2015-11-25",null,null,null,null,3,"2015-11-21",null,3,"2015-12-02",null,5,"2017-05-24","Определение специализации сельскохозяйственного предприятия",6,"2017-05-18",null,3,"2017-04-07",null,null,null,null,null,null,null,3,"2016-10-12",null,3,"2017-05-25",null,null,null,null,3,"2017-05-18",null,null,null,null,null,null,null,null,null,"ООО \"Мечта\" Костромского р-на Костромской обл.",3,"2016-10-12",null,3,"2016-10-11",null,3,"2016-10-12",null,null,null,null,null,null,null,3,"2016-10-12",null,3,"2017-05-18",null,6,"2016-10-17",null,null,null,null,3,"2017-02-04",null,6,"2017-02-04",null,6,"2017-02-04",null,3,"2017-04-03",null,null,null,null,3,"2017-02-04",null,5,"2017-02-04",null,6,"2017-04-21",null,4,"2017-05-24",null,null,null,null,null,null,null,{"$f":"(JL39*3+JM39*4+JN39*5)/50","v":2.34},null,{"$f":"COUNTIF(CC39:JG39,3)","v":27},{"$f":"COUNTIF(CC39:JG39,4)","v":4},{"$f":"COUNTIF(CC39:JG39,5)","v":4},{"$f":"COUNTIF(CC39:JG39,6)","v":11},{"$f":"SUM(JL39:JN39)","v":35},{"$f":"SUMIF(CC39:JG39,\">0\",$CC$3:$JG$3)","v":6768},{"$f":"INT(JQ39/8+0.5)","v":846}]

{"sheet":"форма","index":2,"n_rows":199,"n_cols":27,"rows_kept":199,"cut":false,"hidden":false,"merged":[[3,25,5,26],[47,1,47,4],[47,6,47,7],[48,1,48,4],[48,6,48,7],[49,1,49,4],[49,6,49,7],[64,1,64,2],[65,1,65,2],[66,1,66,2],[67,1,67,2],[51,1,51,7],[58,1,58,2],[59,1,59,2],[60,1,60,2],[61,1,61,2],[62,1,62,2],[63,1,63,2],[68,1,68,2],[69,1,69,2],[70,1,70,2],[71,1,71,2],[72,1,72,2],[73,1,73,2],[74,1,74,2],[75,1,75,2],[76,1,76,2],[77,1,77,2],[78,1,78,2],[79,1,79,2],[80,1,80,2],[81,1,81,2],[82,1,82,2],[83,1,83,2],[84,1,84,2],[85,1,85,2],[86,1,86,2],[87,1,87,2],[88,1,88,2],[89,1,89,2],[90,1,90,2],[91,1,91,2],[92,1,92,2],[93,1,93,2],[94,1,94,2],[95,1,95,2],[96,1,96,2],[97,1,97,2],[98,1,98,2],[99,1,99,2],[100,1,100,2],[101,1,101,2],[102,1,102,2],[103,1,103,2],[104,1,104,2],[105,1,105,2],[106,1,106,2],[107,1,107,2],[108,1,108,2],[109,1,109,2],[110,1,110,2],[111,1,111,2],[112,1,112,2],[113,1,113,2],[114,1,114,2],[115,1,115,2],[116,1,116,2],[117,1,117,2],[118,1,118,2],[119,1,119,2],[120,1,120,2],[121,1,121,2],[122,1,122,2],[123,1,123,2],[124,1,124,2],[125,1,125,2],[126,1,126,2],[127,1,127,2],[128,1,128,2],[129,1,129,2],[130,1,130,2],[131,1,131,2],[132,1,132,2],[133,1,133,2],[134,1,134,2],[135,1,135,2],[136,1,136,2],[137,1,137,2],[138,1,138,2],[139,1,139,2],[140,1,140,2],[141,1,141,2],[142,1,142,2],[143,1,143,2],[144,1,144,2],[145,1,145,2],[146,1,146,2],[147,1,147,2],[148,1,148,2],[149,1,149,2],[150,1,150,2],[151,1,151,2],[152,1,152,2],[153,1,153,2],[154,1,154,2],[155,1,155,2],[156,1,156,2],[157,1,157,2],[158,1,158,2],[161,2,161,4],[161,6,161,7],[162,2,162,4],[162,6,162,7],[163,2,163,4],[163,6,163,7],[164,2,164,4],[164,6,164,7],[165,2,165,4],[165,6,165,7],[166,2,166,4],[166,6,166,7],[167,2,167,4],[167,6,167,7],[168,2,168,4],[168,6,168,7],[169,2,169,4],[169,6,169,7],[170,2,170,4],[170,6,170,7],[171,2,171,4],[171,6,171,7],[172,2,172,4],[172,6,172,7],[173,2,173,4],[173,6,173,7],[174,2,174,4],[174,6,174,7],[175,2,175,4],[175,6,175,7],[176,2,176,4],[176,6,176,7],[177,2,177,4],[177,6,177,7],[178,2,178,4],[178,6,178,7],[179,2,179,4],[179,6,179,7],[180,2,180,4],[180,6,180,7],[181,2,181,4],[181,6,181,7],[184,2,184,3],[184,6,184,7],[185,2,185,3],[185,6,185,7],[186,2,186,3],[186,6,186,7],[187,2,187,3],[187,6,187,7],[188,2,188,3],[188,6,188,7],[189,2,189,3],[189,6,189,7],[193,2,193,3],[193,6,193,7],[194,2,194,3],[194,6,194,7],[190,2,190,3],[190,6,190,7],[191,2,191,3],[191,6,191,7],[192,2,192,3],[192,6,192,7]]}
["Федеральное государственное бюджетное образовательное учреждения высшего  образования",null,null,null,null,null,null,null,30,null,null,null,null,null,null,"января",null,null,null,null,null,null,null,null,null,"Папка","C:\\5\\"]
[" «Костромская государственная сельскохозяйственная академия»",null,null,null,null,null,null,null,null,{"$f":"IF(J3=\"Экономический\",деканаты!F2,IF(J3=\"Архитектурно-строительный\",деканаты!F3,IF(J3=\"Агробизнеса\",деканаты!F4,IF(J3=\"Ветеринарной медицины и зоотехнии\",деканаты!F5,IF(J3=\"Инженерно-технологический\",деканаты!F6,IF(J3=\"Электроэнергетический\",деканаты!F7,0))))))","v":"И.о. декана"},null,null,null,null,null,"февраля",null,null,null,null,null,null,null,null,null,"Имя файла",{"$f":"CONCATENATE(R11,\"_\",\"УК_\",S25)","v":"15861з_УК_2015"}]
[null,{"$f":"J3","v":"Экономический"},null,null,null,null,null,null,null,{"$f":"INDEX(Предметы!$B$6:$JR$42,$I1,25)","v":"Экономический"},null,null,null,"Удовлетворительно","Удовлет.","марта",null,null,null,null,null,null,null,null,null,null,{"$f":"NOW()","v":"2018-09-26T14:55:40.600"}]
[null,"Факультет",null,null,null,null,null,null,null,null,null,null,null,"Хорошо","Хорошо","апреля",null,null,null,null,null,null,null,null,null,"- сохранить карточку в PDF"]
[null,{"$f":"CONCATENATE(J5,\" \",K5)","v":"38.03.01 Экономика"},null,null,null,null,null,null,null,{"$f":"INDEX(Предметы!$B$6:$JR$42,$I1,26)","v":"38.03.01"},{"$f":"INDEX(Предметы!$B$6:$JR$42,$I1,27)","v":"Экономика"},null,null,"Отлично","Отлично","мая"]
[null,"Направление",null,null,null,null,null,null,null,null,null,null,null,"Зачет","Зачет","июня"]
[null,{"$f":"J7","v":"Бухгалтерский учет, анализ и аудит"},null,null,null,null,null,null,null,{"$f":"INDEX(Предметы!$B$6:$JR$42,$I1,28)","v":"Бухгалтерский учет, анализ и аудит"},null,null,null,null,null,"июля"]
[null,"Профиль",null,null,null,null,null,null,null,null,null,null,null,null,null,"августа"]
["Учебная  карточка  студента",null,null,null,null,null,null,null,null,null,null,null,null,null,null,"сентября"]
[null,null,null,null,null,null,"Личное  дело №",null,null,null,null,null,null,null,null,"октября"]
[1,{"$f":"CONCATENATE(J11,\" \",K11,\" \",L11)","v":"Фоминых Екатерина  Сергеевна"},null,null,null,null,null,null,1,{"$f":"INDEX(Предметы!$B$6:$JR$42,$I1,1)","v":"Фоминых"},{"$f":"INDEX(Предметы!$B$6:$JR$42,$I1,2)","v":"Екатерина "},{"$f":"INDEX(Предметы!$B$6:$JR$42,$I1,3)","v":"Сергеевна"},{"$f":"INDEX(Предметы!$B$6:$JR$42,$I1,12)","v":"ж"},{"$f":"IF(M11=\"м\",\"\",\"а\")","v":"а"},null,"ноября",null,{"$f":"INDEX(Предметы!$B$6:$JR$42,$I1,24)","v":"15861з"}]
[null,"Фамилия, имя, отчество",null,null,null,null,null,null,1,null,null,null,null,null,null,"декабря"]
[{"$f":"A11+1","v":2},{"$f":"CONCATENATE(L13,\" \",O13,\" \",M13)","v":"23 марта 1995"},null,null,null,null,null,null,1,{"$f":"INDEX(Предметы!$B$6:$JR$42,$I1,9)","v":34781},{"$f":"TEXT(J13,\"ДД ММММ ГГГГ\")","v":"23 Март 1995"},{"$f":"TEXT(J13,\"ДД\")","v":"23"},{"$f":"TEXT(J13,\"ГГГГ\")","v":"1995"},{"$f":"VALUE(TEXT(J13,\"М\"))","v":3},{"$f":"CHOOSE(N13,$P$1,$P$2,$P$3,$P$4,$P$5,$P$6,P7,P8,P9,P10,P11,P12)","v":"марта"}]
[null,"Год и месяц рождения",null,null,null,null,null,null,1]
[{"$f":"A13+1","v":3},{"$f":"J15","v":"г. Шарья Костромской обл."},null,null,null,null,null,null,1,{"$f":"INDEX(Предметы!$B$6:$JR$42,$I1,10)","v":"г. Шарья Костромской обл."}]
[null,"Место рождения",null,null,null,null,null,null,1]
[{"$f":"A15+1","v":4},{"$f":"J17","v":"РФ"},null,null,null,null,null,null,1,{"$f":"INDEX(Предметы!$B$6:$JR$42,$I1,11)","v":"РФ"}]
[null,"Гражданство",null,null,null,null,null,null,1]
[{"$f":"A17+1","v":5},{"$f":"J19","v":"Костромской торгово-экономический колледж"},null,null,null,null,"  год окончания  ",{"$f":"K19","v":2015},1,{"$f":"INDEX(Предметы!$B$6:$JR$42,$I1,13)","v":"Костромской торгово-экономический колледж"},{"$f":"INDEX(Предметы!$B$6:$JR$42,$I1,14)","v":2015}]
[null,"Что окончил (а)",null,null,null,null,null,null,1]
[{"$f":"A19+1","v":6},{"$f":"J21","v":"не замужем"},null,null,null,null,null,null,1,{"$f":"INDEX(Предметы!$B$6:$JR$42,$I1,15)","v":"не замужем"}]
[null,"Семейное положение",null,null,null,null,null,null,1]
[{"$f":"A21+1","v":7},{"$f":"J23","v":"г. Кострома, ул. Свердлова, д. 99, кв. 146"},null,null,null,null,null,null,null,{"$f":"INDEX(Предметы!$B$6:$JR$42,$I1,16)","v":"г. Кострома, ул. Свердлова, д. 99, кв. 146"}]
[null,"Адрес местожительства"]
[{"$f":"A23+1","v":8},{"$f":"CONCATENATE(\"Зачислен\",N11,\" в вуз приказ № \",J25,\"   от  \",L25,\"\")","v":"Зачислена в вуз приказ № 2-557   от  21.08.2015"},null,null,null,null,null,null,1,{"$f":"INDEX(Предметы!$B$6:$JR$42,$I1,31)","v":"2-557"},{"$f":"INDEX(Предметы!$B$6:$JR$42,$I1,32)","v":42237},{"$f":"TEXT(K25,\"ДД.ММ.ГГГГ\")","v":"21.08.2015"},null,null,null,null,null,null,{"$f":"TEXT(K25,\"ГГГГ\")","v":"2015"}]
[null,{"$f":"CONCATENATE(J26,M26)","v":"по договору с полным возмещением затрат   договор № 000003521 от 07 08 2015"},null,null,null,null,null,null,1,{"$f":"INDEX(Предметы!$B$6:$JR$42,$I1,33)","v":"по договору с полным возмещением затрат"},{"$f":"INDEX(Предметы!$B$6:$JR$42,$I1,34)","v":"000003521"},{"$f":"INDEX(Предметы!$B$6:$JR$42,$I1,35)","v":42223},{"$f":"IF(K26=0,\"\",CONCATENATE(\"   договор № \",K26,\" от \",TEXT(L26,\"ДД ММ ГГГГ\") ))","v":"   договор № 000003521 от 07 08 2015"}]
[{"$f":"A25+I25","v":9},{"$f":"CONCATENATE(\"Трудовая  книжка \",M27)","v":"Трудовая  книжка "},null,null,null,null,null,null,{"$f":"IF(J27=0,0,1)","v":0},{"$f":"INDEX(Предметы!$B$6:$JR$42,$I1,17)","v":0},{"$error":"#REF!"},{"$error":"#REF!"},{"$f":"IF(J27=0,\"\",CONCATENATE(\"  № \",J27,\"  дата выдачи \",TEXT(K27,\"ДД.ММ.ГГГГ\"),\"  выдана \",L27))","v":""}]
[null,null,null,null,null,null,null,null,{"$f":"I27","v":0}]
[{"$f":"A27+I27","v":9},{"$f":"CONCATENATE(\"Отчислен\",N11,\" \",M29)","v":"Отчислена "},null,null,null,null,null,null,{"$f":"IF(J29=0,0,1)","v":0},{"$f":"INDEX(Предметы!$B$6:$JR$42,$I1,38)","v":0},{"$f":"INDEX(Предметы!$B$6:$JR$42,$I1,39)","v":0},{"$f":"INDEX(Предметы!$B$6:$JR$42,$I1,40)","v":0},{"$f":"IF(J29=0,\"\",CONCATENATE(\"  приказ №  \",J29,\"  от \",TEXT(K29,\"ДД.ММ.ГГГГ\"),\"   \",IF(L29=0,\"\",L29)))","v":""}]
[]
[{"$f":"A29+I29","v":9},{"$f":"CONCATENATE(\"Востановлен\",N11,\" \",M31)","v":"Востановлена "},null,null,null,null,null,null,{"$f":"IF(J31=0,0,1)","v":0},{"$f":"INDEX(Предметы!$B$6:$JR$42,$I$1,41)","v":0},{"$f":"INDEX(Предметы!$B$6:$JR$42,$I$1,42)","v":0},{"$f":"INDEX(Предметы!$B$6:$JR$42,$I$1,43)","v":0},{"$f":"IF(J31=0,\"\",CONCATENATE(\"  приказ №  \",J31,\"  от \",TEXT(K31,\"ДД.ММ.ГГГГ\"),\"   \",IF(L31=0,\"\",L31)))","v":""}]
[null,null,null,null,null,null,null,null,{"$f":"I31","v":0}]
[{"$f":"A31+I31","v":9},{"$f":"CONCATENATE(\"Предоставлен длительный отпуск\",O33)","v":"Предоставлен длительный отпуск"},null,null,null,null,null,null,{"$f":"IF(J33=0,0,1)","v":0},{"$f":"INDEX(Предметы!$B$6:$JR$42,$I1,44)","v":0},{"$f":"INDEX(Предметы!$B$6:$JR$42,$I1,45)","v":0},{"$f":"INDEX(Предметы!$B$6:$JR$42,$I1,46)","v":0},{"$f":"INDEX(Предметы!$B$6:$JR$42,$I1,47)","v":0},{"$f":"INDEX(Предметы!$B$6:$JR$42,$I1,48)","v":0},{"$f":"IF(J33=0,\"\",CONCATENATE(\" сроком на \",IF(N34=0,\"____\",N34),O34,\"     приказ № \",J33,\" от \",J34))","v":""}]
[null,{"$f":"L33","v":0},null,{"$f":"IF(J33=0,\"\",CONCATENATE(\"с \",K34,\" по \",L34))","v":""},null,null,null,null,{"$f":"I33","v":0},{"$f":"TEXT(K33,\"ДД.ММ.ГГГГ\")","v":"00.01.1900"},{"$f":"TEXT(M33,\"ДД.ММ.ГГГГ\")","v":"00.01.1900"},{"$f":"TEXT(N33,\"ДД.ММ.ГГГГ\")","v":"00.01.1900"},{"$f":"N33-M33+182","v":182},{"$f":"INT(M34/365+0.1)","v":0},{"$f":"IF(N34=1,\" год\",\" года\")","v":" года"}]
[{"$f":"A33+I33","v":9},{"$f":"CONCATENATE(\"Переведен\",N11,M35)","v":"Переведена на 2 курс приказ № 2-561   от  01.09.2016"},null,null,null,null,null,null,1,{"$f":"INDEX(Предметы!$B$6:$JR$42,$I1,49)","v":"2-561"},{"$f":"INDEX(Предметы!$B$6:$JR$42,$I1,50)","v":42614},{"$f":"TEXT(K35,\"ДД.ММ.ГГГГ\")","v":"01.09.2016"},{"$f":"IF(J35=0,\"\",CONCATENATE(\" на 2 курс приказ № \",J35,\"   от  \",L35,\"\"))","v":" на 2 курс приказ № 2-561   от  01.09.2016"}]
[]
[{"$f":"A35+I35","v":10},{"$f":"CONCATENATE(\"Переведен\",N11,M37)","v":"Переведена на 3 курс приказ № 2-703   от  01.09.2017"},null,null,null,null,null,null,1,{"$f":"INDEX(Предметы!$B$6:$JR$42,$I1,51)","v":"2-703"},{"$f":"INDEX(Предметы!$B$6:$JR$42,$I1,52)","v":42979},{"$f":"TEXT(K37,\"ДД.ММ.ГГГГ\")","v":"01.09.2017"},{"$f":"IF(J37=0,\"\",CONCATENATE(\" на 3 курс приказ № \",J37,\"   от  \",L37,\"\"))","v":" на 3 курс приказ № 2-703   от  01.09.2017"}]
[]
[{"$f":"A37+I37","v":11},{"$f":"CONCATENATE(\"Переведен\",N11,M39)","v":"Переведена"},null,null,null,null,null,null,1,{"$f":"INDEX(Предметы!$B$6:$JR$42,$I1,53)","v":0},{"$f":"INDEX(Предметы!$B$6:$JR$42,$I1,54)","v":0},{"$f":"TEXT(K39,\"ДД.ММ.ГГГГ\")","v":"00.01.1900"},{"$f":"IF(J39=0,\"\",CONCATENATE(\" на 4 курс приказ № \",J39,\"   от  \",L39,\"\"))","v":""}]
[]
[{"$f":"A39+I39","v":12},{"$f":"CONCATENATE(\"Переведен\",N11,M41)","v":"Переведена"},null,null,null,null,null,null,1,{"$f":"INDEX(Предметы!$B$6:$JR$42,$I1,55)","v":0},{"$f":"INDEX(Предметы!$B$6:$JR$42,$I1,56)","v":0},{"$f":"TEXT(K41,\"ДД.ММ.ГГГГ\")","v":"00.01.1900"},{"$f":"IF(J41=0,\"\",CONCATENATE(\" на 5 курс приказ № \",J41,\"   от  \",L41,\"\"))","v":""}]
[null,null,null,null,null,null,null,null,1]
[{"$f":"A41+I41","v":13},{"$f":"CONCATENATE(\"Сдано за весь срок обучения \",N43,\" предметов, средний балл  \",O43)","v":"Сдано за весь срок обучения 34 предметов, средний балл  2,9"},null,null,null,null,null,null,1,{"$f":"INDEX(Предметы!$B$6:$JR$42,$I1,271)","v":3},{"$f":"INDEX(Предметы!$B$6:$JR$42,$I1,272)","v":19},{"$f":"INDEX(Предметы!$B$6:$JR$42,$I1,273)","v":12},{"$f":"INDEX(Предметы!$B$6:$JR$42,$I1,274)","v":10},{"$f":"INDEX(Предметы!$B$6:$JR$42,$I1,275)","v":34},{"$f":"INDEX(Предметы!$B$6:$JR$42,$I1,269)","v":2.9}]
[null,{"$f":"CONCATENATE(\"  из них: отлично - \",L44,\";  хорошо - \",K44,\"; удовлетворительно - \",J44)","v":"  из них: отлично - 12;  хорошо - 19; удовлетворительно - 3"},null,null,null,null,null,null,1,{"$f":"IF(J43=0,\"нет\",J43)","v":3},{"$f":"IF(K43=0,\"нет\",K43)","v":19},{"$f":"IF(L43=0,\"нет\",L43)","v":12},{"$f":"IF(M43=0,\"нет\",M43)","v":10}]
[{"$f":"A43+I43","v":14},{"$f":"CONCATENATE(\"Допущен\",N11,\" к защите выпускной квалификационной работы \",M45)","v":"Допущена к защите выпускной квалификационной работы "},null,null,null,null,null,null,1,{"$f":"INDEX(Предметы!$B$6:$JR$42,$I1,61)","v":0},{"$f":"INDEX(Предметы!$B$6:$JR$42,$I1,62)","v":0},{"$f":"TEXT(K45,\"ДД.ММ.ГГГГ\")","v":"00.01.1900"},{"$f":"IF(J45=0,\"\",CONCATENATE(\"  приказ №  \",J45,\"  от \",L45))","v":""}]
[null,null,null,null,null,null,null,null,1]
[{"$f":"A45+I45","v":15},"Итоговый экзамен:",null,null,null,null,null,null,1]
["№","Название дисциплины",null,null,null,"Дата сдачи экзамена","Экзаменационная  оценка",null,1]
[{"$f":"IF(B49=0,\"\",1)","v":1},{"$f":"IF(J49=0,\"\",J49)","v":""},null,null,null,{"$f":"IF(K49=0,\"\",TEXT(K49,\"ДД.ММ.ГГГГ\"))","v":""},{"$f":"IF(L49=0,\"\",M49)","v":""},null,{"$f":"IF(J49=0,0,1)","v":0},{"$f":"INDEX(Предметы!$B$6:$JR$42,$I1,63)","v":0},{"$f":"INDEX(Предметы!$B$6:$JR$42,$I1,64)","v":0},{"$f":"INDEX(Предметы!$B$6:$JR$42,$I1,65)","v":0},{"$f":"CHOOSE(L49,$N$1,$N$2,$N$3,$N$4,$N$5,$N$6)","v":{"$error":"#VALUE!"}}]
[{"$f":"IF(B50=0,\"\",2)","v":2},{"$f":"IF(J50=0,\"\",J50)","v":""},null,null,null,{"$f":"IF(K50=0,\"\",TEXT(K50,\"ДД.ММ.ГГГГ\"))","v":""},null,null,{"$f":"IF(J50=0,0,1)","v":0},{"$f":"INDEX(Предметы!$B$6:$JR$42,$I1,66)","v":0},{"$f":"INDEX(Предметы!$B$6:$JR$42,$I1,67)","v":0},{"$f":"INDEX(Предметы!$B$6:$JR$42,$I1,68)","v":0},{"$f":"CHOOSE(L50,$N$1,$N$2,$N$3,$N$4,$N$5,$N$6)","v":{"$error":"#VALUE!"}}]
[null,null,null,null,null,null,null,null,1]
[{"$f":"A47+I47","v":16},{"$f":"CONCATENATE(\"Дипломный проект (работу) выполнил\",N11,\" на тему: \"\"\",IF(J52=0,\"\",J52),\"\"\"\")","v":"Дипломный проект (работу) выполнила на тему: \"\""},null,null,null,null,null,null,1,{"$f":"INDEX(Предметы!$B$6:$JR$42,$I1,69)","v":0}]
[null,{"$f":"CONCATENATE(\"и защитил\",N11,\"   \",IF(K54=0,\"____________\",L54),\"    с оценкой   \",IF(J53=0,\"__________\",K53))","v":"и защитила   ____________    с оценкой   __________"},null,null,null,null,null,null,1,{"$f":"INDEX(Предметы!$B$6:$JR$42,$I1,70)","v":0},{"$f":"CHOOSE(J53,$N$1,$N$2,$N$3,$N$4,$N$5,$N$6)","v":{"$error":"#VALUE!"}}]
[{"$f":"A52+I52","v":17},{"$f":"CONCATENATE(\"Постановлением государственной аттестационной комиссии  (протокол № \",IF(J54=0,\"____\",J54),\" от \",IF(J54=0,\"____________\",L54),\" )\")","v":"Постановлением государственной аттестационной комиссии  (протокол № ____ от ____________ )"},null,null,null,null,null,null,1,{"$f":"INDEX(Предметы!$B$6:$JR$42,$I1,71)","v":0},{"$f":"INDEX(Предметы!$B$6:$JR$42,$I1,72)","v":0},{"$f":"TEXT(K54,\"ДД.ММ.ГГГГ\")","v":"00.01.1900"},{"$f":"INDEX(Предметы!$B$6:$JR$42,$I1,30)","v":"БАКАЛАВР"}]
[null,{"$f":"CONCATENATE(\"присвоена квалификация  \",IF(J54=0,\"__________\",M54))","v":"присвоена квалификация  __________"},null,null,null,null,null,null,1]
[null,{"$f":"CONCATENATE(\"Диплом с отличием, без отличия, за № \",M56,\" выдан \",L56)","v":"Диплом с отличием, без отличия, за № 0 выдан 00.01.1900"},null,null,null,null,null,null,{"$f":"IF(K56=0,0,1)","v":0},null,{"$f":"INDEX(Предметы!$B$6:$JR$42,$I1,77)","v":0},{"$f":"TEXT(K56,\"ДД.ММ.ГГГГ\")","v":"00.01.1900"},{"$f":"INDEX(Предметы!$B$6:$JR$42,$I1,76)","v":0}]
[null,{"$f":"CONCATENATE(J2,\" факультета ______________________\",J57)","v":"И.о. декана факультета ______________________Н.А. Середа"},null,null,null,null,null,null,1,{"$f":"IF(J3=\"Экономический\",деканаты!D2,IF(J3=\"Архитектурно-строительный\",деканаты!D3,IF(J3=\"Агробизнеса\",деканаты!D4,IF(J3=\"Ветеринарной медицины и зоотехнии\",деканаты!D5,IF(J3=\"Инженерно-технологический\",деканаты!D6,IF(J3=\"Электроэнергетический\",деканаты!D7,0))))))","v":"Н.А. Середа"},3,3,3,3,3,3,3,3,3,3,3,3]
[{"$f":"A54+I53","v":18},"Выполнение учебного плана",null,null,null,null,null,null,1,null,1,2,3,4,5,6,7,8,9,10,11,12]
["Семестры","Название    предмета",null,"Число часов по плану/ зачетных единиц","Экзамена- \nционная \nоценка","Отметка о зачете","Дата ведомости",null,1,{"$f":"I1","v":30},{"$f":"COUNTIF(Предметы!$CC$2:$JG$2,1)","v":0},{"$f":"COUNTIF(Предметы!$CC$2:$JG$2,2)","v":10},{"$f":"COUNTIF(Предметы!$CC$2:$JG$2,3)","v":6},{"$f":"COUNTIF(Предметы!$CC$2:$JG$2,4)","v":8},{"$f":"COUNTIF(Предметы!$CC$2:$JG$2,5)","v":8},{"$f":"COUNTIF(Предметы!$CC$2:$JG$2,6)","v":11},{"$f":"COUNTIF(Предметы!$CC$2:$JG$2,7)","v":9},{"$f":"COUNTIF(Предметы!$CC$2:$JG$2,8)","v":11},{"$f":"COUNTIF(Предметы!$CC$2:$JG$2,9)","v":0},{"$f":"COUNTIF(Предметы!$CC$2:$JG$2,10)","v":0},{"$f":"COUNTIF(Предметы!$CC$2:$JG$2,11)","v":0},{"$f":"COUNTIF(Предметы!$CC$2:$JG$2,12)","v":0}]
[{"$f":"K60","v":2},{"$f":"Предметы!CC5","v":"Делопроизводство и документооборот"},null,{"$f":"CONCATENATE(Предметы!CC3,\" / \",Предметы!CC3/36)","v":"216 / 6"},{"$f":"IF(AND(L60>2, L60<6),P60,\"------\")","v":"Хорошо"},{"$f":"IF(M60=0,\"------\",IF(L60=6,P60,\"------\"))","v":"------"},{"$f":"CONCATENATE(IF(M60=0,\"------\",N60),\"  \",IF(O60=0,\"\",CONCATENATE(\"№ \",O60)))","v":"07.06.2018  № 78110135"},null,{"$f":"IF(M60=0,0,1)","v":1},5,{"$f":"Предметы!CC2","v":2},{"$f":"INDEX(Предметы!$B$6:$JR$42,$I1,80)","v":4},{"$f":"INDEX(Предметы!$B$6:$JR$42,$I1,81)","v":43258},{"$f":"TEXT(M60,\"ДД.ММ.ГГГГ\")","v":"07.06.2018"},{"$f":"INDEX(Предметы!$B$6:$JR$42,$I1,82)","v":78110135},{"$f":"CHOOSE(L60,$O$1,$O$2,$O$3,$O$4,$O$5,$O$6)","v":"Хорошо"}]
[{"$f":"K61","v":2},{"$f":"Предметы!CF5","v":"Введение в профессию и основы научных исследований"},null,{"$f":"CONCATENATE(Предметы!CF3,\" / \",Предметы!CF3/36)","v":"108 / 3"},{"$f":"IF(AND(L61>2, L61<6),P61,\"------\")","v":"------"},{"$f":"IF(M61=0,\"------\",IF(L61=6,P61,\"------\"))","v":"Зачет"},{"$f":"CONCATENATE(IF(M61=0,\"------\",N61),\"  \",IF(O61=0,\"\",CONCATENATE(\"№ \",O61)))","v":"07.06.2018  № 78110110"},null,{"$f":"IF(M61=0,0,1)","v":1},{"$f":"J60+1","v":6},{"$f":"Предметы!CF2","v":2},{"$f":"INDEX(Предметы!$B$6:$JR$42,$I1,83)","v":6},{"$f":"INDEX(Предметы!$B$6:$JR$42,$I1,84)","v":43258},"07.06.2018",{"$f":"INDEX(Предметы!$B$6:$JR$42,$I1,85)","v":78110110},{"$f":"CHOOSE(L61,$O$1,$O$2,$O$3,$O$4,$O$5,$O$6)","v":"Зачет"}]
[2,{"$f":"Предметы!CI5","v":"История"},null,{"$f":"CONCATENATE(Предметы!CI3,\" / \",Предметы!CI3/36)","v":"108 / 3"},"Отлично","------","11.06.2016  ",null,1,{"$f":"J61+1","v":7},{"$f":"Предметы!CI2","v":2},{"$f":"INDEX(Предметы!$B$6:$JR$42,$I1,86)","v":5},{"$f":"INDEX(Предметы!$B$6:$JR$42,$I1,87)","v":"11.06.2016  "},"11.06.2016",{"$f":"INDEX(Предметы!$B$6:$JR$42,$I1,88)","v":0},"Отлично"]
[2,{"$f":"Предметы!CL5","v":"Психология"},null,{"$f":"CONCATENATE(Предметы!CL3,\" / \",Предметы!CL3/36)","v":"72 / 2"},"------","Зачет","11.06.2016  ",null,1,8,{"$f":"Предметы!CL2","v":2},{"$f":"INDEX(Предметы!$B$6:$JR$42,$I1,89)","v":6},{"$f":"INDEX(Предметы!$B$6:$JR$42,$I1,90)","v":"11.06.2016  "},"11.06.2016",{"$f":"INDEX(Предметы!$B$6:$JR$42,$I1,91)","v":0},"Зачет"]
[2,{"$f":"Предметы!CO5","v":"Иностранный язык (З)"},null,{"$f":"CONCATENATE(Предметы!CO3,\" / \",Предметы!CO3/36)","v":"72 / 2"},"------","Зачет","11.06.2016  ",null,1,9,{"$f":"Предметы!CO2","v":2},{"$f":"INDEX(Предметы!$B$6:$JR$42,$I1,92)","v":6},{"$f":"INDEX(Предметы!$B$6:$JR$42,$I1,93)","v":"11.06.2016  "},"11.06.2016",{"$f":"INDEX(Предметы!$B$6:$JR$42,$I1,94)","v":0},"Зачет"]
[2,{"$f":"Предметы!CR5","v":"Математический анализ"},null,{"$f":"CONCATENATE(Предметы!CR3,\" / \",Предметы!CR3/36)","v":"216 / 6"},"Хорошо","------","11.06.2016  ",null,1,10,{"$f":"Предметы!CR2","v":2},{"$f":"INDEX(Предметы!$B$6:$JR$42,$I1,95)","v":4},{"$f":"INDEX(Предметы!$B$6:$JR$42,$I1,96)","v":"11.06.2016  "},"11.06.2016",{"$f":"INDEX(Предметы!$B$6:$JR$42,$I1,97)","v":0},"Хорошо"]
[2,{"$f":"Предметы!CU5","v":"Линейная алгебра"},null,{"$f":"CONCATENATE(Предметы!CU3,\" / \",Предметы!CU3/36)","v":"252 / 7"},"Удовлет.","------","11.06.2016  ",null,1,11,{"$f":"Предметы!CU2","v":2},{"$f":"INDEX(Предметы!$B$6:$JR$42,$I1,98)","v":3},{"$f":"INDEX(Предметы!$B$6:$JR$42,$I1,99)","v":"11.06.2016  "},"11.06.2016",{"$f":"INDEX(Предметы!$B$6:$JR$42,$I1,100)","v":0},"Удовлет."]
[2,{"$f":"Предметы!CX5","v":"Информатика и информационное обеспечение бухгалтерского учета"},null,{"$f":"CONCATENATE(Предметы!CX3,\" / \",Предметы!CX3/36)","v":"360 / 10"},"Отлично","------","11.06.2016  ",null,1,12,{"$f":"Предметы!CX2","v":2},{"$f":"INDEX(Предметы!$B$6:$JR$42,$I1,101)","v":5},{"$f":"INDEX(Предметы!$B$6:$JR$42,$I1,102)","v":"11.06.2016  "},"11.06.2016",{"$f":"INDEX(Предметы!$B$6:$JR$42,$I1,103)","v":0},"Отлично"]
[2,{"$f":"Предметы!DA5","v":"Микроэкономика"},null,{"$f":"CONCATENATE(Предметы!DA3,\" / \",Предметы!DA3/36)","v":"216 / 6"},"Удовлет.","------","11.06.2016  ",null,1,13,{"$f":"Предметы!DA2","v":2},{"$f":"INDEX(Предметы!$B$6:$JR$42,$I1,104)","v":3},{"$f":"INDEX(Предметы!$B$6:$JR$42,$I1,105)","v":"11.06.2016  "},"11.06.2016",{"$f":"INDEX(Предметы!$B$6:$JR$42,$I1,106)","v":0},"Удовлет."]
[2,{"$f":"Предметы!DD5","v":"Общая физическая подготовка"},null,{"$f":"CONCATENATE(Предметы!DD3,\" / \",Предметы!DD3/36)","v":" / 0"},"------","Зачет","11.06.2016  ",null,1,14,{"$f":"Предметы!DD2","v":2},{"$f":"INDEX(Предметы!$B$6:$JR$42,$I1,107)","v":6},{"$f":"INDEX(Предметы!$B$6:$JR$42,$I1,108)","v":"11.06.2016  "},"11.06.2016",{"$f":"INDEX(Предметы!$B$6:$JR$42,$I1,109)","v":0},"Зачет"]
[3,{"$f":"Предметы!DG5","v":"Иностранный язык"},null,{"$f":"CONCATENATE(Предметы!DG3,\" / \",Предметы!DG3/36)","v":"144 / 4"},"Хорошо","------","24.12.2016  ",null,1,15,{"$f":"Предметы!DG2","v":3},{"$f":"INDEX(Предметы!$B$6:$JR$42,$I1,110)","v":4},{"$f":"INDEX(Предметы!$B$6:$JR$42,$I1,111)","v":"24.12.2016  "},"24.12.2016",{"$f":"INDEX(Предметы!$B$6:$JR$42,$I1,112)","v":0},"Хорошо"]
[3,{"$f":"Предметы!DJ5","v":"Социология"},null,{"$f":"CONCATENATE(Предметы!DJ3,\" / \",Предметы!DJ3/36)","v":"72 / 2"},"------","Зачет","24.12.2016  ",null,1,16,{"$f":"Предметы!DJ2","v":3},{"$f":"INDEX(Предметы!$B$6:$JR$42,$I1,113)","v":6},{"$f":"INDEX(Предметы!$B$6:$JR$42,$I1,114)","v":"24.12.2016  "},"24.12.2016",{"$f":"INDEX(Предметы!$B$6:$JR$42,$I1,115)","v":0},"Зачет"]
[3,{"$f":"Предметы!DM5","v":"Политология"},null,{"$f":"CONCATENATE(Предметы!DM3,\" / \",Предметы!DM3/36)","v":"180 / 5"},"Отлично","------","24.12.2016  ",null,1,17,{"$f":"Предметы!DM2","v":3},{"$f":"INDEX(Предметы!$B$6:$JR$42,$I1,116)","v":5},{"$f":"INDEX(Предметы!$B$6:$JR$42,$I1,117)","v":"24.12.2016  "},"24.12.2016",{"$f":"INDEX(Предметы!$B$6:$JR$42,$I1,118)","v":0},"Отлично"]
[3,{"$f":"Предметы!DP5","v":"Теория вероятностей и математическая статистика"},null,{"$f":"CONCATENATE(Предметы!DP3,\" / \",Предметы!DP3/36)","v":"144 / 4"},"Хорошо","------","24.12.2016  ",null,1,18,{"$f":"Предметы!DP2","v":3},{"$f":"INDEX(Предметы!$B$6:$JR$42,$I1,119)","v":4},{"$f":"INDEX(Предметы!$B$6:$JR$42,$I1,120)","v":"24.12.2016  "},"24.12.2016",{"$f":"INDEX(Предметы!$B$6:$JR$42,$I1,121)","v":0},"Хорошо"]
[3,{"$f":"Предметы!DS5","v":"Макроэкономика (З)"},null,{"$f":"CONCATENATE(Предметы!DS3,\" / \",Предметы!DS3/36)","v":"76 / 2,11111111111111"},"------","Зачет","24.12.2016  ",null,1,19,{"$f":"Предметы!DS2","v":3},{"$f":"INDEX(Предметы!$B$6:$JR$42,$I1,122)","v":6},{"$f":"INDEX(Предметы!$B$6:$JR$42,$I1,123)","v":"24.12.2016  "},"24.12.2016",{"$f":"INDEX(Предметы!$B$6:$JR$42,$I1,124)","v":0},"Зачет"]
[3,{"$f":"Предметы!DV5","v":"Эконометрика"},null,{"$f":"CONCATENATE(Предметы!DV3,\" / \",Предметы!DV3/36)","v":"180 / 5"},"Хорошо","------","24.12.2016  ",null,1,20,{"$f":"Предметы!DV2","v":3},{"$f":"INDEX(Предметы!$B$6:$JR$42,$I1,125)","v":4},{"$f":"INDEX(Предметы!$B$6:$JR$42,$I1,126)","v":"24.12.2016  "},"24.12.2016",{"$f":"INDEX(Предметы!$B$6:$JR$42,$I1,127)","v":0},"Хорошо"]
[4,{"$f":"Предметы!DY5","v":"Макроэкономика"},null,{"$f":"CONCATENATE(Предметы!DY3,\" / \",Предметы!DY3/36)","v":"212 / 5,88888888888889"},"Хорошо","------","21.04.2017  ",null,1,21,{"$f":"Предметы!DY2","v":4},{"$f":"INDEX(Предметы!$B$6:$JR$42,$I1,128)","v":4},{"$f":"INDEX(Предметы!$B$6:$JR$42,$I1,129)","v":"21.04.2017  "},"21.04.2017",{"$f":"INDEX(Предметы!$B$6:$JR$42,$I1,130)","v":0},"Хорошо"]
[4,{"$f":"Предметы!EB5","v":"Философия  "},null,{"$f":"CONCATENATE(Предметы!EB3,\" / \",Предметы!EB3/36)","v":"108 / 3"},"------","Зачет","21.04.2017  ",null,1,22,{"$f":"Предметы!EB2","v":4},{"$f":"INDEX(Предметы!$B$6:$JR$42,$I1,131)","v":6},{"$f":"INDEX(Предметы!$B$6:$JR$42,$I1,132)","v":"21.04.2017  "},"21.04.2017",{"$f":"INDEX(Предметы!$B$6:$JR$42,$I1,133)","v":0},"Зачет"]
[4,{"$f":"Предметы!EE5","v":"Инструментальные средства программирования бухгалтерских операций"},null,{"$f":"CONCATENATE(Предметы!EE3,\" / \",Предметы!EE3/36)","v":"216 / 6"},"Хорошо","------","21.04.2017  ",null,1,23,{"$f":"Предметы!EE2","v":4},{"$f":"INDEX(Предметы!$B$6:$JR$42,$I1,134)","v":4},{"$f":"INDEX(Предметы!$B$6:$JR$42,$I1,135)","v":"21.04.2017  "},"21.04.2017",{"$f":"INDEX(Предметы!$B$6:$JR$42,$I1,136)","v":0},"Хорошо"]
[4,{"$f":"Предметы!EH5","v":"Статистика"},null,{"$f":"CONCATENATE(Предметы!EH3,\" / \",Предметы!EH3/36)","v":"216 / 6"},"Хорошо","------","21.04.2017  ",null,1,24,{"$f":"Предметы!EH2","v":4},{"$f":"INDEX(Предметы!$B$6:$JR$42,$I1,137)","v":4},{"$f":"INDEX(Предметы!$B$6:$JR$42,$I1,138)","v":"21.04.2017  "},"21.04.2017",{"$f":"INDEX(Предметы!$B$6:$JR$42,$I1,139)","v":0},"Хорошо"]
[4,{"$f":"Предметы!EK5","v":"Менеджмент"},null,{"$f":"CONCATENATE(Предметы!EK3,\" / \",Предметы!EK3/36)","v":"144 / 4"},"Отлично","------","21.04.2017  ",null,1,25,{"$f":"Предметы!EK2","v":4},{"$f":"INDEX(Предметы!$B$6:$JR$42,$I1,140)","v":5},{"$f":"INDEX(Предметы!$B$6:$JR$42,$I1,141)","v":"21.04.2017  "},"21.04.2017",{"$f":"INDEX(Предметы!$B$6:$JR$42,$I1,142)","v":0},"Отлично"]
[4,{"$f":"Предметы!EN5","v":"Физическая культура и спорт"},null,{"$f":"CONCATENATE(Предметы!EN3,\" / \",Предметы!EN3/36)","v":"72 / 2"},"------","Зачет","21.04.2017  ",null,1,26,{"$f":"Предметы!EQ2","v":4},{"$f":"INDEX(Предметы!$B$6:$JR$42,$I1,143)","v":6},{"$f":"INDEX(Предметы!$B$6:$JR$42,$I1,144)","v":"21.04.2017  "},"21.04.2017",{"$f":"INDEX(Предметы!$B$6:$JR$42,$I1,145)","v":0},"Зачет"]
[4,{"$f":"Предметы!EQ5","v":"Деловые коммуникации"},null,{"$f":"CONCATENATE(Предметы!EQ3,\" / \",Предметы!EQ3/36)","v":"72 / 2"},"------","Зачет","21.04.2017  ",null,1,27,{"$f":"Предметы!ET2","v":4},{"$f":"INDEX(Предметы!$B$6:$JR$42,$I1,146)","v":6},{"$f":"INDEX(Предметы!$B$6:$JR$42,$I1,147)","v":"21.04.2017  "},"21.04.2017",{"$f":"INDEX(Предметы!$B$6:$JR$42,$I1,148)","v":0},"Зачет"]
[5,{"$f":"Предметы!EW5","v":"Право"},null,{"$f":"CONCATENATE(Предметы!EW3,\" / \",Предметы!EW3/36)","v":"144 / 4"},"Хорошо","------","30.11.2017  ",null,1,28,{"$f":"Предметы!EW2","v":5},{"$f":"INDEX(Предметы!$B$6:$JR$42,$I1,152)","v":4},{"$f":"INDEX(Предметы!$B$6:$JR$42,$I1,153)","v":"30.11.2017  "},"30.11.2017",{"$f":"INDEX(Предметы!$B$6:$JR$42,$I1,154)","v":0},"Хорошо"]
[5,{"$f":"Предметы!EZ5","v":"Регионалистика"},null,{"$f":"CONCATENATE(Предметы!EZ3,\" / \",Предметы!EZ3/36)","v":"144 / 4"},"Хорошо","------","30.11.2017  ",null,1,29,{"$f":"Предметы!EZ2","v":5},{"$f":"INDEX(Предметы!$B$6:$JR$42,$I1,155)","v":4},{"$f":"INDEX(Предметы!$B$6:$JR$42,$I1,156)","v":"30.11.2017  "},"30.11.2017",{"$f":"INDEX(Предметы!$B$6:$JR$42,$I1,157)","v":0},"Хорошо"]
[5,{"$f":"Предметы!FC5","v":"Методы оптимальных решений"},null,{"$f":"CONCATENATE(Предметы!FC3,\" / \",Предметы!FC3/36)","v":"144 / 4"},"Хорошо","------","30.11.2017  ",null,1,30,{"$f":"Предметы!FC2","v":5},{"$f":"INDEX(Предметы!$B$6:$JR$42,$I1,158)","v":4},{"$f":"INDEX(Предметы!$B$6:$JR$42,$I1,159)","v":"30.11.2017  "},"30.11.2017",{"$f":"INDEX(Предметы!$B$6:$JR$42,$I1,160)","v":0},"Хорошо"]
[5,{"$f":"Предметы!FF5","v":"Информационные технологии и базы данных в бухгалтерском учете"},null,{"$f":"CONCATENATE(Предметы!FF3,\" / \",Предметы!FF3/36)","v":"144 / 4"},"Хорошо","------","30.11.2017  ",null,1,31,{"$f":"Предметы!FF2","v":5},{"$f":"INDEX(Предметы!$B$6:$JR$42,$I1,161)","v":4},{"$f":"INDEX(Предметы!$B$6:$JR$42,$I1,162)","v":"30.11.2017  "},"30.11.2017",{"$f":"INDEX(Предметы!$B$6:$JR$42,$I1,163)","v":0},"Хорошо"]
[5,{"$f":"Предметы!FI5","v":"Финансы"},null,{"$f":"CONCATENATE(Предметы!FI3,\" / \",Предметы!FI3/36)","v":"144 / 4"},"Хорошо","------","30.11.2017  ",null,1,32,{"$f":"Предметы!FI2","v":5},{"$f":"INDEX(Предметы!$B$6:$JR$42,$I1,164)","v":4},{"$f":"INDEX(Предметы!$B$6:$JR$42,$I1,165)","v":"30.11.2017  "},"30.11.2017",{"$f":"INDEX(Предметы!$B$6:$JR$42,$I1,166)","v":0},"Хорошо"]
[5,{"$f":"Предметы!FL5","v":"Мировая экономика и международные экономические отношения"},null,{"$f":"CONCATENATE(Предметы!FL3,\" / \",Предметы!FL3/36)","v":"144 / 4"},"Отлично","------","30.11.2017  ",null,1,33,{"$f":"Предметы!FL2","v":5},{"$f":"INDEX(Предметы!$B$6:$JR$42,$I1,167)","v":5},{"$f":"INDEX(Предметы!$B$6:$JR$42,$I1,168)","v":"30.11.2017  "},"30.11.2017",{"$f":"INDEX(Предметы!$B$6:$JR$42,$I1,169)","v":0},"Отлично"]
[5,{"$f":"Предметы!FO5","v":"Моделирование социально-экономических систем"},null,{"$f":"CONCATENATE(Предметы!FO3,\" / \",Предметы!FO3/36)","v":"288 / 8"},"Хорошо","------","30.11.2017  ",null,1,34,{"$f":"Предметы!FR2","v":5},{"$f":"INDEX(Предметы!$B$6:$JR$42,$I1,170)","v":4},{"$f":"INDEX(Предметы!$B$6:$JR$42,$I1,171)","v":"30.11.2017  "},"30.11.2017",{"$f":"INDEX(Предметы!$B$6:$JR$42,$I1,172)","v":0},"Хорошо"]
[6,{"$f":"Предметы!FU5","v":"Методы принятия управленческих решений в сфере бухгалтерского учета"},null,{"$f":"CONCATENATE(Предметы!FU3,\" / \",Предметы!FU3/36)","v":"72 / 2"},"------","Зачет","07.06.2018  № 7819542",null,1,35,{"$f":"Предметы!FU2","v":6},{"$f":"INDEX(Предметы!$B$6:$JR$42,$I1,176)","v":6},{"$f":"INDEX(Предметы!$B$6:$JR$42,$I1,177)","v":43258},"07.06.2018",{"$f":"INDEX(Предметы!$B$6:$JR$42,$I1,178)","v":7819542},"Зачет"]
[6,{"$f":"Предметы!FX5","v":"Безопасность жизнедеятельности"},null,{"$f":"CONCATENATE(Предметы!FX3,\" / \",Предметы!FX3/36)","v":"144 / 4"},"Хорошо","------","07.06.2018  № 78110074",null,1,36,{"$f":"Предметы!GD2","v":6},{"$f":"INDEX(Предметы!$B$6:$JR$42,$I1,179)","v":4},{"$f":"INDEX(Предметы!$B$6:$JR$42,$I1,180)","v":43258},"07.06.2018",{"$f":"INDEX(Предметы!$B$6:$JR$42,$I1,181)","v":78110074},"Хорошо"]
[6,{"$f":"Предметы!GA5","v":"Бухгалтерский учет и анализ"},null,{"$f":"CONCATENATE(Предметы!GA3,\" / \",Предметы!GA3/36)","v":"252 / 7"},"Хорошо","------","07.06.2018  № 7819514",null,1,37,{"$f":"Предметы!GJ2","v":6},{"$f":"INDEX(Предметы!$B$6:$JR$42,$I1,182)","v":4},{"$f":"INDEX(Предметы!$B$6:$JR$42,$I1,183)","v":43258},"07.06.2018",{"$f":"INDEX(Предметы!$B$6:$JR$42,$I1,184)","v":7819514},"Хорошо"]
[6,{"$f":"Предметы!GG5","v":"Деньги, кредит, банки"},null,{"$f":"CONCATENATE(Предметы!GG3,\" / \",Предметы!GG3/36)","v":"144 / 4"},"Хорошо","------","07.06.2018  № 7819557",null,1,38,{"$f":"Предметы!GM2","v":6},{"$f":"INDEX(Предметы!$B$6:$JR$42,$I1,188)","v":4},{"$f":"INDEX(Предметы!$B$6:$JR$42,$I1,189)","v":43258},"07.06.2018",{"$f":"INDEX(Предметы!$B$6:$JR$42,$I1,190)","v":7819557},"Хорошо"]
[6,{"$f":"Предметы!GJ5","v":"Экономика организаций (предприятий)"},null,{"$f":"CONCATENATE(Предметы!GJ3,\" / \",Предметы!GJ3/36)","v":"180 / 5"},"Отлично","------","07.06.2018  № 7819711",null,1,39,{"$f":"Предметы!GP2","v":6},{"$f":"INDEX(Предметы!$B$6:$JR$42,$I1,191)","v":5},{"$f":"INDEX(Предметы!$B$6:$JR$42,$I1,192)","v":43258},"07.06.2018",{"$f":"INDEX(Предметы!$B$6:$JR$42,$I1,193)","v":7819711},"Отлично"]
[6,{"$f":"Предметы!GP5","v":"Планирование на предприятии"},null,{"$f":"CONCATENATE(Предметы!GP3,\" / \",Предметы!GP3/36)","v":"144 / 4"},"Отлично","------","07.06.2018  № 7819720",null,1,40,{"$f":"Предметы!GS2","v":6},{"$f":"INDEX(Предметы!$B$6:$JR$42,$I1,197)","v":5},{"$f":"INDEX(Предметы!$B$6:$JR$42,$I1,198)","v":43258},"07.06.2018",{"$f":"INDEX(Предметы!$B$6:$JR$42,$I1,199)","v":7819720},"Отлично"]
[6,{"$f":"Предметы!GS5","v":"Аудит"},null,{"$f":"CONCATENATE(Предметы!GS3,\" / \",Предметы!GS3/36)","v":"144 / 4"},"Хорошо","------","07.06.2018  № 7819517",null,1,41,{"$f":"Предметы!GY2","v":6},{"$f":"INDEX(Предметы!$B$6:$JR$42,$I1,200)","v":4},{"$f":"INDEX(Предметы!$B$6:$JR$42,$I1,201)","v":43258},"07.06.2018",{"$f":"INDEX(Предметы!$B$6:$JR$42,$I1,202)","v":7819517},"Хорошо"]
[7,{"$f":"Предметы!HB5","v":"Маркетинг"},null,{"$f":"CONCATENATE(Предметы!HB3,\" / \",Предметы!HB3/36)","v":"108 / 3"},"------","------","    ",null,1,42,{"$f":"Предметы!HB2","v":7},{"$f":"INDEX(Предметы!$B$6:$JR$42,$I1,209)","v":0},{"$f":"INDEX(Предметы!$B$6:$JR$42,$I1,210)","v":"  "},"  ",{"$f":"INDEX(Предметы!$B$6:$JR$42,$I1,211)","v":0},{"$error":"#VALUE!"}]
[7,{"$f":"Предметы!HE5","v":"Корпоративные финансы"},null,{"$f":"CONCATENATE(Предметы!HE3,\" / \",Предметы!HE3/36)","v":"144 / 4"},"------","------","    ",null,1,43,{"$f":"Предметы!HE2","v":7},{"$f":"INDEX(Предметы!$B$6:$JR$42,$I1,212)","v":0},{"$f":"INDEX(Предметы!$B$6:$JR$42,$I1,213)","v":"  "},"  ",{"$f":"INDEX(Предметы!$B$6:$JR$42,$I1,214)","v":0},{"$error":"#VALUE!"}]
[7,{"$f":"Предметы!HH5","v":"Бухгалтерский управленческий учет"},null,{"$f":"CONCATENATE(Предметы!HH3,\" / \",Предметы!HH3/36)","v":"180 / 5"},"------","------","    ",null,1,44,{"$f":"Предметы!HH2","v":7},{"$f":"INDEX(Предметы!$B$6:$JR$42,$I1,215)","v":0},{"$f":"INDEX(Предметы!$B$6:$JR$42,$I1,216)","v":"  "},"  ",{"$f":"INDEX(Предметы!$B$6:$JR$42,$I1,217)","v":0},{"$error":"#VALUE!"}]
[7,{"$f":"Предметы!HK5","v":"Комплексный анализ хозяйственной деятельности"},null,{"$f":"CONCATENATE(Предметы!HK3,\" / \",Предметы!HK3/36)","v":"144 / 4"},"------","------","    ",null,1,45,{"$f":"Предметы!HK2","v":7},{"$f":"INDEX(Предметы!$B$6:$JR$42,$I1,218)","v":0},{"$f":"INDEX(Предметы!$B$6:$JR$42,$I1,219)","v":"  "},"  ",{"$f":"INDEX(Предметы!$B$6:$JR$42,$I1,220)","v":0},{"$error":"#VALUE!"}]
[7,{"$f":"Предметы!HQ5","v":"Международные стандарты финансовой отчетности"},null,{"$f":"CONCATENATE(Предметы!HQ3,\" / \",Предметы!HQ3/36)","v":"108 / 3"},"------","------","    ",null,1,46,{"$f":"Предметы!HT2","v":7},{"$f":"INDEX(Предметы!$B$6:$JR$42,$I1,224)","v":0},{"$f":"INDEX(Предметы!$B$6:$JR$42,$I1,225)","v":"  "},"  ",{"$f":"INDEX(Предметы!$B$6:$JR$42,$I1,226)","v":0},{"$error":"#VALUE!"}]
[7,{"$f":"Предметы!HT5","v":"Логистика"},null,{"$f":"CONCATENATE(Предметы!HT3,\" / \",Предметы!HT3/36)","v":"180 / 5"},"------","------","    ",null,1,47,{"$f":"Предметы!HW2","v":7},{"$f":"INDEX(Предметы!$B$6:$JR$42,$I1,227)","v":0},{"$f":"INDEX(Предметы!$B$6:$JR$42,$I1,228)","v":"  "},"  ",{"$f":"INDEX(Предметы!$B$6:$JR$42,$I1,229)","v":0},{"$error":"#VALUE!"}]
[7,{"$f":"Предметы!HW5","v":"Бухгалтерский финансовый учет (З)"},null,{"$f":"CONCATENATE(Предметы!HW3,\" / \",Предметы!HW3/36)","v":"289 / 8,02777777777778"},"------","------","    ",null,1,48,{"$f":"Предметы!HZ2","v":7},{"$f":"INDEX(Предметы!$B$6:$JR$42,$I1,230)","v":0},{"$f":"INDEX(Предметы!$B$6:$JR$42,$I1,231)","v":"  "},"  ",{"$f":"INDEX(Предметы!$B$6:$JR$42,$I1,232)","v":0},{"$error":"#VALUE!"}]
[8,{"$f":"Предметы!IC5","v":"Макроэкономическое планирование и прогнозирование"},null,{"$f":"CONCATENATE(Предметы!IC3,\" / \",Предметы!IC3/36)","v":"144 / 4"},"------","------","    ",null,1,49,{"$f":"Предметы!IC2","v":8},{"$f":"INDEX(Предметы!$B$6:$JR$42,$I1,236)","v":0},{"$f":"INDEX(Предметы!$B$6:$JR$42,$I1,237)","v":"  "},"  ",{"$f":"INDEX(Предметы!$B$6:$JR$42,$I1,238)","v":0},{"$error":"#VALUE!"}]
[8,{"$f":"Предметы!IF5","v":"Налоги и налогообложение"},null,{"$f":"CONCATENATE(Предметы!IF3,\" / \",Предметы!IF3/36)","v":"108 / 3"},"------","------","    ",null,1,50,{"$f":"Предметы!IF2","v":8},{"$f":"INDEX(Предметы!$B$6:$JR$42,$I1,239)","v":0},{"$f":"INDEX(Предметы!$B$6:$JR$42,$I1,240)","v":"  "},"  ",{"$f":"INDEX(Предметы!$B$6:$JR$42,$I1,241)","v":0},{"$error":"#VALUE!"}]
[8,{"$f":"Предметы!II5","v":"Анализ финансовой отчетности"},null,{"$f":"CONCATENATE(Предметы!II3,\" / \",Предметы!II3/36)","v":"108 / 3"},"------","------","    ",null,1,51,{"$f":"Предметы!IL2","v":8},{"$f":"INDEX(Предметы!$B$6:$JR$42,$I1,242)","v":0},{"$f":"INDEX(Предметы!$B$6:$JR$42,$I1,243)","v":"  "},"  ",{"$f":"INDEX(Предметы!$B$6:$JR$42,$I1,244)","v":0},{"$error":"#VALUE!"}]
[8,{"$f":"Предметы!IL5","v":"Бухгалтерский финансовый учет"},null,{"$f":"CONCATENATE(Предметы!IL3,\" / \",Предметы!IL3/36)","v":"71 / 1,97222222222222"},"------","------","    ",null,1,52,{"$f":"Предметы!IO2","v":8},{"$f":"INDEX(Предметы!$B$6:$JR$42,$I1,245)","v":0},{"$f":"INDEX(Предметы!$B$6:$JR$42,$I1,246)","v":"  "},"  ",{"$f":"INDEX(Предметы!$B$6:$JR$42,$I1,247)","v":0},{"$error":"#VALUE!"}]
[8,{"$f":"Предметы!IR5","v":"Лабораторный практикум по бухгалтерскому учету"},null,{"$f":"CONCATENATE(Предметы!IR3,\" / \",Предметы!IR3/36)","v":"144 / 4"},"------","------","    ",null,1,53,{"$f":"Предметы!IR2","v":8},{"$f":"INDEX(Предметы!$B$6:$JR$42,$I1,251)","v":0},{"$f":"INDEX(Предметы!$B$6:$JR$42,$I1,252)","v":"  "},"  ",{"$f":"INDEX(Предметы!$B$6:$JR$42,$I1,253)","v":0},{"$error":"#VALUE!"}]
[8,{"$f":"Предметы!IU5","v":"Бухгалтерский учет на предприятиях малого бизнеса"},null,{"$f":"CONCATENATE(Предметы!IU3,\" / \",Предметы!IU3/36)","v":"180 / 5"},"------","------","    ",null,1,54,{"$f":"Предметы!IU2","v":8},{"$f":"INDEX(Предметы!$B$6:$JR$42,$I1,254)","v":0},{"$f":"INDEX(Предметы!$B$6:$JR$42,$I1,255)","v":"  "},"  ",{"$f":"INDEX(Предметы!$B$6:$JR$42,$I1,256)","v":0},{"$error":"#VALUE!"}]
[8,{"$f":"Предметы!IX5","v":"Практикум 1С:Бухгалтерия"},null,{"$f":"CONCATENATE(Предметы!IX3,\" / \",Предметы!IX3/36)","v":"72 / 2"},"------","------","    ",null,1,55,{"$f":"Предметы!IX2","v":8},{"$f":"INDEX(Предметы!$B$6:$JR$42,$I1,257)","v":0},{"$f":"INDEX(Предметы!$B$6:$JR$42,$I1,258)","v":"  "},"  ",{"$f":"INDEX(Предметы!$B$6:$JR$42,$I1,259)","v":0},{"$error":"#VALUE!"}]
[8,{"$f":"Предметы!JA5","v":"Бухгалтерская (финансовая) отчетность"},null,{"$f":"CONCATENATE(Предметы!JA3,\" / \",Предметы!JA3/36)","v":"180 / 5"},"------","------","    ",null,1,56,{"$f":"Предметы!JA2","v":8},{"$f":"INDEX(Предметы!$B$6:$JR$42,$I1,260)","v":0},{"$f":"INDEX(Предметы!$B$6:$JR$42,$I1,261)","v":"  "},"  ",{"$f":"INDEX(Предметы!$B$6:$JR$42,$I1,262)","v":0},{"$error":"#VALUE!"}]
[0,null,null,null,"------","------","------  ",null,{"$f":"IF(M112=0,0,1)","v":0},57,null,null,null,"00.01.1900",null,{"$error":"#VALUE!"}]
[0,null,null,null,"------","------","------  ",null,0,58,null,null,null,"00.01.1900",null,{"$error":"#VALUE!"}]
[0,null,null,null,"------","------","------  ",null,0,59,null,null,null,"00.01.1900",null,{"$error":"#VALUE!"}]
[0,null,null,null,"------","------","------  ",null,0,60,null,null,null,"00.01.1900",null,{"$error":"#VALUE!"}]
[0,null,null,null,"------","------","------  ",null,0,61,null,{"$f":"INDIRECT(ADDRESS(J116,$J$59*3+4,,,\"Предметы\"))","v":0},null,"00.01.1900",null,{"$error":"#VALUE!"}]
[0,null,null,null,"------","------","------  ",null,0,62,null,0,null,"00.01.1900",null,{"$error":"#VALUE!"}]
[0,null,null,null,"------","------","------  ",null,0,63,null,0,null,"00.01.1900",null,{"$error":"#VALUE!"}]
[0,null,null,null,"------","------","------  ",null,0,64,null,0,null,"00.01.1900",null,{"$error":"#VALUE!"}]
[0,null,null,null,"------","------","------  ",null,0,65,null,0,null,"00.01.1900",null,{"$error":"#VALUE!"}]
[0,null,null,null,"------","------","------  ",null,0,66,null,0,null,"00.01.1900",null,{"$error":"#VALUE!"}]
[0,null,null,null,"------","------","------  ",null,0,67,null,0,null,"00.01.1900",null,{"$error":"#VALUE!"}]
[0,null,null,null,"------","------","------  ",null,0,68,null,0,null,"00.01.1900",null,{"$error":"#VALUE!"}]
[0,null,null,null,"------","------","------  ",null,0,69,null,{"$f":"INDIRECT(ADDRESS(J124,$J$59*3+4,,,\"Предметы\"))","v":0},null,"00.01.1900",null,{"$error":"#VALUE!"}]
[{"$f":"K125","v":0},null,null,null,{"$f":"IF(AND(L125>2, L125<6),P125,\"------\")","v":"------"},{"$f":"IF(M125=0,\"------\",IF(L125=6,P125,\"------\"))","v":"------"},{"$f":"CONCATENATE(IF(M125=0,\"------\",N125),\"  \",IF(O125=0,\"\",CONCATENATE(\"№ \",O125)))","v":"------  "},null,{"$f":"IF(M125=0,0,1)","v":0},70,null,0,null,{"$f":"TEXT(M125,\"ДД.ММ.ГГГГ\")","v":"00.01.1900"},null,{"$f":"CHOOSE(L125,$O$1,$O$2,$O$3,$O$4,$O$5,$O$6)","v":{"$error":"#VALUE!"}}]
[0,null,null,null,"------","------","------  ",null,0,{"$f":"J125+1","v":71},null,0,null,"00.01.1900",null,{"$error":"#VALUE!"}]
[0,null,null,null,"------","------","------  ",null,0,72,null,0,null,"00.01.1900",null,{"$error":"#VALUE!"}]
[0,null,null,null,"------","------","------  ",null,0,73,null,0,null,"00.01.1900",null,{"$error":"#VALUE!"}]
[0,null,null,null,"------","------","------  ",null,0,74,null,0,null,"00.01.1900",null,{"$error":"#VALUE!"}]
[0,null,null,null,"------","------","------  ",null,0,75,null,0,null,"00.01.1900",null,{"$error":"#VALUE!"}]
[0,null,null,null,"------","------","------  ",null,0,76,null,0,null,"00.01.1900",null,{"$error":"#VALUE!"}]
[0,null,null,null,"------","------","------  ",null,0,77,null,0,null,"00.01.1900",null,{"$error":"#VALUE!"}]
[0,null,null,null,"------","------","------  ",null,0,78,null,0,null,"00.01.1900",null,{"$error":"#VALUE!"}]
[0,null,null,null,"------","------","------  ",null,0,79,null,0,null,"00.01.1900",null,{"$error":"#VALUE!"}]
[0,null,null,null,"------","------","------  ",null,0,80,null,0,null,"00.01.1900",null,{"$error":"#VALUE!"}]
[0,null,null,null,"------","------","------  ",null,0,81,null,0,null,"00.01.1900",null,{"$error":"#VALUE!"}]
[0,null,null,null,"------","------","------  ",null,0,82,null,0,null,"00.01.1900",null,{"$error":"#VALUE!"}]
[0,null,null,null,"------","------","------  ",null,0,83,null,0,null,"00.01.1900",null,{"$error":"#VALUE!"}]
[0,null,null,null,"------","------","------  ",null,0,{"$f":"J138+1","v":84},null,0,null,"00.01.1900",null,{"$error":"#VALUE!"}]
[0,null,null,null,"------","------","------  ",null,0,85,null,0,null,"00.01.1900",null,{"$error":"#VALUE!"}]
[0,null,null,null,"------","------","------  ",null,0,86,null,0,null,"00.01.1900",null,{"$error":"#VALUE!"}]
[0,null,null,null,"------","------","------  ",null,0,87,null,0,null,"00.01.1900",null,{"$error":"#VALUE!"}]
[0,null,null,null,"------","------","------  ",null,0,88,null,0,null,"00.01.1900",null,{"$error":"#VALUE!"}]
[0,null,null,null,"------","------","------  ",null,0,89,null,0,null,"00.01.1900",null,{"$error":"#VALUE!"}]
[0,null,null,null,"------","------","------  ",null,0,90,null,0,null,"00.01.1900",null,{"$error":"#VALUE!"}]
[0,null,null,null,"------","------","------  ",null,0,91,null,0,null,"00.01.1900",null,{"$error":"#VALUE!"}]
[0,null,null,null,"------","------","------  ",null,0,92,null,0,null,"00.01.1900",null,{"$error":"#VALUE!"}]
[0,null,null,null,{"$f":"IF(AND(L148>2, L148<6),P148,\"------\")","v":"------"},{"$f":"IF(M148=0,\"------\",IF(L148=6,P148,\"------\"))","v":"------"},"------  ",null,0,93,null,0,null,"00.01.1900",null,{"$error":"#VALUE!"}]
[0,null,null,null,{"$f":"IF(AND(L149>2, L149<6),P149,\"------\")","v":"------"},{"$f":"IF(M149=0,\"------\",IF(L149=6,P149,\"------\"))","v":"------"},"------  ",null,0,94,null,0,null,"00.01.1900",null,{"$error":"#VALUE!"}]
[0,null,null,null,"------","------","------  ",null,0,95,null,0,null,"00.01.1900",null,{"$error":"#VALUE!"}]
[0,null,null,null,"------","------","------  ",null,0,96,null,0,null,"00.01.1900",null,{"$error":"#VALUE!"}]
[0,null,null,null,"------","------","------  ",null,0,97,null,0,null,"00.01.1900",null,{"$error":"#VALUE!"}]
[0,null,null,null,"------","------","------  ",null,0,98,null,0,null,"00.01.1900",null,{"$error":"#VALUE!"}]
[0,null,null,null,"------","------","------  ",null,0,99,null,0,null,"00.01.1900",null,{"$error":"#VALUE!"}]
[0,null,null,null,"------","------","------  ",null,0,100,null,0,null,"00.01.1900",null,{"$error":"#VALUE!"}]
[0,null,null,null,"------","------","------  ",null,0,101,null,0,null,"00.01.1900",null,{"$error":"#VALUE!"}]
[0,null,null,null,"------","------","------  ",null,0,102,null,0,null,"00.01.1900",null,{"$error":"#VALUE!"}]
[0,null,null,null,"------","------","------  ",null,0,103,null,0,null,"00.01.1900",null,{"$error":"#VALUE!"}]
[0,null,null,null,"------","------","------  ",null,0,104,null,0,null,"00.01.1900",null,{"$error":"#VALUE!"}]
[null,null,null,null,null,null,null,null,1]
[{"$f":"A58+I58","v":19},"Курсовые работы",null,null,null,null,null,null,1]
["Семестры","Название дисциплины","Тема курсовой работы",null,null,"Оценка","Дата сдачи",null,1]
[{"$f":"K163","v":5},"Моделирование социально-экономических систем",{"$f":"O163","v":"Оптимизация структуры кормопроизводства сельскохозяйственного предприятия"},null,null,{"$f":"IF(L163=0,\"------\",P163)","v":"Удовлет."},{"$f":"IF(M163=0,\"------\",N163)","v":"30.11.2017"},null,{"$f":"IF(M163=0,0,1)","v":1},107,{"$f":"Предметы!FR2","v":5},{"$f":"INDEX(Предметы!$B$6:$JR$42,$I1,173)","v":3},{"$f":"INDEX(Предметы!$B$6:$JR$42,$I1,174)","v":"30.11.2017"},{"$f":"TEXT(M163,\"ДД.ММ.ГГГГ\")","v":"30.11.2017"},{"$f":"INDEX(Предметы!$B$6:$JR$42,$I1,175)","v":"Оптимизация структуры кормопроизводства сельскохозяйственного предприятия"},{"$f":"CHOOSE(L163,$O$1,$O$2,$O$3,$O$4,$O$5,$O$6)","v":"Удовлет."}]
[{"$f":"K164","v":6},"Бухгалтерский учет и анализ",{"$f":"O164","v":"Система нормативного регулирования\nбухгалтерского учета в России"},null,null,{"$f":"IF(L164=0,\"------\",P164)","v":"Отлично"},"07.06.2018",null,1,{"$f":"J163+1","v":108},{"$f":"Предметы!GD2","v":6},{"$f":"INDEX(Предметы!$B$6:$JR$42,$I1,185)","v":5},{"$f":"INDEX(Предметы!$B$6:$JR$42,$I1,186)","v":43258},"07.06.2018",{"$f":"INDEX(Предметы!$B$6:$JR$42,$I1,187)","v":"Система нормативного регулирования\nбухгалтерского учета в России"},"Отлично"]
[6,"Экономика организаций (предприятий)","Формирование и использование прибыли\nорганизации",null,null,"Хорошо","07.06.2018",null,1,109,{"$f":"Предметы!GM2","v":6},{"$f":"INDEX(Предметы!$B$6:$JR$42,$I1,194)","v":4},{"$f":"INDEX(Предметы!$B$6:$JR$42,$I1,195)","v":43258},"07.06.2018",{"$f":"INDEX(Предметы!$B$6:$JR$42,$I1,196)","v":"Формирование и использование прибыли\nорганизации"},"Хорошо"]
[6,"Аудит","Правовое регулирование аудиторской деятельности в\nРФ",null,null,"Отлично","07.06.2018",null,1,110,{"$f":"Предметы!GV2","v":6},{"$f":"INDEX(Предметы!$B$6:$JR$42,$I1,203)","v":5},{"$f":"INDEX(Предметы!$B$6:$JR$42,$I1,204)","v":43258},"07.06.2018",{"$f":"INDEX(Предметы!$B$6:$JR$42,$I1,205)","v":"Правовое регулирование аудиторской деятельности в\nРФ"},"Отлично"]
[7,"Комплексный анализ хозяйственной деятельности",0,null,null,"------","------",null,0,111,{"$f":"Предметы!HN2","v":7},{"$f":"INDEX(Предметы!$B$6:$JR$42,$I1,221)","v":0},{"$f":"INDEX(Предметы!$B$6:$JR$42,$I1,222)","v":0},"00.01.1900",{"$f":"INDEX(Предметы!$B$6:$JR$42,$I1,223)","v":0},{"$error":"#VALUE!"}]
[8,"Бухгалтерский финансовый учет",0,null,null,"------","------",null,0,112,{"$f":"Предметы!IO2","v":8},{"$f":"INDEX(Предметы!$B$6:$JR$42,$I1,248)","v":0},{"$f":"INDEX(Предметы!$B$6:$JR$42,$I1,249)","v":0},"00.01.1900",{"$f":"INDEX(Предметы!$B$6:$JR$42,$I1,250)","v":0},{"$error":"#VALUE!"}]
[0,null,0,null,null,"------","------",null,0,113,null,null,null,"00.01.1900",null,{"$error":"#VALUE!"}]
[0,null,0,null,null,"------","------",null,0,114,null,null,null,"00.01.1900",null,{"$error":"#VALUE!"}]
[0,null,0,null,null,"------","------",null,0,115,null,null,null,"00.01.1900",null,{"$error":"#VALUE!"}]
[0,null,0,null,null,"------","------",null,0,116,null,null,null,"00.01.1900",null,{"$error":"#VALUE!"}]
[0,null,0,null,null,"------","------",null,0,117,null,null,null,"00.01.1900",null,{"$error":"#VALUE!"}]
[null,null,0,null,null,"------","------",null,0,118,null,null,null,"00.01.1900",null,{"$error":"#VALUE!"}]
[13,null,0,null,null,"------","------",null,0,119,null,null,null,"00.01.1900",null,{"$error":"#VALUE!"}]
[14,null,0,null,null,"------","------",null,0,120,null,null,null,"00.01.1900",null,{"$error":"#VALUE!"}]
[15,null,0,null,null,"------","------",null,0,121,null,null,null,"00.01.1900",null,{"$error":"#VALUE!"}]
[16,null,0,null,null,"------","------",null,0,122,null,null,null,"00.01.1900",null,{"$error":"#VALUE!"}]
[17,null,0,null,null,"------","------",null,0,123,null,null,null,"00.01.1900",null,{"$error":"#VALUE!"}]
[18,null,0,null,null,"------","------",null,0,124,null,null,null,"00.01.1900",null,{"$error":"#VALUE!"}]
[19,null,0,null,null,"------","------",null,0,125,null,null,null,"00.01.1900",null,{"$error":"#VALUE!"}]
[20,null,0,null,null,"------","------",null,0,126,null,null,null,"00.01.1900",null,{"$error":"#VALUE!"}]
[null,null,null,null,null,null,null,null,1]
[{"$f":"A161+I161","v":20},"Прохождение практик",null,null,null,null,null,null,1]
["Курс","Наименование \nпрактики","Место практики",null,"Продолжи-\nтельность","Оценка","Дата ведомости",null,1]
[{"$f":"INT(K186/2+0.5)","v":{"$error":"#REF!"}},{"$error":"#REF!"},null,null,{"$f":"IF(Q186=0,\"\",CONCATENATE(Q186,\" \",T186))","v":{"$error":"#REF!"}},{"$f":"IF(L186=0,\"------\",P186)","v":"------"},{"$f":"CONCATENATE(IF(M186=0,\"------\",N186),\"  \",IF(O186=0,\"\",CONCATENATE(\"№ \",O186)))","v":"------  "},null,{"$f":"IF(M186=0,0,1)","v":0},129,{"$error":"#REF!"},{"$f":"INDIRECT(ADDRESS(J186,$J$59*3+4,,,\"Предметы\"))","v":0},{"$f":"INDIRECT(ADDRESS(J186,$J$59*3+5,,,\"Предметы\"))","v":0},{"$f":"TEXT(M186,\"ДД.ММ.ГГГГ\")","v":"00.01.1900"},{"$f":"INDIRECT(ADDRESS(J186,$J$59*3+6,,,\"Предметы\"))","v":0},{"$f":"CHOOSE(L186,$O$1,$O$2,$O$3,$O$4,$O$5,$O$6)","v":{"$error":"#VALUE!"}},{"$error":"#REF!"},1,"неделя",{"$f":"CHOOSE(Q186,$S$186,$S$187,$S$188,$S$189,$S$190,$S$191,$S$192,$S$193,$S$194,$S$195)","v":{"$error":"#REF!"}}]
[{"$f":"INT(K187/2+0.5)","v":2},"Учебная. Практика по получению первичных профессиональных умений и навыков, в том числе первичных умений и навыков научно-исследовательской деятельности",{"$f":"O187","v":0},null,{"$f":"IF(Q187=0,\"\",CONCATENATE(Q187,\" \",T187))","v":"2 недели"},{"$f":"IF(L187=0,\"------\",P187)","v":"Отлично"},{"$f":"IF(M187=0,\"------\",N187)","v":"05.04.2016"},null,1,{"$f":"J186+1","v":130},{"$f":"Предметы!EN2","v":4},{"$f":"INDEX(Предметы!$B$6:$JR$42,$I1,149)","v":5},{"$f":"INDEX(Предметы!$B$6:$JR$42,$I1,150)","v":"05.04.2016  "},"05.04.2016",{"$f":"INDEX(Предметы!$B$6:$JR$42,$I1,151)","v":0},{"$f":"CHOOSE(L187,$O$1,$O$2,$O$3,$O$4,$O$5,$O$6)","v":"Отлично"},2,2,"недели",{"$f":"CHOOSE(Q187,$S$186,$S$187,$S$188,$S$189,$S$190,$S$191,$S$192,$S$193,$S$194,$S$195)","v":"недели"}]
[3,"Производственная. Практика по получению профессиональных умений и опыта профессиональной деятельности",{"$f":"O188","v":0},null,"2 недели","Отлично",{"$f":"IF(M188=0,\"------\",N188)","v":"05.04.2016"},null,1,{"$f":"J187+1","v":131},{"$f":"Предметы!GA2","v":6},{"$f":"INDEX(Предметы!$B$6:$JR$42,$I1,206)","v":5},{"$f":"INDEX(Предметы!$B$6:$JR$42,$I1,207)","v":"05.04.2016  "},"05.04.2016",{"$f":"INDEX(Предметы!$B$6:$JR$42,$I1,208)","v":0},"Отлично",2,3,"недели","недели"]
[4,"Производственная. Технологическая",0,null,"2 недели","Отлично","п/зач 05.04.16",null,1,132,{"$f":"Предметы!HQ2","v":7},{"$f":"INDEX(Предметы!$B$6:$JR$42,$I1,233)","v":5},{"$f":"INDEX(Предметы!$B$6:$JR$42,$I1,234)","v":"п/зач 05.04.16"},"п/зач 05.04.16",{"$f":"INDEX(Предметы!$B$6:$JR$42,$I1,235)","v":0},"Отлично",2,4,"недели","недели"]
[4,"Научно-исследовательская работа",0,null,"2 недели","------","------",null,0,133,{"$f":"Предметы!JD2","v":8},{"$f":"INDEX(Предметы!$B$6:$JR$42,$I1,263)","v":0},{"$f":"INDEX(Предметы!$B$6:$JR$42,$I1,264)","v":0},"00.01.1900",{"$f":"INDEX(Предметы!$B$6:$JR$42,$I1,265)","v":0},{"$error":"#VALUE!"},2,5,"недель","недели"]
[4,"Преддипломная",0,null,"2 недели","------","  ",null,1,134,{"$f":"Предметы!JG2","v":8},{"$f":"INDEX(Предметы!$B$6:$JR$42,$I1,266)","v":0},{"$f":"INDEX(Предметы!$B$6:$JR$42,$I1,267)","v":"  "},"  ",{"$f":"INDEX(Предметы!$B$6:$JR$42,$I1,268)","v":0},{"$error":"#VALUE!"},2,6,"недель","недели"]
[{"$error":"#REF!"},{"$error":"#REF!"},null,null,{"$error":"#REF!"},"------","------",null,0,135,{"$error":"#REF!"},{"$f":"INDIRECT(ADDRESS(J192,$J$59*3+4,,,\"Предметы\"))","v":0},{"$f":"INDIRECT(ADDRESS(J192,$J$59*3+5,,,\"Предметы\"))","v":0},"00.01.1900",{"$f":"INDIRECT(ADDRESS(J192,$J$59*3+6,,,\"Предметы\"))","v":0},{"$error":"#VALUE!"},{"$error":"#REF!"},7,"недель",{"$error":"#REF!"}]
[{"$error":"#REF!"},{"$error":"#REF!"},null,null,{"$error":"#REF!"},{"$f":"IF(L193=0,\"\",P193)","v":""},{"$f":"CONCATENATE(IF(M193=0,\"\",N193),\"  \",IF(O193=0,\"\",CONCATENATE(\"№ \",O193)))","v":"  "},null,0,136,{"$error":"#REF!"},0,0,"00.01.1900",0,{"$error":"#VALUE!"},{"$error":"#REF!"},8,"недель",{"$error":"#REF!"}]
[{"$error":"#REF!"},{"$error":"#REF!"},null,null,{"$error":"#REF!"},{"$f":"IF(L194=0,\"\",P194)","v":""},{"$f":"CONCATENATE(IF(M194=0,\"\",N194),\"  \",IF(O194=0,\"\",CONCATENATE(\"№ \",O194)))","v":"  "},null,0,137,{"$error":"#REF!"},0,0,"00.01.1900",0,{"$error":"#VALUE!"},{"$error":"#REF!"},9,"недель",{"$error":"#REF!"}]
[{"$error":"#REF!"},{"$error":"#REF!"},null,null,{"$error":"#REF!"},{"$f":"IF(L195=0,\"\",P195)","v":""},{"$f":"CONCATENATE(IF(M195=0,\"\",N195),\"  \",IF(O195=0,\"\",CONCATENATE(\"№ \",O195)))","v":"  "},null,0,138,{"$error":"#REF!"},0,0,"00.01.1900",0,{"$error":"#VALUE!"},{"$error":"#REF!"},10,"недель",{"$error":"#REF!"}]
[null,null,null,null,null,null,null,null,1,null,null,null,null,null,null,null,{"$error":"#REF!"},null,null,{"$error":"#REF!"}]
[null,"И. о. декана факультета   ____________________________ Н. А. Середа ",null,null,null,null,null,null,1,null,null,null,null,null,null,null,{"$error":"#REF!"},null,null,{"$error":"#REF!"}]
[null,null,null,null,null,null,null,null,1]
[null,"Специалист по УМР   ________________________ О. В. Сосова",null,null,null,null,null,null,1]

{"sheet":"!справочники","index":3,"n_rows":51,"n_cols":16,"rows_kept":51,"cut":false,"hidden":false,"merged":[]}
["Муж","07.02.01 Архитектура",{"$f":"RIGHT(LEFT(D1,5),2)","v":"02"},{"$f":"LEFT(B1,8)","v":"07.02.01"},{"$f":"RIGHT(B1,LEN(B1)-9)","v":"Архитектура"},null,null,null,null,null,null,null,null,null,"Муж","Жен"]
["Жен","23.02.03 Техническое обслуживание и ремонт автомобильного транспорта","02","23.02.03",{"$f":"RIGHT(B2,LEN(B2)-9)","v":"Техническое обслуживание и ремонт автомобильного транспорта"},null,null,null,null,null,null,null,null,null,"холост","не замужем"]
[null,"35.02.15 Кинология","02","35.02.15","Кинология",null,null,null,null,null,null,null,null,null,"женат","замужем"]
[null,"38.02.01 Экономика и бухгалтерский учет","02","38.02.01","Экономика и бухгалтерский учет"]
["БАКАЛАВР","43.02.05 Флористика","02","43.02.05","Флористика"]
["МАГИСТР","07.03.01 Архитектура","03","07.03.01","Архитектура"]
["ИНЖЕНЕР","08.03.01 Строительство","03","08.03.01","Строительство"]
["ВЕТЕРИНАРНЫЙ ВРАЧ","13.03.02 Электроэнергетика и электротехника","03","13.03.02","Электроэнергетика и электротехника"]
["АРХИТЕКТОР","23.03.03 Эксплуатация транспортно-технологических машин и комплексов","03","23.03.03","Эксплуатация транспортно-технологических машин и комплексов"]
["КИНОЛОГ","35.03.04 Агрономия","03","35.03.04","Агрономия"]
["ТЕХНИК","35.03.06 Агроинженерия","03","35.03.06","Агроинженерия"]
[null,"36.03.02 Зоотехния","03","36.03.02","Зоотехния"]
[null,"38.03.01 Экономика","03","38.03.01","Экономика"]
[null,"38.03.02 Менеджмент","03","38.03.02","Менеджмент"]
[null,"08.04.01 Строительство","04","08.04.01","Строительство"]
[null,"35.04.04 Агрономия","04","35.04.04","Агрономия"]
[null,"35.04.06 Агроинженерия","04","35.04.06","Агроинженерия"]
[null,"36.04.02 Зоотехния","04","36.04.02","Зоотехния"]
[null,"38.04.01 Экономика","04","38.04.01","Экономика"]
[null,"38.04.02 Менеджмент","04","38.04.02","Менеджмент"]
[null,"23.05.01 Наземные и транспортно-технологические средства","05","23.05.01","Наземные и транспортно-технологические средства"]
[null,"36.05.01 Ветеринария","05","36.05.01","Ветеринария"]
[null,"06.06.01 Паразитология","06","06.06.01","Паразитология"]
[null,"08.06.01 Строительные материалы и изделия","06","08.06.01","Строительные материалы и изделия"]
[null,"13.06.01 Тепловые двигатели","06","13.06.01","Тепловые двигатели"]
[null,"35.06.01 Общее земледелие, растениеводство","06","35.06.01","Общее земледелие, растениеводство"]
[null,"35.06.04 Технологии и средства механизации сельского хозяйства","06","35.06.04","Технологии и средства механизации сельского хозяйства"]
[null,"36.06.01 Диагностика болезней и терапия животных, патология, онкология и морфология животных","06","36.06.01","Диагностика болезней и терапия животных, патология, онкология и морфология животных"]
[null,"38.06.01 Экономика и управление народным хозяйством","06","38.06.01","Экономика и управление народным хозяйством"]
[null,"46.06.01 Отечественная история","06","46.06.01","Отечественная история"]
[null,"47.06.01 Этика","06","47.06.01","Этика"]
[]
[]
[]
[]
[]
[]
[]
[]
[]
[]
[]
[]
[]
[]
[]
[]
[]
[]
[null,"Техник деканата"]
[null,"Специалист по УМР"]

{"sheet":"Отчисленные","index":4,"n_rows":4,"n_cols":278,"rows_kept":4,"cut":false,"hidden":false,"merged":[]}
[42,"Новожилова","Светлана","Сергеевна",{"$f":"CONCATENATE(B1,\" \",LEFT(C1,1),\". \",LEFT(D1,1),\".\")","v":"Новожилова С. С."},null,"Новожиловой","Светлане","Сергеевне","1994-09-30","г. Буй Костромской обл.","РФ","ж","ОГБОУ СПО Буйский сельскохозяйственный техникум",2013,"замужем","Костромская обл., г. Буй, ул. Октябрьской революции, д. 249, кв. 1",null,null,null,null,null,null,null,13116,"Экономический","38.03.01","Экономика","Бухгалтерский учет, анализ и аудит","4 года","БАКАЛАВР","2-552","2013-08-30","по договору с полным возмещением затрат","000000921","2013-08-15",null,null,"2-565","2018-06-25","за академическую неуспеваемость","2-610","2016-09-27",null,null,null,null,null,null,null,null,null,null,null,null,null,null,null,null,null,null,null,null,null,null,null,null,null,null,null,null,null,null,null,null,null,null,null,3,"238z",null,null,null,6,"2018-06-07",78310110,4,"30.05.2014  ",null,6,"03.06.2014  ",null,6,"30.05.2014  ",null,3,"09.06.2016  ",null,5,"05.06.2014  ",null,5,"02.06.2014  ",null,4,"11.10.2017  ",null,6,"21.05.2014  ",null,4,"24.12.2016  ",null,6,"24.12.2016  ",null,null,"  ",null,null,"  ",null,null,"  ",null,null,"  ",null,null,"  ",null,6,"16.12.2016  ",null,null,"  ",null,4,"21.04.2017  ",null,null,"  ",null,null,"  ",null,null,"  ",null,4,"05.04.2016  ",null,null,"  ",null,null,"  ",null,null,"  ",null,null,"  ",null,null,"  ",null,null,"  ",null,null,"  ",null,null,null,null,null,"  ",null,null,"  ",null,null,"  ",null,null,null,null,null,"  ",null,null,"  ",null,null,null,null,null,"  ",null,null,"  ",null,null,null,null,4,"05.04.2016  ",null,null,"  ",null,null,"  ",null,null,"  ",null,null,"  ",null,null,null,0,null,"  ",null,null,"  ",null,null,"  ",null,4,"п/зач ",null,null,"  ",null,null,"  ",null,null,"  ",null,null,"  ",null,null,null,null,null,"  ",null,null,"  ",null,null,"  ",null,null,"  ",null,4,"05.04.2016  ",null,null,"  ",null,{"$f":"(JL1*3+JM1*4+JN1*5)/50","v":0.9},null,{"$f":"COUNTIF(CC1:JG1,3)","v":1},{"$f":"COUNTIF(CC1:JG1,4)","v":8},{"$f":"COUNTIF(CC1:JG1,5)","v":2},{"$f":"COUNTIF(CC1:JG1,6)","v":6},{"$f":"SUM(JL1:JN1)","v":11},{"$f":"SUMIF(CC1:JG1,\">0\",$CC$3:$JG$3)","v":78353440},{"$f":"INT(JQ1/8+0.5)","v":9794180}]
[{"$f":"A1+1","v":43},"Сайкина","Екатерина","Алексеевна","Сайкина Е. А.",null,"Сайкиной","Екатерине","Алексеевне","1996-02-21","г. Галич","РФ","ж","Галичский аграрный техникум",2015,"не замужем","Костромская обл., г.  Галич,  ул. Набережная, д. 121 ",null,null,null,null,null,null,null,"15842з","Экономический","38.03.01","Экономика","Бухгалтерский учет, анализ и аудит","4 года","БАКАЛАВР","2-557","2015-08-21","по договору с полным возмещением затрат","000003611","2015-08-11",null,null,"2-565","2018-06-25","за академическую неуспеваемость",null,null,null,null,null,null,null,null,"2-561","2016-09-01",null,null,null,null,null,null,null,null,null,null,null,null,null,null,null,null,null,null,null,null,null,null,null,null,null,null,null,3,"238z",null,null,null,6,"2018-06-07",78310110,3,"11.06.2016  ",null,6,"04.05.2014  ",null,6,"20.09.2016  ",null,3,"09.09.2016  ",null,4,"09.09.2016  ",null,4,"11.06.2016  ",null,3,"06.05.2017  ",null,6,"12.09.2016  ",null,4,"27.11.2017  ",null,6,"24.12.2016  ",null,4,"24.12.2016  ",null,4,"13.12.2017  ",null,null,"  ",null,5,"13.12.2017  ",null,null,"  ",null,6,"2017-12-25",486,null,"  ",null,null,"  ",null,null,"  ",null,null,"21.04.2017  ",null,6,"21.04.2017  ",null,5,"05.04.2016  ",null,5,"2017-11-30","   Z-7839490",null,"  ",null,null,"  ",null,null,"  ",null,null,"  ",null,null,"  ",null,null,"  ",null,null,null,null,null,"  ",null,null,"  ",null,null,"  ",null,null,null,null,null,"  ",null,null,"  ",null,null,null,null,null,"  ",null,null,"  ",null,null,null,null,5,"05.04.2016  ",null,null,"  ",null,null,"  ",null,null,"  ",null,null,"  ",null,null,null,0,null,"  ",null,null,"  ",null,null,"  ",null,5,"п/зач 05.04.16",null,null,"  ",null,null,"  ",null,null,"  ",null,null,"  ",null,null,null,null,null,"  ",null,null,"  ",null,null,"  ",null,null,"  ",null,5,"05.04.2016  ",null,null,"  ",null,1.18,null,3,5,6,7,14,78396524,9799566]
[44,"Седова","Светлана ","Сергеевна","Седова С. С.",null,"Седовой","Светлане","Сергеевне","1995-05-07","г. Буй Костромской обл.","РФ","ж",null,null,"не замужем","Костромская обл.,  г. Буй, ул. Октябрьской Революции,   д. 17, кв. 72",null,null,null,null,null,null,null,"15867з","Экономический","38.03.01","Экономика","Бухгалтерский учет, анализ и аудит","4 года","БАКАЛАВР","2-557","2015-08-21","по договору с полным возмещением затрат","000003551","2015-08-10",null,null,"2-565","2018-06-25","за академическую неуспеваемость",null,null,null,null,null,null,null,null,"2-561","2016-09-01",null,null,null,null,null,null,null,null,null,null,null,null,null,null,null,null,null,null,null,null,null,null,null,null,null,null,null,3,"238z",3,"2018-06-07",78310135,6,"2018-06-07",78310110,5,"11.06.2016  ",null,6,"11.06.2016  ",null,6,"20.09.2016  ",null,3,"11.06.2016  ",null,5,"11.06.2016  ",null,5,"11.06.2016  ",null,3,"03.10.2016  ",null,6,"11.06.2006  ",null,3,"24.12.2016  ",null,6,"24.12.2016  ",null,4,"2017-12-25",487,null,"  ",null,null,"  ",null,null,"  ",null,null,"  ",null,null,"  ",null,null,"  ",null,null,"  ",null,null,"  ",null,6,"21.04.2017  ",null,6,"21.04.2017  ",null,5,"05.04.2016  ",null,5,"2017-11-30","    Z-7839490",null,"  ",null,null,"  ",null,null,"  ",null,null,"  ",null,null,"  ",null,null,"  ",null,null,null,null,null,"  ",null,null,"  ",null,null,"  ",null,null,null,null,null,"  ",null,null,"  ",null,null,null,null,null,"  ",null,null,"  ",null,null,null,null,5,"05.04.2016  ",null,null,"  ",null,null,"  ",null,null,"  ",null,null,"  ",null,null,null,0,null,"  ",null,null,"  ",null,null,"  ",null,4,"п/зач 05.04.16",null,null,"  ",null,null,"  ",null,null,"  ",null,null,"  ",null,null,null,null,null,"  ",null,null,"  ",null,null,"  ",null,null,"  ",null,4,"05.04.2016  ",null,null,"  ",null,1.08,null,4,3,6,7,13,156793507,19599188]
[45,"Ерехинская ","Алеся ","Сергеевна","Ерехинская  А. С.",null,"Ерехинской","Алесе","Сергеевне","1992-11-14","п. Высоковский Солигаличского р-на Костромской обл.","РФ","ж","Шаличский аграрный техникум",2012,"не замужем","Костромская обл., г. Солигалич, ул. Гагарина, д. 48",null,null,null,null,null,null,null,13118,"Экономический","38.03.01","Экономика","Бухгалтерский учет, анализ и аудит","4 года","БАКАЛАВР","2-552","2013-08-30","по договору с полным возмещением затрат","000001166","2013-08-26",null,null,"2-596","2018-07-03","как не вышедшея из академического отпуска",null,null,null,"2-635","2017-07-04","по семейным обстоятельствам","2017-07-01","2018-06-30","2-532","2014-09-01","2-561","2016-09-01",null,null,null,null,null,null,null,null,null,null,null,null,null,null,null,null,null,null,null,null,null,null,null,null,null,3,"АО",5,"27.01.2014  ",null,6,"08.09.2016  ",null,5,"21.12.2013  ",null,6,"16.04.2014  ",null,6,"23.06.2014  ",null,4,"18.06.2014  ",null,3,"27.06.2014  ",null,4,"27.06.2014  ",null,5,"26.06.2014  ",null,6,"24.04.2014  ",null,3,"01.07.2016  ",null,6,"22.12.2015  ",null,3,"14.09.2016  ",null,3,"08.09.2016  ",null,6,"25.12.2016  ",null,3,"28.12.2015  ",null,3,"25.04.2016  ",null,6,"25.04.2016  ",null,null,"  ",null,3,"06.03.2017  ",null,4,"14.09.2016  ",null,null,"  ",null,null,"  ",null,3,"п/зач 08.09.2014","ФГБОУ ВО Костромская ГСХА, кафедра экономической кибернетики",4,"01.12.2016  ",null,5,"01.12.2016  ",null,null,"  ",null,4,"02.02.2017  ",null,5,"01.12.2016  ",null,null,"  ",null,4,"01.12.2016  ",null,4,"01.12.2016","Оптимизация структуры посевных\nплощадей предприятия",6,"03.06.2017  ",null,4,"03.06.2017  ",null,5,"03.06.2017  ",null,4,"03.06.2017","Система нормативного регулирования\nбухгалтерского учета в России",5,"03.06.2017  ",null,4,"03.06.2017  ",null,null,null,null,null,"  ",null,4,"03.06.2017  ",null,4,"03.06.2017","Правовое регулирование аудиторской деятельности в Российской Федерации",4,"п/зач 08.09.2014  ",null,null,"  ",null,null,"  ",null,null,"  ",null,null,"  ",null,null,null,null,null,"  ",null,null,"  ",null,null,"  ",null,4,"п/зач 08.09.14",null,null,"  ",null,null,"  ",null,null,"  ",null,null,"  ",null,null,null,null,null,"  ",null,null,"  ",null,null,"  ",null,null,"  ",null,null,null,null,null,"  ",null,2.2999999999999998,null,8,14,7,8,29,80,10]

{"sheet":"Для диплома","index":5,"n_rows":5,"n_cols":200,"rows_kept":5,"cut":false,"hidden":false,"merged":[]}
[]
["№\nп.п.","Фамилия ","Имя","Отчество","Пол","день (цифры)\nдата рождения","месяц (цифры)\nдата рождения","год (цифры)\nдата рождения","Год поступления","Отличие (цифра 5)","гражданство \n(РФ, ближнее, дальнее, без гражданства)","источник финансирования \n(платно, бюджет, целевое)","Предыдущий \nдокумент, год выдачи,  \n(С УКАЗАНИЕМ СТРАНЫ ВЫДАЧИ КРОМЕ РФ)","Примечание","государственный экзамен","Вид выпускной  работы\n(ДП, ДР, МД)","Тема диплома","выпускная квалификационная работа","№ протокола \nаттестационной комиссии","день (цифры)\nдата защиты ","месяц (цифры)\nдата защиты","год (цифры)\nдата защиты","№ приказа об отчислении","день (цифры)\nдата приказа об отчислении","месяц (цифры)\nдата приказа об отчислении","год (цифры)\nдата приказа об отчислении","Серия диплома","№ диплома","Серия приложения к диплому","№ приложения к диплому","Регистрационный номер",null,"Моделирование социально-экономических систем",null,"Бухгалтерский учет и анализ",null,"Экономика организаций (предприятий)",null,"Аудит",null,"Комплексный анализ хозяйственной деятельности",null,"Бухгалтерский финансовый учет",null,0,null,0,null,0,null,0,null,0,null,0,null,0,null,0,null,0,null,0,null,0,null,0,null,0,null,0,null,null,"Учебная (практика по получению первичных профессиональных умений и навыков, в том","     числе первичных умений и навыков научно-исследовательской деятельности)","Производственная (научно-исследовательская работа)","Производственная (практика по получению профессиональных","      умений и опыта профессиональной деятельности)","Производственная (технологическая)","Производственная (преддипломная)",0,0,0,null,"История","Философия","Иностранный язык","Право","Социология","Психология","Математический анализ","Линейная алгебра","Теория вероятности и математическая статистика","Методы оптимальных решений  ","Макроэкономика","Микроэкономика","Эконометрика","Статистика","Безопасность жизнедеятельности","Финансы","Бухгалтерский учет и анализ","Деньги, кредит, банки","Менеджмент","Маркетинг","Мировая экономика и международные экономические отношения","Макроэкономическое планирование и прогнозирование","Корпоративные финансы","Физическая культура и спорт","Политология","Введение в профессию и основы научных исследований","Информатика и информационное обеспечение бухгалтеского учета","Информационные технологии и базы данных в бухгалтерском учете","Методы принятия управленческих решений в сфере бухгалтерского учета","Регионалистика  ","Бухгалтерский финансовый учет  ","Бухгалтерский управленческий учет","Бухгалтерская (финансовая) отчетность","Комплексный анализ хозяйственной деятельности","Аудит","Лабораторный практикум по бухгалтерскому учету","Международные стандарты финансовой отчетности","Бухгалтерский учет на предприятиях малого бизнеса","Практикум 1С: Бухгалтерия","Делопроизводство и документооборот","Инструментальные средства программирования  бухгалтерских операций","Экономика организаций (предприятий)","Логистика  ","Моделирование социально-экономических систем  ","Налоги и налогообложение  ","Планирование на предприятии  ","Анализ финансовой отчетности  ","Общая физическая подготовка",{"$f":"[5]Предметы!$B50","v":0},0,0,0,0,0,0,0,0,0,0,0,0,0,0,0,0,0,0,0,0,0,0,0,0,0,0,0,0,0,0,0,0,0,0,0,0,0,0,0,0,0,0,0,0,0,0,0,0,0,0,0,"факультативные \nдисциплины",0,0,0,0,0,0,0,0,0,0,0,0,0,0,0]
[null,null,null,null,null,null,null,null,null,null,null,null,null,null,null,null,null,null,null,null,null,null,null,null,null,null,null,null,null,null,null,null,1,null,2,null,3,null,4,null,5,null,6,null,7,null,8,null,9,null,10,null,11,null,12,null,13,null,14,null,15,null,16,null,17,null,18,null,19,null,20,null,null,"","3 з.е.","3 з.е.","","3 з.е.","3 з.е.","3 з.е.","","","",null,"3 з.е.","3 з.е.","6 з.е.","4 з.е.","2 з.е.","2 з.е.","6 з.е.","7 з.е.","4 з.е.","4 з.е.","8 з.е.","6 з.е.","5 з.е.","6 з.е.","4 з.е.","4 з.е.","7 з.е.","4 з.е.","4 з.е.","3 з.е.","4 з.е.","4 з.е.","4 з.е.","2 з.е.","5 з.е.","6 з.е.","10 з.е.","4 з.е.","2 з.е.","4 з.е.","10 з.е.","5 з.е.","5 з.е.","4 з.е.","4 з.е.","4 з.е.","3 з.е.","5 з.е.","2 з.е.","3 з.е.","6 з.е.","5 з.е.","5 з.е.","8 з.е.","3 з.е.","4 з.е.","3 з.е.","328 час.",{"$f":"IF([5]Предметы!$C50=0,CONCATENATE([5]Предметы!$D50,\" час.\"),CONCATENATE([5]Предметы!$C50,\" з.е.\"))","v":" час."}," час."," час."," час."," час."," час."," час."," час."," час."," час."," час."," час."," час."," час."," час."," час."," час."," час."," час."," час."," час."," час."," час."," час."," час."," час."," час."," час."," час."," час."," час."," час."," час."," час."," час."," час."," час."," час."," час."," час."," час."," час."," час."," час."," час."," час."," час."," час."," час."," час."," час."," час.",null,0,0,0,0,0,0,0,0,0,0,0,0,0,0,0]
[25,{"$f":"VLOOKUP(A4,Предметы!$A$6:$JI$39,2,FALSE)","v":"Семёнова"},{"$f":"VLOOKUP(A4,Предметы!$A$6:$JI$39,3)","v":"Светлана"},{"$f":"VLOOKUP(A4,Предметы!$A$6:$JI$39,4)","v":"Александровна"},{"$f":"VLOOKUP(A4,Предметы!$A$6:$JI$39,13)","v":"ж"},{"$f":"DAY(VLOOKUP(A4,Предметы!$A$6:$JI$39,10))","v":23},{"$f":"MONTH(VLOOKUP(A4,Предметы!$A$6:$JI$39,10))","v":9},{"$f":"YEAR(VLOOKUP(A4,Предметы!$A$6:$JI$39,10))","v":1988},{"$f":"YEAR(VLOOKUP(A4,Предметы!$A$6:$JI$39,33))","v":2015},null,{"$f":"VLOOKUP(A4,Предметы!$A$6:$JI$39,12)","v":"РФ"},"платно",null,null,{"$f":"VLOOKUP(A4,Предметы!$A$6:$JI$39,66)","v":0},null,{"$f":"VLOOKUP(A4,Предметы!$A$6:$JI$39,70)","v":0},"ВКР",{"$f":"VLOOKUP(A4,Предметы!$A$6:$JI$39,72)","v":0},{"$f":"DAY(VLOOKUP(A4,Предметы!$A$6:$JI$39,73))","v":0},{"$f":"MONTH(VLOOKUP(A4,Предметы!$A$6:$JI$39,73))","v":1},{"$f":"YEAR(VLOOKUP(A4,Предметы!$A$6:$JI$39,73))","v":1900},null,29,6,2018,"104406","0005647","104406","0012997","35385",null,null,{"$f":"VLOOKUP(A4,Предметы!$A$6:$JI$39,174)","v":5},null,{"$f":"VLOOKUP(A4,Предметы!$A$6:$JI$39,186)","v":5},null,{"$f":"VLOOKUP(A4,Предметы!$A$6:$JI$39,195)","v":5},null,{"$f":"VLOOKUP(A4,Предметы!$A$6:$JI$39,204)","v":5},null,{"$f":"VLOOKUP(A4,Предметы!$A$6:$JI$39,222)","v":0},null,{"$f":"VLOOKUP(A4,Предметы!$A$6:$JI$39,249)","v":0},null,null,null,null,null,null,null,null,null,null,null,null,null,null,null,null,null,null,null,null,null,null,null,null,null,null,null,null,null,null,{"$f":"VLOOKUP(A4,Предметы!$A$6:$JI$39,150)","v":5},{"$f":"VLOOKUP(A4,Предметы!$A$6:$JI$39,264)","v":0},null,{"$f":"VLOOKUP(A4,Предметы!$A$6:$JI$39,207)","v":4},{"$f":"VLOOKUP(A4,Предметы!$A$6:$JI$39,234)","v":4},{"$f":"VLOOKUP(A4,Предметы!$A$6:$JI$39,267)","v":0},null,null,null,null,{"$f":"VLOOKUP(A4,Предметы!$A$6:$JI$39,87)","v":3},{"$f":"VLOOKUP(A4,Предметы!$A$6:$JI$39,132)","v":6},{"$f":"VLOOKUP(A4,Предметы!$A$6:$JI$39,111)","v":5},{"$f":"VLOOKUP(A4,Предметы!$A$6:$JI$39,153)","v":5},{"$f":"VLOOKUP(A4,Предметы!$A$6:$JI$39,114)","v":6},{"$f":"VLOOKUP(A4,Предметы!$A$6:$JI$39,90)","v":6},{"$f":"VLOOKUP(A4,Предметы!$A$6:$JI$39,96)","v":3},{"$f":"VLOOKUP(A4,Предметы!$A$6:$JI$39,99)","v":3},{"$f":"VLOOKUP(A4,Предметы!$A$6:$JI$39,120)","v":3},{"$f":"VLOOKUP(A4,Предметы!$A$6:$JI$39,159)","v":4},{"$f":"VLOOKUP(A4,Предметы!$A$6:$JI$39,129)","v":3},{"$f":"VLOOKUP(A4,Предметы!$A$6:$JI$39,105)","v":3},{"$f":"VLOOKUP(A4,Предметы!$A$6:$JI$39,126)","v":5},{"$f":"VLOOKUP(A4,Предметы!$A$6:$JI$39,138)","v":4},{"$f":"VLOOKUP(A4,Предметы!$A$6:$JI$39,180)","v":5},{"$f":"VLOOKUP(A4,Предметы!$A$6:$JI$39,165)","v":4},{"$f":"VLOOKUP(A4,Предметы!$A$6:$JI$39,183)","v":5},{"$f":"VLOOKUP(A4,Предметы!$A$6:$JI$39,189)","v":4},{"$f":"VLOOKUP(A4,Предметы!$A$6:$JI$39,141)","v":4},{"$f":"VLOOKUP(A4,Предметы!$A$6:$JI$39,210)","v":0},{"$f":"VLOOKUP(A4,Предметы!$A$6:$JI$39,168)","v":5},{"$f":"VLOOKUP(A4,Предметы!$A$6:$JI$39,237)","v":0},{"$f":"VLOOKUP(A4,Предметы!$A$6:$JI$39,213)","v":0},6,{"$f":"VLOOKUP(A4,Предметы!$A$6:$JI$39,117)","v":5},{"$f":"VLOOKUP(A4,Предметы!$A$6:$JI$39,84)","v":6},{"$f":"VLOOKUP(A4,Предметы!$A$6:$JI$39,102)","v":5},{"$f":"VLOOKUP(A4,Предметы!$A$6:$JI$39,162)","v":5},{"$f":"VLOOKUP(A4,Предметы!$A$6:$JI$39,177)","v":6},{"$f":"VLOOKUP(A4,Предметы!$A$6:$JI$39,156)","v":3},{"$f":"VLOOKUP(A4,Предметы!$A$6:$JI$39,246)","v":0},{"$f":"VLOOKUP(A4,Предметы!$A$6:$JI$39,216)","v":0},{"$f":"VLOOKUP(A4,Предметы!$A$6:$JI$39,261)","v":0},{"$f":"VLOOKUP(A4,Предметы!$A$6:$JI$39,219)","v":0},{"$f":"VLOOKUP(A4,Предметы!$A$6:$JI$39,201)","v":5},{"$f":"VLOOKUP(A4,Предметы!$A$6:$JI$39,252)","v":0},{"$f":"VLOOKUP(A4,Предметы!$A$6:$JI$39,225)","v":0},{"$f":"VLOOKUP(A4,Предметы!$A$6:$JI$39,255)","v":0},{"$f":"VLOOKUP(A4,Предметы!$A$6:$JI$39,258)","v":0},{"$f":"VLOOKUP(A4,Предметы!$A$6:$JI$39,81)","v":5},{"$f":"VLOOKUP(A4,Предметы!$A$6:$JI$39,135)","v":4},{"$f":"VLOOKUP(A4,Предметы!$A$6:$JI$39,192)","v":4},{"$f":"VLOOKUP(A4,Предметы!$A$6:$JI$39,228)","v":0},{"$f":"VLOOKUP(A4,Предметы!$A$6:$JI$39,171)","v":5},{"$f":"VLOOKUP(A4,Предметы!$A$6:$JI$39,240)","v":0},{"$f":"VLOOKUP(A4,Предметы!$A$6:$JI$39,198)","v":4},{"$f":"VLOOKUP(A4,Предметы!$A$6:$JI$39,243)","v":0},6,6,null,null,null,null,null,null,null,null,null,null,null,null,null,null,null,null,null,null,null,null,null,null,null,null,null,null,null,null,null,null,null,null,null,null,null,null,null,null,null,null,null,null,null,null,null,null,null,null,null,null,null,null,6]
[null,null,null,null,null,null,null,null,null,null,null,null,"аттестат о среднем (полном) общем образовании, 2012 год"]

{"sheet":"Лист1","index":6,"n_rows":22,"n_cols":278,"rows_kept":22,"cut":false,"hidden":false,"merged":[]}
[]
[]
[]
[{"$f":"Предметы!A6+1","v":2},"Бурова","Наталья","Сергеевна",{"$f":"CONCATENATE(B4,\" \",LEFT(C4,1),\". \",LEFT(D4,1),\".\")","v":"Бурова Н. С."},null,"Буровой","Наталье","Сергеевне","1996-01-06","д. Харитоново Красносельского р-на Костромской обл.","РФ","ж","Костромской торгово-экономический колледж",2014,"не замужем","Костромская обл., Красносельский р-н, дер. Харитоново, д. 1. кв. 9   ",null,null,null,null,null,null,null,14108,"Экономический","38.03.01","Экономика","Бухгалтерский учет, анализ и аудит","4 года","БАКАЛАВР","2-525","2014-08-21","по договору с полным возмещением затрат","000002916","2014-08-14",null,null,null,null,null,null,null,null,null,null,null,null,null,"2-571","2015-09-01","2-561","2016-09-01","2-703","2017-09-01",null,null,null,null,null,null,"2-395","2018-05-21","Государственный экзамен","2018-05-31",4,null,null,null,"Бухгалтерский учет и аудит расчетов с персоналом по оплате труда в СПК «Знамя Труда-1» Красносельского района Костромской области",5,13,"2018-06-25",null,"36203","104406","0018142","2018-06-29",4,"246z",4,"2018-02-09",null,6,"2018-02-09",null,3,"02.06.2015  ",null,6,"04.06.2015  ",null,6,"05.05.2016  ",null,3,"30.05.2015  ",null,3,"04.06.2015  ",null,3,"03.06.2015  ",null,4,"09.06.2015  ",null,6,"22.05.2015  ",null,4,"05.05.2016  ",null,6,"22.12.2015  ",null,4,"29.12.2015  ",null,3,"26.05.2017  ",null,6,"25.12.2015  ",null,3,"28.12.2015  ",null,3,"13.04.2016  ",null,6,"25.04.2016  ",null,3,"22.04.2016  ",null,3,"22.04.2016  ",null,5,"21.04.2016  ",null,null,null,null,null,null,null,3,"п/зач 08.09.2014",null,4,"01.12.2016  ",null,4,"01.12.2016  ",null,3,"01.12.2016  ",null,3,"01.12.2016  ",null,4,"01.12.2016  ",null,4,"24.11.2016  ",null,3,"01.12.2016  ",null,3,"30.11.2016","Оптимизация структуры\nкормопроизводства предприятия",6,"03.06.2017  ",null,3,"03.06.2017  ",null,3,"03.06.2017  ",null,4,"03.06.2017","Учет расчетов по налогам и сборам",3,"03.06.2017  ",null,3,"03.06.2017  ",null,3,"03.06.2017","Себестоимость и рентабельность производства продукции животноводства",3,"03.06.2017  ",null,4,"03.06.2017  ",null,5,"03.06.2017","Профессионально-этические нормы аудита",3,"08.09.2014  ",null,4,"11.10.2017  ",null,5,"11.10.2017  ",null,3,"11.10.2017  ",null,5,"11.10.2017  ",null,4,"11.10.2017","Анализ персонала и эффективности\nиспользования трудовых ресурсов в ООО\nПЗ\"Романовские фермы\" Костромской\nобласти",5,"11.10.2017  ",null,5,"11.10.2017  ",null,6,"11.10.2017  ",null,3,"08.09.2014  ",null,3,"2018-02-09","Z-7739714",6,"2018-02-09","Z-7739563",6,"2018-02-09","Z-7739561",3,"2018-02-09","Z-7739521",5,"2018-02-09","Учет труда и его оплаты в ООО Племенной завод\n\"Романовские фермы\" Сусанинского района\nКостромской области",4,"2018-02-09","Z-7739509",3,"2018-02-09","Z-7739505",6,"2018-02-09","Z-7739549",5,"2018-02-09","Z-7739516",5,"2018-03-23","ФГБОУ ВО Костромская ГСХА, кафедра бухгалтерский учет, анализ",5,"2018-03-31","СПК \"Знамя труда-1\" Красносельского р-на Костромской обл.",{"$f":"(JL4*3+JM4*4+JN4*5)/50","v":3.6},null,{"$f":"COUNTIF(CC4:JG4,3)","v":26},{"$f":"COUNTIF(CC4:JG4,4)","v":13},{"$f":"COUNTIF(CC4:JG4,5)","v":10},{"$f":"COUNTIF(CC4:JG4,6)","v":12},{"$f":"SUM(JL4:JN4)","v":49},{"$f":"SUMIF(CC4:JG4,\">0\",Предметы!$CC$3:$JG$3)","v":7704},{"$f":"INT(JQ4/8+0.5)","v":963}]
[{"$f":"A4+1","v":3},"Бурова","Юлия ","Сергеевна","Бурова Ю. С.",null,"Буровой","Юлии","Сергеевне","1988-12-30","д. Харитоново Красносельского р-на Костромской обл.","РФ","ж","Костромской политехнический колледж",2009,"не замужем","Костромская обл., Красносельский р-н, дер. Харитоново, д. 1. кв. 9   ",null,null,null,null,null,null,null,14199,"Экономический","38.03.01","Экономика","Бухгалтерский учет, анализ и аудит","4 года","БАКАЛАВР","2-525","2014-08-21","по договору с полным возмещением затрат","000002915","2014-08-14",null,null,null,null,null,null,null,null,null,null,null,null,null,"2-571","2015-09-01","2-561","2016-09-01","2-703","2017-09-01",null,null,null,null,null,null,"2-395","2018-05-21","Государственный экзамен","2018-05-31",4,null,null,null,"Бухгалтерский учет и анализ продаж продукции в СПК «Знамя Труда-1» Красносельского района Костромской области",3,24,"2018-06-26",null,"36204","104406","0018143","2018-06-29",4,"246z",4,"2018-02-09",null,6,"2018-02-09",null,3,"02.06.2015  ",null,6,"04.06.2015  ",null,6,"29.05.2015  ",null,3,"30.05.2015  ",null,3,"04.06.2015  ",null,3,"03.06.2015  ",null,4,"09.06.2015  ",null,6,"22.05.2015  ",null,4,"25.12.2015  ",null,6,"22.12.2015  ",null,4,"29.12.2015  ",null,4,"26.05.2017  ",null,6,"25.12.2015  ",null,3,"28.12.2015  ",null,3,"13.04.2016  ",null,6,"25.04.2016  ",null,3,"22.04.2016  ",null,3,"22.04.2016  ",null,5,"21.04.2016  ",null,null,null,null,null,null,null,4,"2018-05-04","ФГБОУ ВО Костромская ГСХА, кафедра экономической кибернетики",4,"01.12.2016  ",null,3,"2018-02-21",489,3,"01.12.2016  ",null,3,"09.12.2016  ",null,4,"01.12.2016  ",null,4,"24.11.2016  ",null,3,"2018-03-27",577,3,"2018-03-27","Экономико-математическая модель для оптимальной специализации и сочетания отраслей",6,"03.06.2017  ",null,3,"03.06.2017  ",null,3,"03.06.2017  ",null,3,"03.06.2017","Учет расчетов с персоналом по оплате труда",3,"03.06.2017  ",null,3,"03.06.2017  ",null,3,"03.06.2017","Себестоимость и рентабельность производства продукции животноводства",3,"03.06.2017  ",null,3,"03.06.2017  ",null,3,"08.06.2017","Завершение аудита и подготовка аудиторского заключения",4,"2018-05-03",null,4,"11.10.2017  ",null,4,"11.10.2017  ",null,3,"11.10.2017  ",null,4,"11.10.2017  ",null,3,"11.10.2017","Анализ наличия и эффективности\nиспользования основных средств в ОАО\nПЗ \"Караваево\"Костромского р-на\nКостромской обл.",5,"11.10.2017  ",null,5,"11.10.2017  ",null,6,"2018-04-05",616,4,"2018-05-03",null,3,"2018-02-09","Z-7739714",6,"2018-02-09","Z-7739563",6,"2018-02-09","Z-7739561",3,"2018-02-09","Z-7739521",3,"2018-04-03","Учет расчетов с поставщиками, подрядчиками и заказчиками в ООО \"Автофильтр\"",4,"2018-02-09","Z-7739509",3,"2018-02-09","Z-7739505",6,"2018-02-09","Z-7739549",4,"2018-02-09","Z-7739516",4,"2018-04-23","ФГБОУ ВО Костромская ГСХА, кафедра бухгалтерский учет, анализ",4,"2018-04-23","СПК \"Знамя труда-1\" Красносельского р-на Костромской обл.",3.42,null,28,18,3,12,49,{"$f":"SUMIF(CC5:JG5,\">0\",Предметы!$CC$3:$JG$3)","v":7704},963]
[{"$f":"Предметы!A7+1","v":3},"Дугина","Ольга ","Александровна","Дугина О. А.",null,"Дугиной","Ольге","Александровне","1988-10-30","п. Красное-на-Волге Красносельского р-на Костромской обл.","РФ","ж","Костромской лесомеханический колледж",2008,"не замужем","Костромская обл., Красносельский р-н, п. Красное, ул. Советская, д. 22, кв. 35  ",null,null,null,null,null,null,null,14111,"Экономический","38.03.01","Экономика","Бухгалтерский учет, анализ и аудит","4 года","БАКАЛАВР","2-525","2014-08-21","по договору с полным возмещением затрат","000003031","2014-08-21",null,null,null,null,null,null,null,null,null,null,null,null,null,"2-571","2015-09-01","2-561","2016-09-01","2-703","2017-09-01",null,null,null,null,null,null,"2-395","2018-05-21","Государственный экзамен","2018-05-31",4,null,null,null,"Бухгалтерский учет и анализ затрат на переработку молока в СПК Колхоз «Родина» Красносельского района Костромской области",4,14,"2018-06-25",null,"36205","104406","0018144","2018-06-29",4,"246z",4,"2018-02-09",null,6,"2018-02-09",null,3,"02.06.2015  ",null,6,"04.06.2015  ",null,6,"29.05.2015  ",null,3,"30.05.2015  ",null,3,"04.06.2015  ",null,3,"03.06.2015  ",null,5,"09.06.2015  ",null,6,"22.05.2015  ",null,4,"17.12.2015  ",null,6,"22.12.2015  ",null,5,"29.12.2015  ",null,3,"26.05.2017  ",null,6,"25.12.2015  ",null,3,"28.12.2015  ",null,5,"13.04.2016  ",null,6,"25.04.2016  ",null,3,"22.04.2016  ",null,4,"22.04.2016  ",null,5,"21.04.2016  ",null,null,"  ",null,null,"  ",null,4,"п/зач 08.09.2014",null,5,"01.12.2016  ",null,4,"01.12.2016  ",null,3,"01.12.2016  ",null,3,"01.12.2016  ",null,5,"01.12.2016  ",null,4,"24.11.2016  ",null,3,"01.12.2016  ",null,3,"30.11.2016","Оптимизация структуры\nкормопроизводства предприятия",6,"03.06.2017  ",null,4,"03.06.2017  ",null,4,"03.06.2017  ",null,4,"03.06.2017","История развития бухгалтерского учета",3,"03.06.2017  ",null,5,"03.06.2017  ",null,3,"03.06.2017","Конкурентоспособность организации (предприятия)",5,"03.06.2017  ",null,3,"03.06.2017  ",null,4,"03.06.2017","Сущность аудита и его место в системе\nфинансового контроля РФ",5,"08.09.2014  ",null,5,"11.10.2017  ",null,5,"11.10.2017  ",null,5,"11.10.2017  ",null,4,"11.10.2017  ",null,3,"11.10.2017","Анализ финансовых результатов\nдеятельности СПК \"Родина\"\nКрасносельского р-на Костромской\nобласти",5,"11.10.2017  ",null,4,"11.10.2017  ",null,6,"02.02.2018  ",null,5,"08.09.2014  ",null,4,"2018-02-09","Z-7739714",6,"2018-02-09","Z-7739563",6,"2018-02-09","Z-7739561",3,"2018-02-09","Z-7739521",3,"2018-02-09","Организация бухгалтерского учета на предприятии",4,"2018-02-09","Z-7739509",5,"2018-02-09","Z-7739505",6,"2018-02-09","Z-7739549",4,"2018-02-09","Z-7739516",4,"2018-04-02","ФГБОУ ВО Костромская ГСХА, кафедра бухгалтерский учет, анализ",4,"2018-03-31","СПК Колхоз \"Родина\" Красносельского р-на Костромской обл.",3.88,null,17,17,15,12,49,{"$f":"SUMIF(CC6:JG6,\">0\",Предметы!$CC$3:$JG$3)","v":7704},963]
[{"$f":"A6+1","v":4},"Базиленко (Забродыкина)","Екатерина ","Алексеевна","Базиленко (Забродыкина) Е. А.",null,"Забродыкиной","Екатерине","Алексеевне","1986-10-28","г. Кострома","РФ","ж","ГОУСПО \"Санкт-Петербургский промышленно-экономический колледж",2010,"не замужем","г. Кострома, ул. Ивана Сусанина, д. 29/52, кв. 29 ",null,null,null,null,null,null,null,14112,"Экономический","38.03.01","Экономика","Бухгалтерский учет, анализ и аудит","4 года","БАКАЛАВР","2-525","2014-08-21","по договору с полным возмещением затрат","000002773","2014-08-06",null,null,null,null,null,null,null,null,null,null,null,null,null,"2-571","2015-09-01","2-561","2016-09-01","2-703","2017-09-01",null,null,null,null,null,null,"2-395","2018-05-21","Государственный экзамен","2018-05-31",4,null,null,null,"Бухгалтерский учет и анализ расчетов с поставщиками и покупателями в ЗАО «Шунга» Костромского района Костромской области",3,32,"2018-06-27",null,"36206","104406","0018145","2018-06-29",4,"246z",4,"2018-02-09",null,6,"2018-02-09",null,3,"02.06.2015  ",null,6,"04.06.2015  ",null,6,"29.05.2015  ",null,3,"30.05.2015  ",null,3,"04.06.2015  ",null,4,"03.06.2015  ",null,5,"09.06.2015  ",null,6,"22.05.2015  ",null,3,"17.12.2015  ",null,6,"22.12.2015  ",null,5,"29.12.2015  ",null,4,"26.05.2017  ",null,6,"25.12.2015  ",null,4,"28.12.2015  ",null,5,"13.04.2016  ",null,6,"25.04.2016  ",null,4,"22.04.2016  ",null,4,"22.04.2016  ",null,5,"21.04.2016  ",null,null,"  ",null,null,"  ",null,4,"02.07.2016  ","ФГБОУ ВО Костромская ГСХА, кафедра экономической кибернетики",5,"01.12.2016  ",null,5,"01.12.2016  ",null,3,"01.12.2016  ",null,4,"01.12.2016  ",null,4,"01.12.2016  ",null,5,"24.11.2016  ",null,4,"01.12.2016  ",null,3,"30.11.2016","Оптимизация структуры\nкормопроизводства предприятия",6,"03.06.2017  ",null,5,"03.06.2017  ",null,4,"03.06.2017  ",null,4,"03.06.2017","Предмет и метод бухгалтерского учета",4,"03.06.2017  ",null,5,"03.06.2017  ",null,3,"03.06.2017","Финансовые ресурсы организации (предприятия) и эффективность их\nиспользования",4,"03.06.2017  ",null,3,"03.06.2017  ",null,4,"03.06.2017","Стандарты и нормы аудита",4,"08.09.2014  ",null,5,"11.10.2017  ",null,5,"11.10.2017  ",null,4,"11.10.2017  ",null,5,"11.10.2017  ",null,4,"11.10.2017","Анализ наличия и эффективности\nиспользования основных средств в ООО\n\"Минское\"Костромского р-на Костромской\nобл.",5,"11.10.2017  ",null,5,"11.10.2017  ",null,6,"2018-05-18",922,4,"2018-04-19",696,4,"2018-02-09","Z-7739714",6,"2018-02-09","Z-7739563",6,"2018-02-09","Z-7739561",3,"2018-02-09","Z-7739521",3,"7739522-31","Учет расчетов с поставщиками, подрядчиками,\nпокупателями и заказчиками в ЗАО \"Шунга\"\nКостромского района Костромской области",3,"2018-04-27","7739509-26",4,"2018-02-09","Z-7739505",6,"2018-02-09","Z-7739549",4,"2018-02-09","Z-7739516",4,"2018-04-19","ФГБОУ ВО Костромская ГСХА, кафедра бухгалтерский учет, анализ",4,"2018-04-19","ЗАО \"Шунга\" Костромского р-на Костромской обл.",3.98,null,11,24,14,12,49,{"$f":"SUMIF(CC7:JG7,\">0\",Предметы!$CC$3:$JG$3)","v":7704},963]
[{"$f":"A7+1","v":5},"Калинина","Анна ","Сергеевна","Калинина А. С.",null,"Калининой","Анне","Сергеевне","1987-04-03","г. Мантурово Костромской обл.","РФ","ж","ОГБОУ СПО \"Буйский сельскохозяйственный техникум Костромской области\"",2013,"не замужем","Костромская обл., г. Мантурово, ул. Тихая, д. 24, кв. 2  ",null,null,null,null,null,null,null,14113,"Экономический","38.03.01","Экономика","Бухгалтерский учет, анализ и аудит","4 года","БАКАЛАВР","2-525","2014-08-21","по договору с полным возмещением затрат","000002889","2014-08-13",null,null,null,null,null,null,null,null,null,null,null,null,null,"2-532","2014-09-01","2-571","2015-09-01","2-703","2017-09-01",null,null,null,null,null,null,"2-395","2018-05-21","Государственный экзамен","2018-05-31",5,null,null,null,"Бухгалтерский учет и анализ эффективности использования основных средств в ООО «Леонтьево» Мантуровского района Костромской области",5,15,"2018-06-25",null,"36207","104406","0018146","2018-06-29",4,"246z",3,"2018-02-09",null,6,"2018-02-09",null,3,"02.06.2015  ",null,6,"29.05.2015  ",null,6,"04.06.2015  ",null,3,"06.06.2015  ",null,3,"04.06.2015  ",null,3,"03.06.2015  ",null,4,"09.06.2015  ",null,6,"22.05.2015  ",null,3,"17.12.2015  ",null,6,"22.12.2015  ",null,4,"29.12.2015  ",null,3,"26.05.2017  ",null,6,"25.12.2015  ",null,3,"28.12.2015  ",null,4,"13.04.2016  ",null,6,"25.04.2016  ",null,3,"22.04.2016  ",null,4,"22.04.2016  ",null,5,"21.04.2016  ",null,null,"  ",null,null,"  ",null,4,"02.07.2016  ","ФГБОУ ВО Костромская ГСХА, кафедра экономической кибернетики",5,"01.12.2016  ",null,5,"01.12.2016  ",null,3,"01.12.2016  ",null,4,"01.12.2016  ",null,4,"01.12.2016  ",null,4,"24.11.2016  ",null,5,"01.12.2016  ",null,5,"30.11.2016","Оптимальная специализация и сочетание\nотраслей",6,"03.06.2017  ",null,5,"03.06.2017  ",null,4,"03.06.2017  ",null,4,"03.06.2017","Предмет и метод бухгалтерского учета",4,"03.06.2017  ",null,4,"03.06.2017  ",null,4,"03.06.2017","Эффективность использования основных средств организации (предприятия)",5,"03.06.2017  ",null,4,"03.06.2017  ",null,4,"03.06.2017","Основные принципы проведения аудита",4,"08.09.2014  ",null,5,"11.10.2017  ",null,4,"11.10.2017  ",null,4,"11.10.2017  ",null,4,"11.10.2017  ",null,5,"11.10.2017","Анализ эффективности использования\nосновных средств в СПК \"Леонтьево\"\nМантуровского р-на Костромской обл.",4,"11.10.2017  ",null,4,"11.10.2017  ",null,6,"11.10.2017  ",null,5,"2018-01-25",null,3,"2018-02-09","Z-7739714",6,"2018-02-09","Z-7739563",6,"2018-02-09","Z-7739561",4,"2018-02-09","Z-7739521",4,"2018-02-09","Организация учета основных средств на предприятии",3,"2018-02-09","Z-7739509",4,"2018-02-09","Z-7739505",6,"2018-02-09","Z-7739549",5,"2018-02-09","Z-7739516",4,"2018-03-20","ФГБОУ ВО Костромская ГСХА, кафедра бухгалтерский учет, анализ",5,"2018-04-18","ООО \"Леонтьево\" Мантуровского р-на Костромской обл.",3.92,null,12,25,12,12,49,{"$f":"SUMIF(CC8:JG8,\">0\",Предметы!$CC$3:$JG$3)","v":7704},963]
[{"$f":"Предметы!A8+1","v":4},"Кораблева (Муравьева) ","Юлия ","Александровна","Кораблева (Муравьева)  Ю. А.",null,"Кораблевой","Юлии","Александровне","1980-09-23","д. Челсма Галичского р-на Костромской обл.","РФ","ж","Галичский аграрный техникум",2001,"замужем","Костромская обл., Галичский р-н, д. Чёлсма, ул. Северная, д. 13   ",null,null,null,null,null,null,null,14138,"Экономический","38.03.01","Экономика","Бухгалтерский учет, анализ и аудит","4 года","БАКАЛАВР","2-525","2014-08-21","по договору с полным возмещением затрат","000002878","2014-08-13",null,null,null,null,null,null,null,null,null,null,null,null,null,"2-571","2015-09-01","2-561","2016-09-01","2-339","2018-05-03",null,null,null,null,null,null,"2-395","2018-05-21","Государственный экзамен","2018-06-01",3,null,null,null,"Бухгалтерский учет и анализ продаж продукции в колхозе «За мир» Галичского района Костромской области",3,35,"2018-06-27",null,"36208","104406","0018147","2018-06-29",4,"248z",3,"2018-02-09",77510120,6,"2018-02-09",77510136,5,"02.06.2015  ",null,6,"04.06.2015  ",null,6,"09.06.2015  ",null,5,"30.05.2015  ",null,5,"04.06.2015  ",null,5,"03.06.2015  ",null,3,"09.06.2015  ",null,6,"22.05.2015  ",null,4,"17.12.2015  ",null,6,"22.12.2015  ",null,4,"29.12.2015  ",null,4,"08.09.2016  ",null,6,"25.12.2015  ",null,5,"28.12.2015  ",null,4,"25.04.2016  ",null,6,"25.04.2016  ",null,5,"25.04.2016  ",null,3,"25.04.2016  ",null,4,"14.09.2016  ",null,null,"  ",null,null,"  ",null,5,"02.07.2016  ","ФГБОУ ВО Костромская ГСХА, кафедра экономической кибернетики",4,"17.10.2017  ",null,4,"2018-05-04",762,3,"30.03.2017  ",null,4,"29.06.2017  ",null,5,"01.12.2016  ",null,5,"01.12.2016  ",null,4,"2018-04-24",748,4,"17.10.2017","Оптимизация структуры посевных\nплощадей предприятия",6,"03.06.2017  ",null,4,"03.06.2017  ",null,5,"03.06.2017  ",null,4,"05.09.2017","Основы организации в ведения бухгалтерского учета на предприятии",5,"03.06.2017  ",null,5,"03.06.2017  ",null,4,"25.12.2017","Эффективность производства молока в СПК «Маяк»",5,"03.06.2017  ",null,5,"03.06.2017  ",null,4,"05.09.2017","Планирование аудита",4,"2017-08-31",null,4,"2018-04-16",657,5,"2018-04-24",747,4,"2018-03-29",588,5,"11.10.2017    Z-7759525",null,5,"2018-04-19","Анализ наличия и эффективности использования основных средств в СПК \"Маяк\" Галичского района Костромской области",5,"2018-02-21",492,4,"2018-04-16",649,6,"2018-04-28",726,4,"2018-01-25",null,5,"2018-02-09",7759714,6,"2018-02-09",7759563,6,"2018-02-09",7759561,3,"2018-05-07","7759521-26",3,"2018-04-28","Организация бухгалтерского учета в СПК \"Маяк\" Галичского района Костромской области",4,"2018-04-16","7759509-8",4,"2018-04-02","7759505-6",6,"2018-04-02","7759549-5",5,"2018-02-09",7759516,5,"2018-03-20","ФГБОУ ВО Костромская ГСХА, кафедра бухгалтерский учет и анализ",4,"2018-04-05","Колхоз \"За Мир\" Галичского р-на Костромской обл.",4.22,null,6,22,21,12,49,{"$f":"SUMIF(CC9:JG9,\">0\",Предметы!$CC$3:$JG$3)","v":7704},963]
[{"$f":"A9+1","v":5},"Куриченкова","Наталья ","Алексеевна","Куриченкова Н. А.",null,"Куриченковой","Наталье","Алексеевне","1968-07-10","с. Николо-Макарово Макарьевского р-на Костромской обл.","РФ","ж","Вельский учетно-экономический техникум",1989,"замужем","г. Кострома, мкр Давыдовский-3, д. 9, кв. 209",null,null,null,null,null,null,null,14118,"Экономический","38.03.01","Экономика","Бухгалтерский учет, анализ и аудит","4 года","БАКАЛАВР","2-525","2014-08-21","по договору с полным возмещением затрат","000002888","2014-08-13",null,null,null,null,null,null,null,null,null,null,null,null,null,"2-571","2015-09-01","2-561","2016-09-01","2-703","2017-09-01",null,null,null,null,null,null,"2-395","2018-05-21","Государственный экзамен","2018-05-31",5,null,null,null,"Бухгалтерский учет расчетов с поставщиками, покупателями и анализ дебиторской и кредиторской задолженности в СПК «Новая Русь» Макарьевского района Костромской области",5,18,"2018-06-26",null,"36209","104406","0018148","2018-06-29",4,"246z",5,"2018-02-09",null,6,"2018-02-09",null,3,"02.06.2015  ",null,6,"04.06.2015  ",null,6,"28.05.2015  ",null,3,"30.05.2015  ",null,4,"04.06.2015  ",null,3,"03.06.2015  ",null,5,"09.06.2015  ",null,6,"22.05.2015  ",null,3,"25.12.2015  ",null,6,"22.12.2015  ",null,5,"29.12.2015  ",null,4,"26.12.2015  ",null,6,"25.12.2015  ",null,3,"28.12.2015  ",null,4,"13.04.2016  ",null,6,"25.04.2016  ",null,3,"22.04.2016  ",null,4,"22.04.2016  ",null,5,"21.04.2016  ",null,null,"  ",null,null,"  ",null,5,"п/зач 08.09.2014",null,4,"01.12.2016  ",null,4,"01.12.2016  ",null,4,"01.12.2016  ",null,4,"01.12.2016  ",null,4,"01.12.2016  ",null,4,"24.11.2016  ",null,4,"01.12.2016  ",null,5,"30.11.2016","Оптимизация структуры\nкормопроизводства предприятия",6,"03.06.2017  ",null,5,"03.06.2017  ",null,4,"03.06.2017  ",null,5,"03.06.2017","Бухгалтерский баланс и бухгалтерская отчентость",4,"03.06.2017  ",null,5,"03.06.2017  ",null,4,"03.06.2017","Эффективность использования земельных ресурсов в ООО \"Сущево\"",5,"03.06.2017  ",null,4,"03.06.2017  ",null,5,"03.06.2017","Организация и осуществление внутреннего аудита",5,"08.09.2014  ",null,5,"11.10.2017  ",null,5,"11.10.2017  ",null,5,"11.10.2017  ",null,4,"11.10.2017  ",null,5,"11.10.2017","Анализ трудовых ресурсов и их\nиспользования в ООО\n\"Сущево\"Костромского р-на Костромской\nобл.",5,"11.10.2017  ",null,5,"11.10.2017  ",null,6,"11.10.2017  ",null,5,"08.09.2014  ",null,4,"2018-02-09","Z-7739714",6,"2018-02-09","Z-7739563",6,"2018-02-09","Z-7739561",5,"2018-02-09","Z-7739521",5,"2018-02-09","Учет расчетов с поставщиками и подрядчиками,\nпокупателями и заказчиками в организации",4,"2018-02-09","Z-7739509",5,"2018-02-09","Z-7739505",6,"2018-02-09","Z-7739549",5,"2018-02-09","Z-7739516",5,"2018-03-26","ФГБОУ ВО Костромская ГСХА, кафедра бухгалтерский учет, анализ",5,"2018-04-20","СПК \"Новая Русь\" Макарьевского р-на Костромской обл.",4.3,null,6,18,25,12,49,{"$f":"SUMIF(CC10:JG10,\">0\",Предметы!$CC$3:$JG$3)","v":7704},963]
[{"$f":"A10+1","v":6},"Кучина","Ксения ","Юрьевна","Кучина К. Ю.",null,"Кучиной","Ксении","Юрьевне","1995-04-28","д. Еремейцево Ростовского р-на Ярославской обл.","РФ","ж","Ярославский аграрно-политехнический колледж",2014,"не замужем","г. Кострома, мкр Давыдовский-2, д. 49",null,null,null,null,null,null,null,14119,"Экономический","38.03.01","Экономика","Бухгалтерский учет, анализ и аудит","4 года","БАКАЛАВР","2-525","2014-08-21","по договору с полным возмещением затрат","000002986","2014-08-18",null,null,null,null,null,null,null,null,"2-565","2018-06-25","по семейным обстоятельствам",null,null,"2-571","2015-09-01","2-561","2016-09-01","2-703","2017-09-01",null,null,null,null,null,null,"2-395","2018-05-21","Государственный экзамен","2018-05-31",4,null,null,null,"Формирование и анализ показателей отчета о финансовых результатах в СПК Колхоз  «Родина» Красносельского района Костромской области",null,null,null,null,null,null,null,null,4,"АО",3,"2018-02-09",null,6,"2018-02-09",null,3,"02.06.2015  ",null,6,"04.06.2015  ",null,6,"29.06.2015  ",null,3,"06.06.2015  ",null,3,"04.06.2015  ",null,3,"03.06.2015  ",null,5,"09.06.2015  ",null,6,"22.05.2015  ",null,3,"17.12.2015  ",null,6,"22.12.2015  ",null,5,"29.12.2015  ",null,3,"26.12.2015  ",null,6,"25.12.2015  ",null,3,"28.12.2015  ",null,4,"13.04.2016  ",null,6,"25.04.2016  ",null,3,"22.04.2016  ",null,3,"22.04.2016  ",null,4,"21.04.2016  ",null,null,"  ",null,null,"  ",null,5,"п/зач 08.09.2014",null,4,"01.12.2016  ",null,4,"01.12.2016  ",null,3,"01.12.2016  ",null,3,"01.12.2016  ",null,4,"01.12.2016  ",null,4,"24.11.2016  ",null,3,"01.12.2016  ",null,3,"30.11.2016","Оптимальная специализация и сочетание\nотраслей",6,"03.06.2017  ",null,3,"03.06.2017  ",null,4,"03.06.2017  ",null,3,"03.06.2017","Система нормативного регулирования бухгалтерского учета в России",4,"03.06.2017  ",null,3,"03.06.2017  ",null,4,"03.06.2017","Формирование и использование прибыли организации (предприятия)",4,"03.06.2017  ",null,3,"03.06.2017  ",null,4,"03.06.2017","Образование аудитора и контроль качества проведения аудита",5,"08.09.2014  ",null,4,"11.10.2017  ",null,3,"11.10.2017  ",null,3,"11.10.2017  ",null,4,"11.10.2017  ",null,3,"11.10.2017","Анализ персонала и эффективности\nиспользования трудовых ресурсов в СПК\n\"Яковлевское\" Костромского р-на\nКостромской обл.",5,"11.10.2017  ",null,4,"11.10.2017  ",null,6,"08.02.2018  ",null,5,"08.09.2014  ",null,3,"2018-02-09","Z-7739714",6,"2018-02-09","Z-7739563",6,"2018-02-09","Z-7739561",3,"2018-02-09","Z-7739521",3,"2018-02-09","Организация учета финансовых результатов на\nпредприятии",4,"2018-02-09","Z-7739509",4,"2018-02-09","Z-7739505",6,"2018-02-09","Z-7739549",4,"2018-02-09","Z-7739516",5,"2018-03-20","ФГБОУ ВО Костромская ГСХА, кафедра бухгалтерский учет, анализ",5,"2018-03-31","СПК Колхоз \"Родина\" Красносельского р-на Костромской обл.",3.6,null,24,17,8,12,49,{"$f":"SUMIF(CC11:JG11,\">0\",Предметы!$CC$3:$JG$3)","v":7704},963]
[{"$f":"Предметы!A9+1","v":5},"Павлова","Юлия ","Андреевна","Павлова Ю. А.",null,"Павловой","Юлии","Андреевне","1995-06-03","д. Добрецово Буйского р-на Костромской обл.","РФ","ж","ОГБ ПОУ \"Буйский техникум градостроительства и предпринимательства Костромской обл.",2014,"не замужем","Костромская обл., г.Буй, ул. Ленских Событий, д. 81        ",null,null,null,null,null,null,null,14122,"Экономический","38.03.01","Экономика","Бухгалтерский учет, анализ и аудит","4 года","БАКАЛАВР","2-525","2014-08-21","по договору с полным возмещением затрат","000003037","2014-08-21",null,null,null,null,null,null,null,null,null,null,null,null,null,"2-571","2015-09-01","2-561","2016-09-01","2-339","2018-05-03",null,null,null,null,null,null,"2-395","2018-05-21","Государственный экзамен","2018-06-01",3,null,null,null,"Бухгалтерский учет затрат и анализ себестоимости продукции в ООО «Воскресенский сыродел» Буйского района Костромской области",3,28,"2018-06-27",null,"36212","104406","0018150","2018-06-29",4,"248z",3,"2018-02-09",77510120,6,"2018-05-18","77510136-28",3,"02.06.2015  ",null,6,"04.06.2015  ",null,6,"28.05.2015  ",null,3,"30.05.2015  ",null,3,"04.06.2015  ",null,4,"03.06.2015  ",null,4,"09.06.2015  ",null,6,"22.05.2015  ",null,3,"20.09.2016  ",null,6,"22.12.2015  ",null,4,"29.12.2015  ",null,4,"08.09.2016  ",null,6,"25.12.2015  ",null,3,"28.12.2015  ",null,4,"25.04.2016  ",null,6,"25.04.2016  ",null,3,"13.09.2016  ",null,3,"31.08.2016  ",null,4,"14.09.2016  ",null,null,"  ",null,null,"  ",null,4,"п/зач 08.09.2014",null,4,"01.12.2016  ",null,4,"17.10.2017  ",null,3,"19.06.2017  ",null,4,"06.03.2017  ",null,5,"01.12.2016  ",null,5,"17.10.2017  ",null,3,"2018-05-15",853,4,"2018-05-08","Оптимизация структуры кормопроизводства",6,"20.09.2017  ",null,4,"03.06.2017  ",null,5,"05.09.2017  ",null,5,"31.12.2017","Основы организации в ведения бухгалтерского учета на предприятии",5,"03.06.2017  ",null,4,"26.12.2017  ",null,4,"26.12.2017","Эффективность переработки конкретного вида продукции в организации (предприятии)",5,"18.12.2017  ",null,5,"05.09.2017  ",null,4,"2018-01-30","Организация аудиторской деятельности в Российской Федерации",3,"08.09.2014  ",null,5,"2017-10-11","    Z-7759487",5,"2018-05-04",763,4,"2018-03-20",554,5,"2018-05-16",865,4,"2018-05-16","Анализ эффективности использования МТП на примере СПК \"Яковлевское\" Костромского р-на Костромской обл.\"",4,"2018-02-21",491,5,"2018-04-16",650,6,"2018-04-28",728,3,"п/зач 08.09.2014  ",null,4,"2018-04-17","7759714-12",6,"2018-02-09",7759563,6,"2018-05-04",764,3,"2018-05-18",null,3,"2018-05-18","Организация бухгалтерского учета",3,"2018-04-27","775909-20",5,"2018-02-09",7759505,6,"2018-04-23","7758459-18",5,"2018-02-09",7759516,4,"2018-04-19","ФГБОУ ВО Костромская ГСХА, кафедра бухгалтерский учет и анализ",4,"2018-04-19","ООО \"Воскресенский сыродел\" Буйского р-на Костромской обл.",3.88,null,15,21,13,12,49,{"$f":"SUMIF(CC12:JG12,\">0\",Предметы!$CC$3:$JG$3)","v":7704},963]
[{"$f":"Предметы!A10+1","v":6},"Попова","Алёна ","Александровна","Попова А. А.",null,"Поповой","Алёне","Александровне","1994-09-18","г. Кострома","РФ","ж","Костромской технологический техникум",2014,"не замужем","г. Кострома, мкр. Паново, д. 23, кв. 15  ",null,null,null,null,null,null,null,14124,"Экономический","38.03.01","Экономика","Бухгалтерский учет, анализ и аудит","4 года","БАКАЛАВР","2-525","2014-08-21","по договору с полным возмещением затрат","000002906","2014-08-14",null,null,null,null,null,null,null,null,null,null,null,null,null,"2-571","2015-09-01","2-561","2016-09-01","2-703","2017-09-01",null,null,null,null,null,null,"2-395","2018-05-21","Государственный экзамен","2018-05-31",4,null,null,null,"Бухгалтерский учет налогов и сборов и анализ налоговой нагрузки в СПК Колхоз «Родина» Красносельского района Костромской области",4,33,"2018-06-27",null,"36214","104406","0018152","2018-06-29",4,"246z",3,"2018-02-09",null,6,"2018-02-09",null,3,"02.06.2015  ",null,6,"04.06.2015  ",null,6,"29.05.2015  ",null,3,"09.06.2015  ",null,3,"04.06.2015  ",null,3,"03.06.2015  ",null,4,"09.06.2015  ",null,6,"22.05.2015  ",null,3,"17.12.2015  ",null,6,"22.12.2015  ",null,4,"29.12.2015  ",null,3,"26.12.2015  ",null,6,"25.12.2015  ",null,3,"28.12.2015  ",null,5,"13.04.2016  ",null,6,"25.04.2016  ",null,3,"22.04.2016  ",null,3,"22.04.2016  ",null,4,"21.04.2016  ",null,null,"  ",null,null,"  ",null,3,"п/зач 08.09.2014",null,4,"01.12.2016  ",null,4,"01.12.2016  ",null,3,"01.12.2016  ",null,3,"01.12.2016  ",null,3,"01.12.2016  ",null,4,"24.11.2016  ",null,3,"01.12.2016  ",null,3,"30.11.2016","Оптимальная специализация и сочетание\nотраслей",6,"03.06.2017  ",null,3,"03.06.2017  ",null,4,"03.06.2017  ",null,3,"2018-05-04","Принцип двойной записи в синтетическом и аналитическом учете",3,"03.06.2017  ",null,3,"03.06.2017  ",null,3,"03.06.2017","Пути повышения финансовых результатов организации (предприятия)",3,"03.06.2017  ",null,4,"03.06.2017  ",null,4,"03.06.2017","Правовое регулирование аудиторской деятельности в РФ",4,"08.09.2014  ",null,3,"11.10.2017  ",null,4,"11.10.2017  ",null,3,"11.10.2017  ",null,4,"11.10.2017  ",null,4,"11.10.2017","Анализ финансовых результатов от\nпродажи продукции в ОАО ПЗ\n\"Чернопенский\" Костромского р-на\nКостромской обл",4,"11.10.2017  ",null,4,"11.10.2017  ",null,6,"09.02.2018  ",null,3,"08.09.2014  ",null,3,"2018-02-09","Z-7739714",6,"2018-02-09","Z-7739563",6,"2018-02-09","Z-7739561",3,"2018-02-09","Z-7739521",3,"2018-05-04","Бухгалтерский учет расчетов с бюджетами внебюджетного фонда в СПК Колхоз \"Родина\"",3,"2018-02-09","Z-7739509",3,"2018-02-09","Z-7739505",6,"2018-02-09","Z-7739549",4,"2018-02-09","Z-7739516",4,"2018-04-02","ФГБОУ ВО Костромская ГСХА, кафедра бухгалтерский учет, анализ",4,"2018-05-05","СПК Колхоз \"Родина\" Красносельского р-на Костромской обл.",3.34,null,30,18,1,12,49,{"$f":"SUMIF(CC13:JG13,\">0\",Предметы!$CC$3:$JG$3)","v":7704},963]
[{"$f":"A13+1","v":7},"Посыпкина","Анастасия","Валерьевна","Посыпкина А. В.",null,"Посыпкиной","Анастасии","Валерьевне","1995-09-06","г. Буй Костромской обл.","РФ","ж","Буйский техникум гра",2014,"не замужем","Костромская обл., Буйский р-н, с. Ликурга, ул. Овражная, д. 14     ",null,null,null,null,null,null,null,14125,"Экономический","38.03.01","Экономика","Бухгалтерский учет, анализ и аудит","4 года","БАКАЛАВР","2-525","2014-08-21","по договору с полным возмещением затрат","000002912","2014-08-14",null,null,null,null,null,null,null,null,null,null,null,null,null,"2-571","2015-09-01","2-561","2016-09-01","2-703","2017-09-01",null,null,null,null,null,null,"2-395","2018-05-21","Государственный экзамен","2018-05-31",5,null,null,null,"Бухгалтерский учет и анализ продаж продукции в ЗАО «Агрофирма «Пахма» Ярославского района Ярославской области",5,19,"2018-06-26",null,"36215","104406","0018153","2018-06-29",4,"246z",4,"2018-02-09",null,6,"2018-02-09",null,3,"02.06.2015  ",null,6,"04.06.2015  ",null,6,"05.10.2017  ",null,3,"30.05.2015  ",null,3,"04.06.2015  ",null,3,"03.06.2015  ",null,4,"09.06.2015  ",null,6,"22.05.2015  ",null,3,"25.12.2015  ",null,6,"22.12.2015  ",null,4,"29.12.2015  ",null,3,"26.12.2015  ",null,6,"25.12.2015  ",null,3,"28.12.2015  ",null,3,"13.04.2016  ",null,6,"25.04.2016  ",null,3,"22.04.2016  ",null,4,"22.04.2016  ",null,4,"21.04.2016  ",null,null,"  ",null,null,"  ",null,3,"п/зач 08.09.2014",null,4,"01.12.2016  ",null,4,"01.12.2016  ",null,3,"01.12.2016  ",null,3,"01.12.2016  ",null,3,"01.12.2016  ",null,4,"24.11.2016  ",null,3,"01.12.2016  ",null,3,"30.11.2016","Оптимальная специализация и сочетание\nотраслей",6,"03.06.2017  ",null,3,"03.06.2017  ",null,4,"03.06.2017  ",null,3,"03.06.2017","Учет хозяйственных процессов",3,"03.06.2017  ",null,3,"03.06.2017  ",null,3,"03.06.2017","Эффективность использования земельных ресурсов организации (предприятия0",3,"03.06.2017  ",null,3,"03.06.2017  ",null,4,"03.06.2017","Образование аудитора и контроль качества проведения аудита",3,"08.09.2014  ",null,3,"11.10.2017  ",null,4,"11.10.2017  ",null,4,"11.10.2017  ",null,3,"11.10.2017  ",null,3,"11.10.2017","Комплексный анализ продаж продукции в\nОАО \"Зарница\" Буйского р-на\nКостромской обл.",5,"11.10.2017  ",null,4,"11.10.2017  ",null,6,"09.02.2018  ",null,3,"08.09.2014  ",null,4,"2018-02-09","Z-7739714",6,"2018-02-09","Z-7739563",6,"2018-02-09","Z-7739561",3,"2018-02-09","Z-7739521",4,"2018-02-09","Учет продаж продукции (работ, услуг) в ЗАО\n\"Агрофирма \"Пахма\" Ярославского района\nЯрославской области",4,"2018-02-09","Z-7739509",4,"2018-02-09","Z-7739505",6,"2018-02-09","Z-7739549",4,"2018-02-09","Z-7739516",4,"2018-03-20","ФГБОУ ВО Костромская ГСХА, кафедра бухгалтерский учет, анализ",4,"2018-04-11","ЗАО \"Агрофирма \"Пахма\" Ярославского р-на Ярославской обл.",3.38,null,28,20,1,12,49,{"$f":"SUMIF(CC14:JG14,\">0\",Предметы!$CC$3:$JG$3)","v":7704},963]
[{"$f":"A14+1","v":8},"Румянцева","Ульяна ","Георгиевна","Румянцева У. Г.",null,"Румянцевой","Ульяне","Георгиевне","1981-05-06","п. Карица Грязовецкого р-на Вологодской обл.","РФ","ж","ОГБ ПОУ \"Буйский техникум градостроительства и предпринимательства Костромской области\"",2014,"не замужем","Вологодская обл., п. Вохтога, ул. Колхозная, д. 64, кв. 33  ",null,null,null,null,null,null,null,14126,"Экономический","38.03.01","Экономика","Бухгалтерский учет, анализ и аудит","4 года","БАКАЛАВР","2-525","2014-08-21","по договору с полным возмещением затрат","000002794","2014-08-08",null,null,null,null,null,null,null,null,null,null,null,null,null,"2-571","2015-09-01","2-561","2016-09-01","2-703","2017-09-01",null,null,null,null,null,null,"2-395","2018-05-21","Государственный экзамен","2018-05-31",4,null,null,null,"Бухгалтерский учет и анализ продаж продукции животноводства в СПК «Анохинский» Грязовецкого района Вологодской области",3,20,"2018-06-26",null,"36216","104406","0018154","2018-06-29",4,"246z",4,"2018-02-09",null,6,"2018-02-09",null,4,"02.06.2015  ",null,6,"04.06.2015  ",null,6,"28.05.2015  ",null,3,"30.05.2015  ",null,3,"04.06.2015  ",null,3,"03.06.2015  ",null,5,"09.06.2015  ",null,6,"22.05.2015  ",null,4,"25.12.2015  ",null,6,"22.12.2015  ",null,5,"29.12.2015  ",null,4,"26.12.2015  ",null,6,"25.12.2015  ",null,3,"28.12.2015  ",null,4,"13.04.2016  ",null,6,"25.04.2016  ",null,3,"22.04.2016  ",null,3,"22.04.2016  ",null,5,"21.04.2016  ",null,null,"  ",null,null,"  ",null,3,"п/зач 08.09.2014",null,5,"01.12.2016  ",null,5,"01.12.2016  ",null,3,"01.12.2016  ",null,3,"01.12.2016  ",null,4,"01.12.2016  ",null,4,"24.11.2016  ",null,3,"01.12.2016  ",null,3,"30.11.2016","Оптимизация структуры\nкормопроизводства предприятия",6,"03.06.2017  ",null,5,"03.06.2017  ",null,4,"03.06.2017  ",null,4,"03.06.2017","Бухгалтерская служба: права, обязанности и ответственность\nбухгалтерских работников",4,"03.06.2017  ",null,4,"03.06.2017  ",null,4,"03.06.2017","Эффективность использования основных средств организации (предприятия)",4,"03.06.2017  ",null,4,"03.06.2017  ",null,4,"03.06.2017","Аудит готовой продукции в СПК \"Русь\" Макарьевского района Костромской\nобласти",5,"08.09.2014  ",null,5,"11.10.2017  ",null,5,"11.10.2017  ",null,5,"11.10.2017  ",null,3,"11.10.2017  ",null,4,"11.10.2017","Комплексный анализ продаж продукции в\nСПК \"Анохинский\" Грязовецкого р-на\nВологодской обл.",5,"11.10.2017  ",null,5,"11.10.2017  ",null,6,"11.10.2017  ",null,4,"08.09.2014  ",null,3,"2018-02-09","Z-7739714",6,"2018-02-09","Z-7739563",6,"2018-02-09","Z-7739561",3,"2018-04-11","7739522-12",3,"2018-04-11","Учет продаж продукции (работ, услуг) в организации\nСПК \"Анохинский\" Грязовецкого района Вологодской\nобласти",3,"2018-04-16","7739509-16",4,"2018-02-09","Z-7739505",6,"2018-02-09","Z-7739549",4,"2018-02-09","Z-7739516",4,"2018-04-12","ФГБОУ ВО Костромская ГСХА, кафедра бухгалтерский учет, анализ",4,"2018-04-12","СПК \"Анохинский\" Грязовецкого р-на Вологодской обл.",3.84,null,16,21,12,12,49,{"$f":"SUMIF(CC15:JG15,\">0\",Предметы!$CC$3:$JG$3)","v":7704},963]
[{"$f":"A15+1","v":9},"Малкова (Соловьёва)","Лидия ","Олеговна","Малкова (Соловьёва) Л. О.",null,"Малкове","(Соловьёва)у","Лидияу","1995-04-09","г. Галич Костромской обл.","РФ","ж","ОГБ ПОУ \"Галичский аграрный техникум Костромской области\"",2014,"замужем","Костромская обл., г.Галич, ул. Лермонтова, д. 18 кв. 7   ",null,null,null,null,null,null,null,14142,"Экономический","38.03.01","Экономика","Бухгалтерский учет, анализ и аудит","4 года","БАКАЛАВР","2-525","2014-08-21","по договору с полным возмещением затрат","000002873","2014-08-13",null,null,null,null,null,null,null,null,null,null,null,null,null,"2-571","2015-09-01","2-561","2016-09-01","2-339","2018-05-03",null,null,null,null,null,null,"2-395","2018-05-21","Государственный экзамен","2018-06-01",3,null,null,null,"Бухгалтерский учет и анализ расчетов с поставщиками и покупателями в ООО «Инженерные и строительные системы» г. Мытищи Московской области",3,27,"2018-06-27",null,"36211","104406","0018149","2018-06-29",4,"248z",3,"2018-02-09",77510120,6,"2018-02-09",77510136,4,"02.06.2015  ",null,6,"04.06.2015  ",null,6,"09.06.2015  ",null,4,"30.05.2015  ",null,4,"20.01.2016  ",null,5,"03.06.2015  ",null,3,"01.07.2016  ",null,6,"22.05.2015  ",null,3,"01.07.2016  ",null,6,"07.09.2016  ",null,3,"07.09.2016  ",null,3,"08.09.2016  ",null,6,"25.12.2015  ",null,5,"28.12.2015  ",null,4,"25.04.2016  ",null,6,"25.04.2016  ",null,3,"25.04.2016  ",null,3,"05.09.2016  ",null,5,"14.09.2016  ",null,null,"  ",null,null,"  ",null,4,"п/зач 08.09.2014",null,4,"17.10.2017  ",null,4,"17.10.2017  ",null,3,"2018-03-16",545,3,"2018-03-13",527,4,"2017-12-25",null,5,"2018-05-07",791,4,"01.12.2016  ",null,4,"01.12.2016","Оптимизация производственной\nпрограммы предприятия",6,"2018-03-21",560,3,"03.06.2017  ",null,4,"05.09.2017  ",null,3,"05.09.2017","Бухгалтерский баланс и бухгалтерская отчентость",5,"03.06.2017  ",null,5,"03.06.2017  ",null,3,"2018-05-17","Формирование и использование прибыли организации.",4,"18.12.2017  ",null,3,"03.06.2017  ",null,3,"05.09.2017","Стандарты и нормы аудита",4,"08.09.2014  ",null,4,"2018-04-16",658,5,"2018-05-15",852,3,"2018-03-20",553,5,"2018-05-04",762,5,"2018-05-16","Анализ оборотных средств и повышение эффективности их использования в АО «ЗЕЛЕНОГРАДСКОЕ» Пушкинского района Московской области",5,"2018-02-21",493,5,"2018-04-16",665,6,"2018-05-04",755,5,"08.09.2014  ",null,3,"2018-04-17","7759714-13",6,"2018-02-09",7759562,6,"2018-02-09",7759561,4,"2018-05-04","7759521-23",4,"2018-05-04","Учет расчётов с поставщиками и покупателями",3,"2018-04-16",7759509,3,"2018-03-20","7759505-3",6,"2018-03-14","7759549-1",4,"2018-02-09",7759516,4,"2018-03-23","ФГБОУ ВО Костромская ГСХА, кафедра бухгалтерский учет и анализ",4,"2018-03-31","ООО \"Инженерные и строительные системы\" г. Мытищи Московской обл.",3.8,null,18,19,12,12,49,{"$f":"SUMIF(CC16:JG16,\">0\",Предметы!$CC$3:$JG$3)","v":7704},963]
[{"$f":"Лист1!A16+1","v":10},"Сорокина","Анна","Викторовна","Сорокина А. В.",null,"Сорокиной","Анне","Викторовне","1990-06-05","г. Кострома","РФ","ж","Костромской лесомеханический колледж",2010,"замужем","г. Кострома,  ул. Сутырина, д. 21, кв. 16  ",null,null,null,null,null,null,null,14127,"Экономический","38.03.01","Экономика","Бухгалтерский учет, анализ и аудит","4 года","БАКАЛАВР","2-525","2014-08-21","по договору с полным возмещением затрат","000002788","2014-08-07",null,null,null,null,null,null,null,null,null,null,null,null,null,"2-571","2015-09-01","2-561","2016-09-01","2-703","2017-09-01",null,null,null,null,null,null,"2-395","2018-05-21","Государственный экзамен","2018-05-31",5,null,null,null,"Бухгалтерский учет расчетов с поставщиками,  заказчиками и анализ дебиторской и кредиторской задолженности в ООО «ПромЭлектромонтаж» г. Кострома",5,21,"2018-06-26",null,"36217","104406","0018155","2018-06-29",4,"246z",5,"2018-02-09",null,6,"2018-02-09",null,3,"02.06.2015  ",null,6,"04.06.2015  ",null,6,"28.05.2015  ",null,3,"30.05.2015  ",null,3,"04.06.2015  ",null,3,"03.06.2015  ",null,5,"09.06.2015  ",null,6,"22.05.2015  ",null,4,"25.12.2015  ",null,6,"22.12.2015  ",null,5,"29.12.2015  ",null,3,"26.12.2015  ",null,6,"25.12.2015  ",null,3,"28.12.2015  ",null,5,"13.04.2016  ",null,6,"25.04.2016  ",null,5,"22.04.2016  ",null,5,"22.04.2016  ",null,5,"21.04.2016  ",null,null,"  ",null,null,"  ",null,4,"02.07.2016  ","ФГБОУ ВО Костромская ГСХА, кафедра экономической кибернетики",5,"01.12.2016  ",null,3,"01.12.2016  ",null,3,"01.12.2016  ",null,4,"01.12.2016  ",null,5,"01.12.2016  ",null,4,"24.11.2016  ",null,4,"01.12.2016  ",null,4,"30.11.2016","Оптимизация структуры\nкормопроизводства предприятия",6,"03.06.2017  ",null,4,"03.06.2017  ",null,4,"03.06.2017  ",null,3,"03.06.2017","Учет расчетов с дебиторами и кредиторами",5,"03.06.2017  ",null,4,"03.06.2017  ",null,4,"03.06.2017","Эффективность использования оборотных средств организации (предприятия)",5,"03.06.2017  ",null,4,"03.06.2017  ",null,4,"03.06.2017","Аудит кассовых операций в ООО \"Лесное\" г. Кострома",5,"08.09.2014  ",null,3,"01.02.2018  ",null,4,"26.01.2018  ",null,4,"11.10.2017  ",null,5,"11.10.2017  ",null,5,"11.10.2017","Анализ эффективности использования\nоборотных средств в ОАО \"Караваево\"\nКостромского р-на Костромской обл.",4,"11.10.2017  ",null,5,"11.10.2017  ",null,6,"05.02.2018  ",null,5,"08.09.2014  ",null,4,"2018-02-09","Z-7739714",6,"2018-02-09","Z-7739563",6,"2018-02-09","Z-7739561",4,"2018-02-09","Z-7739521",4,"2018-02-09","Организация бухгалтерского учета на НАО \"Свеза\nКострома\"",4,"2018-02-09","Z-7739509",4,"2018-02-09","Z-7739505",6,"2018-02-09","Z-7739549",5,"2018-02-09","Z-7739516",5,"2018-03-20","ФГБОУ ВО Костромская ГСХА, кафедра бухгалтерский учет, анализ",4,"2018-04-11","ООО \"ПрофЭлектромонтаж\" г. Кострома",4.08,null,10,21,18,12,49,{"$f":"SUMIF(CC17:JG17,\">0\",Предметы!$CC$3:$JG$3)","v":7704},963]
[{"$f":"A17+1","v":11},"Суконкина","Анастасия ","Владимировна","Суконкина А. В.",null,"Суконкиной","Анастасии","Владимировне","1989-07-30","г. Наволоки Кинешемского р-на Ивановской обл.","РФ","ж","ОГОУ СПО \"Кинешемский экономический техникум\"",2010,"замужем","г. Иваново, ул.Красных Зорь, д. 61,   ",null,null,null,null,null,null,null,14128,"Экономический","38.03.01","Экономика","Бухгалтерский учет, анализ и аудит","4 года","БАКАЛАВР","2-525","2014-08-21","по договору с полным возмещением затрат","000003025","2014-08-21",null,null,null,null,null,null,null,null,null,null,null,null,null,"2-532","2014-09-01","2-571","2015-09-01","2-339","2018-05-03",null,null,null,null,null,null,"2-395","2018-05-21","Государственный экзамен","2018-06-01",3,null,null,null,"Бухгалтерский учет и анализ эффективности использования основных средств в АО «Декабрист» Ершовского района Саратовской области",5,22,"2018-06-26",null,"36218","104406","0018156","2018-06-29",4,"248z",3,"2018-02-09",77510120,6,"2018-02-09",77510136,3,"02.06.2015  ",null,6,"04.06.2015  ",null,6,"20.09.2016  ",null,5,"30.05.2015  ",null,5,"04.06.2015  ",null,5,"03.06.2015  ",null,4,"01.07.2016  ",null,6,"22.05.2015  ",null,3,"25.12.2015  ",null,6,"22.12.2015  ",null,4,"29.12.2015  ",null,4,"26.12.2015  ",null,6,"25.12.2015  ",null,4,"28.12.2015  ",null,3,"13.04.2016  ",null,6,"25.04.2016  ",null,4,"25.04.2016  ",null,3,"06.03.2017  ",null,5,"14.09.2016  ",null,null,"  ",null,null,"  ",null,4,"02.07.2016  ","ФГБОУ ВО Костромская ГСХА, кафедра экономической кибернетики",5,"01.12.2016  ",null,5,"01.12.2016  ",null,3,"30.05.2017  ",null,4,"01.12.2016  ",null,5,"01.12.2016  ",null,5,"17.10.2017  ",null,3,"2017-10-17",null,3,"2018-05-08","Определение оптимального составаавтомобильного парка предприятий",6,"24.10.2017  ",null,4,"03.06.2017  ",null,4,"05.05.2017  ",null,3,"05.09.2017","Основные направления и перспективы развития бухгалтерского учета в Российской Федерации",5,"03.06.2017  ",null,5,"18.10.2017  ",null,3,"28.12.2017","Персонал организации и эффективность их использования",4,"18.12.2017  ",null,5,"03.06.2017  ",null,3,"03.06.2017","Планирование аудита",3,"08.09.2014  ",null,5,"2017-10-11","    Z-7759487",5,"2017-10-11","    Z-7759569",5,"2017-10-11","    Z-7759504",5,"2017-10-11","  Z-7759525",5,"2018-04-19","Анализ финансовых результатов и рентабельности продаж продукции АО \"Декабрист\" Ершовского района Саратовской области",4,"2017-10-11","    Z-7759508",5,"2017-10-11","    Z-7759718",6,"2018-05-16",854,5,"2018-01-25",null,4,"2018-02-09",7759714,6,"2018-02-09",7759563,6,"2018-02-09",7759561,4,"2018-05-04","7759521-24",4,"2018-04-28","Учет животных на выращивании и откорме",4,"2018-02-09",7759509,5,"2018-02-09",7759505,6,"2018-05-11","7759549-27",5,"2018-02-09",7759516,4,"2018-04-18","ФГБОУ ВО Костромская ГСХА, кафедра бухгалтерский учет и анализ",5,"2018-04-18","АО \"Декабрист\" Ершовского р-на Саратовской обл.",4.0999999999999996,null,12,16,21,12,49,{"$f":"SUMIF(CC18:JG18,\">0\",Предметы!$CC$3:$JG$3)","v":7704},963]
[{"$f":"Предметы!A11+1","v":7},"Черняева","Анна ","Викторовна","Черняева А. В.",null,"Черняевой","Анне","Викторовне","1996-03-27","г. Галич Костромской обл.","РФ","ж","ОГБ ПОУ \"Галичский аграрный техникум Костромской области\"",2014,"не замужем","Костромская обл., г.Галич, ул. Некрасова, д. 17 кв. 1",null,null,null,null,null,null,null,14130,"Экономический","38.03.01","Экономика","Бухгалтерский учет, анализ и аудит","4 года","БАКАЛАВР","2-525","2014-08-21","по договору с полным возмещением затрат","000002843","2014-08-12",null,null,null,null,null,null,null,null,null,null,null,null,null,"2-571","2015-09-01","2-561","2016-09-01","2-703","2017-09-01",null,null,null,null,null,null,"2-395","2018-05-21","Государственный экзамен","2018-05-31",5,null,null,null,"Бухгалтерский учет и анализ движения денежных средств в СПК «Маяк» Галичского района Костромской области",5,34,"2018-06-27",null,"36219","104406","0018157","2018-06-29",4,"246z",4,"2018-02-09",null,6,"2018-02-09",null,3,"02.06.2015  ",null,6,"04.06.2015  ",null,6,"17.12.2015  ",null,3,"30.05.2015  ",null,3,"04.06.2015  ",null,4,"03.06.2015  ",null,4,"09.06.2015  ",null,6,"22.05.2015  ",null,3,"17.12.2015  ",null,6,"22.12.2015  ",null,4,"29.12.2015  ",null,3,"26.12.2015  ",null,6,"25.12.2015  ",null,3,"28.12.2015  ",null,4,"13.04.2016  ",null,6,"25.04.2016  ",null,3,"22.04.2016  ",null,4,"22.04.2016  ",null,5,"21.04.2016  ",null,null,"  ",null,null,"  ",null,4,"п/зач 08.09.2014",null,4,"01.12.2016  ",null,4,"01.12.2016  ",null,3,"01.12.2016  ",null,3,"01.12.2016  ",null,3,"01.12.2016  ",null,4,"24.11.2016  ",null,3,"01.12.2016  ",null,3,"30.11.2016","Оптимальная специализация и сочетание\nотраслей",6,"03.06.2017  ",null,3,"03.06.2017  ",null,3,"03.06.2017  ",null,3,"03.06.2017","Учет хозяйственных процессов",3,"03.06.2017  ",null,3,"03.06.2017  ",null,4,"03.06.2017","Эффективность отрасли животноводства в организации (предприятии)",4,"03.06.2017  ",null,3,"03.06.2017  ",null,5,"03.06.2017","Организация аудиторской деятельности в Российской Федерации",4,"08.09.2014  ",null,3,"11.10.2017  ",null,4,"11.10.2017  ",null,3,"11.10.2017  ",null,3,"11.10.2017  ",null,4,"11.10.2017","Анализ эффективности производства\nмолока в СПК \"Маяк\" Галичского р-на\nКостромской обл.",4,"11.10.2017  ",null,5,"11.10.2017  ",null,6,"11.10.2017  ",null,5,"08.09.2014  ",null,3,"2018-02-09","Z-7739714",6,"2018-02-09","Z-7739563",6,"2018-02-09","Z-7739561",4,"2018-02-09","Z-7739521",3,"2018-03-26","Учет денежных средств в СПК \"Маяк\" Галичского\nрайона Костромской области",3,"2018-04-27","7739509-27",3,"2018-02-09","Z-7739505",6,"2018-02-09","Z-7739549",4,"2018-02-09","Z-7739516",4,"2018-03-27","ФГБОУ ВО Костромская ГСХА, кафедра бухгалтерский учет, анализ",4,"2018-04-19","СПК \"Маяк\" Галичского р-на Костромской обл.",3.5,null,25,20,4,12,49,{"$f":"SUMIF(CC19:JG19,\">0\",Предметы!$CC$3:$JG$3)","v":7704},963]
[{"$f":"A19+1","v":8},"Ширяева (Краснова)","Наталия ","Эдуардовна","Ширяева (Краснова) Н. Э.",null,"Ширяевой","Наталии","Эдуардовне","1990-03-08","г. Буй Костромской обл.","РФ","ж","Костромской энергетический техникум им Ф.В. Чижова",2009,"замужем","г. Кострома, ул. Терешковой, д. 6, кв. 59  ",null,null,null,null,null,null,null,14117,"Экономический","38.03.01","Экономика","Бухгалтерский учет, анализ и аудит","4 года","БАКАЛАВР","2-525","2014-08-21","по договору с полным возмещением затрат","000002758","2014-08-05",null,null,null,null,null,null,null,null,null,null,null,null,null,"2-571","2015-09-01","2-561","2016-09-01","2-703","2017-09-01",null,null,null,null,null,null,"2-395","2018-05-21","Государственный экзамен","2018-05-31",5,null,null,null,"Бухгалтерский учет и анализ использования труда и его оплаты в ООО ЧОО «Зевс» г. Кострома",5,17,"2018-06-25",null,"36220","104406","0018158","2018-06-29",4,"246z",5,"2018-02-09",null,6,"2018-02-09",null,3,"02.06.2015  ",null,6,"04.06.2015  ",null,6,"29.05.2015  ",null,3,"30.05.2015  ",null,3,"04.06.2015  ",null,4,"03.06.2015  ",null,5,"09.06.2015  ",null,6,"22.05.2015  ",null,4,"17.12.2015  ",null,6,"22.12.2015  ",null,5,"29.12.2015  ",null,3,"26.12.2015  ",null,6,"25.12.2015  ",null,4,"28.12.2015  ",null,5,"13.04.2016  ",null,6,"25.04.2016  ",null,5,"22.04.2016  ",null,5,"22.04.2016  ",null,5,"21.04.2016  ",null,null,"  ",null,null,"  ",null,5,"п/зач 08.09.2014",null,5,"01.12.2016  ",null,3,"01.12.2016  ",null,3,"01.12.2016  ",null,5,"01.12.2016  ",null,4,"01.12.2016  ",null,4,"24.11.2016  ",null,4,"01.12.2016  ",null,5,"30.11.2016","Оптимальная специализация и сочетание отраслей",6,"03.06.2017  ",null,4,"03.06.2017  ",null,4,"03.06.2017  ",null,4,"03.06.2017","Учет расчетов с подотчетными лицами",4,"03.06.2017  ",null,5,"03.06.2017  ",null,5,"03.06.2017","Эффективность использования оборотных средств организации (предприятия)",5,"03.06.2017  ",null,5,"03.06.2017  ",null,4,"03.06.2017","Основные принципы проведения аудита ",5,"08.09.2014  ",null,5,"11.10.2017  ",null,5,"11.10.2017  ",null,5,"11.10.2017  ",null,5,"11.10.2017  ",null,5,"11.10.2017","Анализ наличия и эффективности использования\nоборотных средств в ООО \"Минское\"\nКостромского р-на Костромской обл.",4,"11.10.2017  ",null,5,"11.10.2017  ",null,6,"11.10.2017  ",null,5,"2018-01-25",null,3,"2018-02-09","Z-7739714",6,"2018-02-09","Z-7739563",6,"2018-02-09","Z-7739561",4,"2018-02-09","Z-7739521",5,"2018-02-09","Организация учета производственных запасов в ООО \"Минское\"",4,"2018-02-09","Z-7739509",5,"2018-02-09","Z-7739505",6,"2018-02-09","Z-7739549",5,"2018-02-09","Z-7739516",5,"2018-03-20","ФГБОУ ВО Костромская ГСХА, кафедра бухгалтерский учет, анализ",5,"2018-03-31","ООО ЧОО \"Зевс\" г. Кострома",4.34,null,7,14,28,12,49,{"$f":"SUMIF(CC20:JG20,\">0\",Предметы!$CC$3:$JG$3)","v":7704},963]
[{"$f":"A20+1","v":9},"Шитова","Светлана ","Андреевна","Шитова С. А.",null,"Шитовой","Светлане","Андреевне","1981-09-15","г. Кострома","РФ","ж","Костромской политехнический колледж города Костромы",2000,"не замужем","г. Кострома, ул. Верхне-Селищенская, д. 116\\63, кв. 2",null,null,null,null,null,null,null,13114,"Экономический","38.03.01","Экономика","Бухгалтерский учет, анализ и аудит","4 года","БАКАЛАВР","2-552","2013-08-30","по договору с полным возмещением затрат","000001118","2013-08-23",null,null,"2-491","2017-06-06","невыполнение учебного плана","2-1006","2017-12-18",null,null,null,null,null,null,"2-571","2015-09-01","2-37","2016-02-01","2-561","2016-09-01",null,null,null,null,null,null,"2-395","2018-05-21","Государственный экзамен","2018-06-01",5,null,null,null,"Бухгалтерский учет и анализ расчетов с поставщиками и покупателями в ООО «Техстройконтракт – Сервис» г. Москва",5,31,"2018-06-27",null,"36221","104406","0018159","2018-06-29",4,"248z",3,"2018-02-09",77510120,6,"2018-02-09",77510136,4,"12.04.2012  ",null,6,"03.03.2014  ",null,6,"13.09.2014  ",null,4,"20.01.2016  ",null,5,"20.01.2016  ",null,5,"27.06.2014  ",null,4,"11.03.2016  ",null,6,"24.04.2014  ",null,4,"16.12.2014  ",null,6,"23.12.2014  ",null,4,"29.12.2014  ",null,5,"19.12.2014  ",null,6,"19.12.2014  ",null,5,"25.12.2014  ",null,4,"22.04.2015  ",null,6,"16.04.2015  ",null,4,"21.04.2015  ",null,3,"18.04.2015  ",null,5,"25.04.2015  ",null,null,"  ",null,null,"  ",null,5,"п/зач 08.09.2014",null,4,"28.06.2016  ",null,5,"01.07.2016  ",null,4,"10.05.2016  ",null,3,"29.06.2016  ",null,5,"20.09.2016  ",null,4,"31.08.2016  ",null,5,"06.09.2016  ",null,5,"13.12.2017","Оптимизация распределения заготовленных кормов",6,"05.06.2016  ",null,4,"18.01.2018    332",null,5,"04.06.2016  ",null,5,"29.08.2016","Бухгалтерские счета и двойная запись",5,"04.06.2016  ",null,5,"15.12.2017  ",null,4,"15.12.2017","Ценовая политика организации (предприятия)",4,"04.06.2016  ",null,5,"04.06.2016  ",null,3,"04.06.2016","Организация аудита расчетов с персоналом по оплате труда",5,"08.09.2014  ",null,5,"13.12.2017  ",null,4,"12.10.2016  ",null,5,"12.10.2016  ",null,5,"12.10.2016  ",null,5,"2018-03-29","Анализ использования трудовых ресурсов",4,"12.10.2016  ",null,5,"15.12.2017  ",null,6,"14.12.2017  ",null,4,"08.09.2014  ",null,5,"2018-02-09",7759714,6,"2018-02-09",7759563,6,"2018-04-12",7759561,4,"2018-04-27","7759521-19",4,"2018-04-13","Учет расчетов с поставщиками и покупателями в ООО \"Электрон\"",4,"2018-02-09",7759509,5,"04.02.2017  ",null,6,"2018-03-16","7759549-2",4,"2018-02-09",7759516,5,"03.04.2017  ","ФГБОУ ВО Костромская ГСХА, кафедра бухгалтерский учет и анализ",4,"15.04.2017  ","ООО \"КонтрактСервис\" г. Кострома",4.32,null,4,21,24,12,49,{"$f":"SUMIF(CC21:JG21,\">0\",Предметы!$CC$3:$JG$3)","v":7704},963]
[{"$f":"A21+1","v":10},"Яшина","Анна ","Сергеевна","Яшина А. С.",null,"Яшиной","Анне","Сергеевне","1995-12-26","г. Кострома","РФ","ж","ОГБ ПОУ \"Костромской торгово-экономический колледж\"",2014,"не замужем","Костромская обл., Костромской р-н, дер. Некрасово, ул. Приозерная, д. 36а  ",null,null,null,null,null,null,null,14132,"Экономический","38.03.01","Экономика","Бухгалтерский учет, анализ и аудит","4 года","БАКАЛАВР","2-525","2014-08-21","по договору с полным возмещением затрат","000002905","2014-08-14",null,null,null,null,null,null,null,null,null,null,null,null,null,"2-571","2015-09-01","2-561","2016-09-01","2-339","2018-05-03",null,null,null,null,null,null,"2-395","2018-05-21","Государственный экзамен","2018-05-31",5,null,null,null,"Бухгалтерский учет и анализ эффективности использования  материально-производственных запасов в ООО «Декор пластик» г. Кострома",5,23,"2018-06-26",null,"36222","104406","0018160","2018-06-29",4,"246z",4,"2018-02-09",null,6,"2018-02-09",null,3,"02.06.2015  ",null,6,"04.06.2015  ",null,6,"29.05.2015  ",null,3,"06.06.2015  ",null,3,"26.05.2017  ",null,3,"03.06.2015  ",null,4,"09.06.2015  ",null,6,"22.05.2015  ",null,3,"17.12.2015  ",null,6,"22.12.2015  ",null,4,"29.12.2015  ",null,3,"26.12.2015  ",null,6,"25.12.2015  ",null,3,"28.12.2015  ",null,3,"13.04.2016  ",null,6,"25.04.2016  ",null,3,"22.04.2016  ",null,3,"22.04.2016  ",null,3,"21.04.2016  ",null,null,"  ",null,null,"  ",null,3,"п/зач 08.09.2014",null,4,"01.12.2016  ",null,5,"01.12.2016  ",null,3,"09.02.2018  ",null,3,"01.12.2016  ",null,3,"28.09.2017  ",null,4,"24.11.2016  ",null,3,"01.12.2016  ",null,3,"30.11.2016","Оптимизация структуры\nкормопроизводства предприятия",6,"03.06.2017  ",null,3,"03.06.2017  ",null,3,"23.06.2017  ",null,3,"23.06.2017","Учет расчетов с персоналом по оплате труда",4,"03.06.2017  ",null,4,"03.06.2017  ",null,3,"03.06.2017","Порядок формирования цен на продукцию сельскохозяйственных организаций\nБуйского района Костромской области",3,"03.06.2017  ",null,4,"03.06.2017  ",null,3,"05.02.2018","Нормы и стандарты аудита",4,"08.09.2014  ",null,4,"11.10.2017  ",null,4,"11.10.2017  ",null,3,"11.10.2017  ",null,4,"11.10.2017  ",null,3,"11.10.2017","Комплексный анализ персонала и\nэффективности использования рабочего\nвременив организации",4,"11.10.2017  ",null,5,"11.10.2017  ",null,6,"20.11.2017  ",null,3,"08.09.2014  ",null,3,"2018-02-09","Z-7739714",6,"2018-02-09","Z-7739563",6,"2018-02-09","Z-7739561",3,"2018-02-09","Z-7739521",4,"2018-02-09","Учет труда и его оплаты в организации (отрасли)",3,"2018-02-09","Z-7739509",4,"2018-02-09","Z-7739505",6,"2018-02-09","Z-7739549",4,"2018-02-09","Z-7739516",4,"2018-03-20","ФГБОУ ВО Костромская ГСХА, кафедра бухгалтерский учет, анализ",4,"2018-04-11","ООО \"Декор Пластик\" г. Кострома",3.38,null,29,18,2,12,49,{"$f":"SUMIF(CC22:JG22,\">0\",Предметы!$CC$3:$JG$3)","v":7704},963]